Workbook

Sheet Summary
A1: Landscaping Accounts Receivable Aging
A4: Portfolio Indicator | B4: Calculated Value | D4: Review Indicator | E4: Calculated Value
A5: As-of Date | B5: =Assumptions!$B$5 | D5: Total Invoiced | E5: =SUM(Invoices!$G$5:$G$104)
A6: Open Invoice Count | B6: =COUNTIF(Invoices!$K$5:$K$104,">0") | D6: Total Received | E6: =SUM(Invoices!$H$5:$H$104)
A7: Outstanding Balance | B7: =SUM(Invoices!$K$5:$K$104) | D7: High Priority Balance | E7: =SUMIF(Invoices!$N$5:$N$104,"High",Invoices!$K$5:$K$104)
A8: Overdue Balance | B8: =SUMIFS(Invoices!$K$5:$K$104,Invoices!$K$5:$K$104,">0",Invoices!$F$5:$F$104,"<"&Assumptions!$B$5) | D8: Disputed / Hold Balance | E8: =SUMIF(Invoices!$J$5:$J$104,"Disputed",Invoices!$K$5:$K$104)+SUMIF(Invoices!$J$5:$J$104,"Hold",Invoices!$K$5:$K$104)
A9: Overdue Share | B9: =IFERROR(B8/B7,0) | D9: Promise to Pay Balance | E9: =SUMIF(Invoices!$J$5:$J$104,"Promise to Pay",Invoices!$K$5:$K$104)
A10: High Priority Count | B10: =COUNTIF(Invoices!$N$5:$N$104,"High") | D10: Average Days Past Due | E10: =IFERROR(SUM(Invoices!$L$5:$L$104)/COUNTIF(Invoices!$L$5:$L$104,">0"),0)
A11: Unclassified Aging Balance | B11: =SUMIFS(Invoices!$K$5:$K$104,Invoices!$K$5:$K$104,">0",Invoices!$M$5:$M$104,"") | D11: Records Needing Dates / Status | E11: =COUNTIF(Invoices!$N$5:$N$104,"Needs*")
A13: Aging Bucket | B13: Outstanding Balance | C13: Open Invoices | D13: Review Priority | E13: Outstanding Balance | F13: Open Invoices
A14: =Assumptions!$A$11 | B14: =SUMIF(Invoices!$M$5:$M$104,$A14,Invoices!$K$5:$K$104) | C14: =COUNTIFS(Invoices!$M$5:$M$104,$A14,Invoices!$K$5:$K$104,">0") | D14: High | E14: =SUMIF(Invoices!$N$5:$N$104,$D14,Invoices!$K$5:$K$104) | F14: =COUNTIFS(Invoices!$N$5:$N$104,$D14,Invoices!$K$5:$K$104,">0")
A15: =Assumptions!$A$12 | B15: =SUMIF(Invoices!$M$5:$M$104,$A15,Invoices!$K$5:$K$104) | C15: =COUNTIFS(Invoices!$M$5:$M$104,$A15,Invoices!$K$5:$K$104,">0") | D15: Medium | E15: =SUMIF(Invoices!$N$5:$N$104,$D15,Invoices!$K$5:$K$104) | F15: =COUNTIFS(Invoices!$N$5:$N$104,$D15,Invoices!$K$5:$K$104,">0")
A16: =Assumptions!$A$13 | B16: =SUMIF(Invoices!$M$5:$M$104,$A16,Invoices!$K$5:$K$104) | C16: =COUNTIFS(Invoices!$M$5:$M$104,$A16,Invoices!$K$5:$K$104,">0") | D16: Human review | E16: =SUMIF(Invoices!$N$5:$N$104,$D16,Invoices!$K$5:$K$104) | F16: =COUNTIFS(Invoices!$N$5:$N$104,$D16,Invoices!$K$5:$K$104,">0")
A17: =Assumptions!$A$14 | B17: =SUMIF(Invoices!$M$5:$M$104,$A17,Invoices!$K$5:$K$104) | C17: =COUNTIFS(Invoices!$M$5:$M$104,$A17,Invoices!$K$5:$K$104,">0") | D17: Follow up | E17: =SUMIF(Invoices!$N$5:$N$104,$D17,Invoices!$K$5:$K$104) | F17: =COUNTIFS(Invoices!$N$5:$N$104,$D17,Invoices!$K$5:$K$104,">0")
A18: =Assumptions!$A$15 | B18: =SUMIF(Invoices!$M$5:$M$104,$A18,Invoices!$K$5:$K$104) | C18: =COUNTIFS(Invoices!$M$5:$M$104,$A18,Invoices!$K$5:$K$104,">0") | D18: Upcoming | E18: =SUMIF(Invoices!$N$5:$N$104,$D18,Invoices!$K$5:$K$104) | F18: =COUNTIFS(Invoices!$N$5:$N$104,$D18,Invoices!$K$5:$K$104,">0")
A19: Check assumptions | B19: =SUMIF(Invoices!$M$5:$M$104,$A19,Invoices!$K$5:$K$104) | C19: =COUNTIFS(Invoices!$M$5:$M$104,$A19,Invoices!$K$5:$K$104,">0") | D19: Routine | E19: =SUMIF(Invoices!$N$5:$N$104,$D19,Invoices!$K$5:$K$104) | F19: =COUNTIFS(Invoices!$N$5:$N$104,$D19,Invoices!$K$5:$K$104,">0")
D20: Needs dates | E20: =SUMIF(Invoices!$N$5:$N$104,$D20,Invoices!$K$5:$K$104) | F20: =COUNTIFS(Invoices!$N$5:$N$104,$D20,Invoices!$K$5:$K$104,">0")
D21: Needs status | E21: =SUMIF(Invoices!$N$5:$N$104,$D21,Invoices!$K$5:$K$104) | F21: =COUNTIFS(Invoices!$N$5:$N$104,$D21,Invoices!$K$5:$K$104,">0")
D22: Check assumptions | E22: =SUMIF(Invoices!$N$5:$N$104,$D22,Invoices!$K$5:$K$104) | F22: =COUNTIFS(Invoices!$N$5:$N$104,$D22,Invoices!$K$5:$K$104,">0")

Sheet Invoices
A1: Invoice Aging Register
A3: Yellow cells are editable. Formula columns calculate outstanding balance, age, aging bucket, and review priority.
A4: Customer | B4: Property | C4: Service | D4: Invoice Number | E4: Invoice Date | F4: Due Date | G4: Invoice Amount | H4: Amount Received | I4: Last Payment Date | J4: Collection Status | K4: Outstanding Balance | L4: Days Past Due | M4: Aging Bucket | N4: Review Priority | O4: Notes
A5: Fictional Acorn HOA | B5: Fictional Acorn Commons | C5: Mowing | D5: FIC-2026-001 | E5: 46255 | F5: 46285 | G5: 850 | H5: 0 | J5: Normal | K5: =IF(OR($D5="",$G5="",NOT(ISNUMBER($G5)),AND($H5<>"",NOT(ISNUMBER($H5)))),"",IFERROR(MAX(0,$G5-IF($H5="",0,$H5)),"")) | L5: =IF(OR($D5="",$F5="",$K5="",NOT(ISNUMBER($F5)),NOT(ISNUMBER(Assumptions!$B$5))),"",IF($K5<=0,0,IFERROR(MAX(0,Assumptions!$B$5-$F5),""))) | M5: =IF(OR($D5="",$K5="",$L5=""),"",IF($K5<=0,"Paid",IF(OR(COUNT(Assumptions!$B$11:$B$14)<4,COUNTA(Assumptions!$A$11:$A$15)<5,Assumptions!$B$11>=Assumptions!$B$12,Assumptions!$B$12>=Assumptions!$B$13,Assumptions!$B$13>=Assumptions!$B$14),"Check assumptions",IF($L5<=Assumptions!$B$11,Assumptions!$A$11,IF($L5<=Assumptions!$B$12,Assumptions!$A$12,IF($L5<=Assumptions!$B$13,Assumptions!$A$13,IF($L5<=Assumptions!$B$14,Assumptions!$A$14,Assumptions!$A$15))))))) | N5: =IF(OR($D5="",$K5=""),"",IF($K5<=0,"Paid",IF(NOT(ISNUMBER($F5)),"Needs dates",IF($J5="","Needs status",IF(OR($J5="Disputed",$J5="Hold"),"Human review",IF($J5="Promise to Pay","Follow up",IF(OR(NOT(ISNUMBER(Assumptions!$B$5)),NOT(ISNUMBER(Assumptions!$B$6)),NOT(ISNUMBER(Assumptions!$B$7)),NOT(ISNUMBER(Assumptions!$B$8))),"Check assumptions",IF(AND($L5>Assumptions!$B$7,$K5>=Assumptions!$B$6),"High",IF(OR($L5>Assumptions!$B$7,$K5>=Assumptions!$B$6),"Medium",IF(AND($F5>=Assumptions!$B$5,$F5<=Assumptions!$B$5+Assumptions!$B$8),"Upcoming","Routine")))))))))) | O5: Current fictional maintenance invoice.
A6: Fictional Bluebird Bakery | B6: Fictional Bluebird Courtyard | C6: Bed Weeding | D6: FIC-2026-002 | E6: 46245 | F6: 46275 | G6: 420 | H6: 0 | J6: Normal | K6: =IF(OR($D6="",$G6="",NOT(ISNUMBER($G6)),AND($H6<>"",NOT(ISNUMBER($H6)))),"",IFERROR(MAX(0,$G6-IF($H6="",0,$H6)),"")) | L6: =IF(OR($D6="",$F6="",$K6="",NOT(ISNUMBER($F6)),NOT(ISNUMBER(Assumptions!$B$5))),"",IF($K6<=0,0,IFERROR(MAX(0,Assumptions!$B$5-$F6),""))) | M6: =IF(OR($D6="",$K6="",$L6=""),"",IF($K6<=0,"Paid",IF(OR(COUNT(Assumptions!$B$11:$B$14)<4,COUNTA(Assumptions!$A$11:$A$15)<5,Assumptions!$B$11>=Assumptions!$B$12,Assumptions!$B$12>=Assumptions!$B$13,Assumptions!$B$13>=Assumptions!$B$14),"Check assumptions",IF($L6<=Assumptions!$B$11,Assumptions!$A$11,IF($L6<=Assumptions!$B$12,Assumptions!$A$12,IF($L6<=Assumptions!$B$13,Assumptions!$A$13,IF($L6<=Assumptions!$B$14,Assumptions!$A$14,Assumptions!$A$15))))))) | N6: =IF(OR($D6="",$K6=""),"",IF($K6<=0,"Paid",IF(NOT(ISNUMBER($F6)),"Needs dates",IF($J6="","Needs status",IF(OR($J6="Disputed",$J6="Hold"),"Human review",IF($J6="Promise to Pay","Follow up",IF(OR(NOT(ISNUMBER(Assumptions!$B$5)),NOT(ISNUMBER(Assumptions!$B$6)),NOT(ISNUMBER(Assumptions!$B$7)),NOT(ISNUMBER(Assumptions!$B$8))),"Check assumptions",IF(AND($L6>Assumptions!$B$7,$K6>=Assumptions!$B$6),"High",IF(OR($L6>Assumptions!$B$7,$K6>=Assumptions!$B$6),"Medium",IF(AND($F6>=Assumptions!$B$5,$F6<=Assumptions!$B$5+Assumptions!$B$8),"Upcoming","Routine")))))))))) | O6: Due on the as-of date.
A7: Fictional Copper Kettle Cafe | B7: Fictional Copper Kettle Patio | C7: Landscape Maintenance | D7: FIC-2026-003 | E7: 46244 | F7: 46274 | G7: 1250 | H7: 250 | I7: 46270 | J7: Normal | K7: =IF(OR($D7="",$G7="",NOT(ISNUMBER($G7)),AND($H7<>"",NOT(ISNUMBER($H7)))),"",IFERROR(MAX(0,$G7-IF($H7="",0,$H7)),"")) | L7: =IF(OR($D7="",$F7="",$K7="",NOT(ISNUMBER($F7)),NOT(ISNUMBER(Assumptions!$B$5))),"",IF($K7<=0,0,IFERROR(MAX(0,Assumptions!$B$5-$F7),""))) | M7: =IF(OR($D7="",$K7="",$L7=""),"",IF($K7<=0,"Paid",IF(OR(COUNT(Assumptions!$B$11:$B$14)<4,COUNTA(Assumptions!$A$11:$A$15)<5,Assumptions!$B$11>=Assumptions!$B$12,Assumptions!$B$12>=Assumptions!$B$13,Assumptions!$B$13>=Assumptions!$B$14),"Check assumptions",IF($L7<=Assumptions!$B$11,Assumptions!$A$11,IF($L7<=Assumptions!$B$12,Assumptions!$A$12,IF($L7<=Assumptions!$B$13,Assumptions!$A$13,IF($L7<=Assumptions!$B$14,Assumptions!$A$14,Assumptions!$A$15))))))) | N7: =IF(OR($D7="",$K7=""),"",IF($K7<=0,"Paid",IF(NOT(ISNUMBER($F7)),"Needs dates",IF($J7="","Needs status",IF(OR($J7="Disputed",$J7="Hold"),"Human review",IF($J7="Promise to Pay","Follow up",IF(OR(NOT(ISNUMBER(Assumptions!$B$5)),NOT(ISNUMBER(Assumptions!$B$6)),NOT(ISNUMBER(Assumptions!$B$7)),NOT(ISNUMBER(Assumptions!$B$8))),"Check assumptions",IF(AND($L7>Assumptions!$B$7,$K7>=Assumptions!$B$6),"High",IF(OR($L7>Assumptions!$B$7,$K7>=Assumptions!$B$6),"Medium",IF(AND($F7>=Assumptions!$B$5,$F7<=Assumptions!$B$5+Assumptions!$B$8),"Upcoming","Routine")))))))))) | O7: Partial fictional receipt recorded.
A8: Fictional Dreamscape Design Studio | B8: Fictional Dreamscape Entry Beds | C8: Mulch Installation | D8: FIC-2026-004 | E8: 46215 | F8: 46245 | G8: 600 | H8: 100 | I8: 46263 | J8: Normal | K8: =IF(OR($D8="",$G8="",NOT(ISNUMBER($G8)),AND($H8<>"",NOT(ISNUMBER($H8)))),"",IFERROR(MAX(0,$G8-IF($H8="",0,$H8)),"")) | L8: =IF(OR($D8="",$F8="",$K8="",NOT(ISNUMBER($F8)),NOT(ISNUMBER(Assumptions!$B$5))),"",IF($K8<=0,0,IFERROR(MAX(0,Assumptions!$B$5-$F8),""))) | M8: =IF(OR($D8="",$K8="",$L8=""),"",IF($K8<=0,"Paid",IF(OR(COUNT(Assumptions!$B$11:$B$14)<4,COUNTA(Assumptions!$A$11:$A$15)<5,Assumptions!$B$11>=Assumptions!$B$12,Assumptions!$B$12>=Assumptions!$B$13,Assumptions!$B$13>=Assumptions!$B$14),"Check assumptions",IF($L8<=Assumptions!$B$11,Assumptions!$A$11,IF($L8<=Assumptions!$B$12,Assumptions!$A$12,IF($L8<=Assumptions!$B$13,Assumptions!$A$13,IF($L8<=Assumptions!$B$14,Assumptions!$A$14,Assumptions!$A$15))))))) | N8: =IF(OR($D8="",$K8=""),"",IF($K8<=0,"Paid",IF(NOT(ISNUMBER($F8)),"Needs dates",IF($J8="","Needs status",IF(OR($J8="Disputed",$J8="Hold"),"Human review",IF($J8="Promise to Pay","Follow up",IF(OR(NOT(ISNUMBER(Assumptions!$B$5)),NOT(ISNUMBER(Assumptions!$B$6)),NOT(ISNUMBER(Assumptions!$B$7)),NOT(ISNUMBER(Assumptions!$B$8))),"Check assumptions",IF(AND($L8>Assumptions!$B$7,$K8>=Assumptions!$B$6),"High",IF(OR($L8>Assumptions!$B$7,$K8>=Assumptions!$B$6),"Medium",IF(AND($F8>=Assumptions!$B$5,$F8<=Assumptions!$B$5+Assumptions!$B$8),"Upcoming","Routine")))))))))) | O8: Thirty-day boundary example.
A9: Fictional Ember Lantern Shops | B9: Fictional Ember Retail Walk | C9: Seasonal Cleanup | D9: FIC-2026-005 | E9: 46214 | F9: 46244 | G9: 2400 | H9: 400 | I9: 46260 | J9: Promise to Pay | K9: =IF(OR($D9="",$G9="",NOT(ISNUMBER($G9)),AND($H9<>"",NOT(ISNUMBER($H9)))),"",IFERROR(MAX(0,$G9-IF($H9="",0,$H9)),"")) | L9: =IF(OR($D9="",$F9="",$K9="",NOT(ISNUMBER($F9)),NOT(ISNUMBER(Assumptions!$B$5))),"",IF($K9<=0,0,IFERROR(MAX(0,Assumptions!$B$5-$F9),""))) | M9: =IF(OR($D9="",$K9="",$L9=""),"",IF($K9<=0,"Paid",IF(OR(COUNT(Assumptions!$B$11:$B$14)<4,COUNTA(Assumptions!$A$11:$A$15)<5,Assumptions!$B$11>=Assumptions!$B$12,Assumptions!$B$12>=Assumptions!$B$13,Assumptions!$B$13>=Assumptions!$B$14),"Check assumptions",IF($L9<=Assumptions!$B$11,Assumptions!$A$11,IF($L9<=Assumptions!$B$12,Assumptions!$A$12,IF($L9<=Assumptions!$B$13,Assumptions!$A$13,IF($L9<=Assumptions!$B$14,Assumptions!$A$14,Assumptions!$A$15))))))) | N9: =IF(OR($D9="",$K9=""),"",IF($K9<=0,"Paid",IF(NOT(ISNUMBER($F9)),"Needs dates",IF($J9="","Needs status",IF(OR($J9="Disputed",$J9="Hold"),"Human review",IF($J9="Promise to Pay","Follow up",IF(OR(NOT(ISNUMBER(Assumptions!$B$5)),NOT(ISNUMBER(Assumptions!$B$6)),NOT(ISNUMBER(Assumptions!$B$7)),NOT(ISNUMBER(Assumptions!$B$8))),"Check assumptions",IF(AND($L9>Assumptions!$B$7,$K9>=Assumptions!$B$6),"High",IF(OR($L9>Assumptions!$B$7,$K9>=Assumptions!$B$6),"Medium",IF(AND($F9>=Assumptions!$B$5,$F9<=Assumptions!$B$5+Assumptions!$B$8),"Upcoming","Routine")))))))))) | O9: Administrative follow-up requested.
A10: Fictional Foxtail Book Club | B10: Fictional Foxtail Reading Garden | C10: Irrigation Check | D10: FIC-2026-006 | E10: 46185 | F10: 46215 | G10: 975 | H10: 0 | J10: Disputed | K10: =IF(OR($D10="",$G10="",NOT(ISNUMBER($G10)),AND($H10<>"",NOT(ISNUMBER($H10)))),"",IFERROR(MAX(0,$G10-IF($H10="",0,$H10)),"")) | L10: =IF(OR($D10="",$F10="",$K10="",NOT(ISNUMBER($F10)),NOT(ISNUMBER(Assumptions!$B$5))),"",IF($K10<=0,0,IFERROR(MAX(0,Assumptions!$B$5-$F10),""))) | M10: =IF(OR($D10="",$K10="",$L10=""),"",IF($K10<=0,"Paid",IF(OR(COUNT(Assumptions!$B$11:$B$14)<4,COUNTA(Assumptions!$A$11:$A$15)<5,Assumptions!$B$11>=Assumptions!$B$12,Assumptions!$B$12>=Assumptions!$B$13,Assumptions!$B$13>=Assumptions!$B$14),"Check assumptions",IF($L10<=Assumptions!$B$11,Assumptions!$A$11,IF($L10<=Assumptions!$B$12,Assumptions!$A$12,IF($L10<=Assumptions!$B$13,Assumptions!$A$13,IF($L10<=Assumptions!$B$14,Assumptions!$A$14,Assumptions!$A$15))))))) | N10: =IF(OR($D10="",$K10=""),"",IF($K10<=0,"Paid",IF(NOT(ISNUMBER($F10)),"Needs dates",IF($J10="","Needs status",IF(OR($J10="Disputed",$J10="Hold"),"Human review",IF($J10="Promise to Pay","Follow up",IF(OR(NOT(ISNUMBER(Assumptions!$B$5)),NOT(ISNUMBER(Assumptions!$B$6)),NOT(ISNUMBER(Assumptions!$B$7)),NOT(ISNUMBER(Assumptions!$B$8))),"Check assumptions",IF(AND($L10>Assumptions!$B$7,$K10>=Assumptions!$B$6),"High",IF(OR($L10>Assumptions!$B$7,$K10>=Assumptions!$B$6),"Medium",IF(AND($F10>=Assumptions!$B$5,$F10<=Assumptions!$B$5+Assumptions!$B$8),"Upcoming","Routine")))))))))) | O10: Human review of fictional dispute.
A11: Fictional Garden Gnome Gallery | B11: Fictional Gnome Sculpture Lawn | C11: Tree and Shrub Care | D11: FIC-2026-007 | E11: 46184 | F11: 46214 | G11: 1800 | H11: 300 | I11: 46253 | J11: Normal | K11: =IF(OR($D11="",$G11="",NOT(ISNUMBER($G11)),AND($H11<>"",NOT(ISNUMBER($H11)))),"",IFERROR(MAX(0,$G11-IF($H11="",0,$H11)),"")) | L11: =IF(OR($D11="",$F11="",$K11="",NOT(ISNUMBER($F11)),NOT(ISNUMBER(Assumptions!$B$5))),"",IF($K11<=0,0,IFERROR(MAX(0,Assumptions!$B$5-$F11),""))) | M11: =IF(OR($D11="",$K11="",$L11=""),"",IF($K11<=0,"Paid",IF(OR(COUNT(Assumptions!$B$11:$B$14)<4,COUNTA(Assumptions!$A$11:$A$15)<5,Assumptions!$B$11>=Assumptions!$B$12,Assumptions!$B$12>=Assumptions!$B$13,Assumptions!$B$13>=Assumptions!$B$14),"Check assumptions",IF($L11<=Assumptions!$B$11,Assumptions!$A$11,IF($L11<=Assumptions!$B$12,Assumptions!$A$12,IF($L11<=Assumptions!$B$13,Assumptions!$A$13,IF($L11<=Assumptions!$B$14,Assumptions!$A$14,Assumptions!$A$15))))))) | N11: =IF(OR($D11="",$K11=""),"",IF($K11<=0,"Paid",IF(NOT(ISNUMBER($F11)),"Needs dates",IF($J11="","Needs status",IF(OR($J11="Disputed",$J11="Hold"),"Human review",IF($J11="Promise to Pay","Follow up",IF(OR(NOT(ISNUMBER(Assumptions!$B$5)),NOT(ISNUMBER(Assumptions!$B$6)),NOT(ISNUMBER(Assumptions!$B$7)),NOT(ISNUMBER(Assumptions!$B$8))),"Check assumptions",IF(AND($L11>Assumptions!$B$7,$K11>=Assumptions!$B$6),"High",IF(OR($L11>Assumptions!$B$7,$K11>=Assumptions!$B$6),"Medium",IF(AND($F11>=Assumptions!$B$5,$F11<=Assumptions!$B$5+Assumptions!$B$8),"Upcoming","Routine")))))))))) | O11: Overdue threshold test.
A12: Fictional Honeybee Hall | B12: Fictional Honeybee Event Grounds | C12: Mowing | D12: FIC-2026-008 | E12: 46155 | F12: 46185 | G12: 500 | H12: 0 | J12: Hold | K12: =IF(OR($D12="",$G12="",NOT(ISNUMBER($G12)),AND($H12<>"",NOT(ISNUMBER($H12)))),"",IFERROR(MAX(0,$G12-IF($H12="",0,$H12)),"")) | L12: =IF(OR($D12="",$F12="",$K12="",NOT(ISNUMBER($F12)),NOT(ISNUMBER(Assumptions!$B$5))),"",IF($K12<=0,0,IFERROR(MAX(0,Assumptions!$B$5-$F12),""))) | M12: =IF(OR($D12="",$K12="",$L12=""),"",IF($K12<=0,"Paid",IF(OR(COUNT(Assumptions!$B$11:$B$14)<4,COUNTA(Assumptions!$A$11:$A$15)<5,Assumptions!$B$11>=Assumptions!$B$12,Assumptions!$B$12>=Assumptions!$B$13,Assumptions!$B$13>=Assumptions!$B$14),"Check assumptions",IF($L12<=Assumptions!$B$11,Assumptions!$A$11,IF($L12<=Assumptions!$B$12,Assumptions!$A$12,IF($L12<=Assumptions!$B$13,Assumptions!$A$13,IF($L12<=Assumptions!$B$14,Assumptions!$A$14,Assumptions!$A$15))))))) | N12: =IF(OR($D12="",$K12=""),"",IF($K12<=0,"Paid",IF(NOT(ISNUMBER($F12)),"Needs dates",IF($J12="","Needs status",IF(OR($J12="Disputed",$J12="Hold"),"Human review",IF($J12="Promise to Pay","Follow up",IF(OR(NOT(ISNUMBER(Assumptions!$B$5)),NOT(ISNUMBER(Assumptions!$B$6)),NOT(ISNUMBER(Assumptions!$B$7)),NOT(ISNUMBER(Assumptions!$B$8))),"Check assumptions",IF(AND($L12>Assumptions!$B$7,$K12>=Assumptions!$B$6),"High",IF(OR($L12>Assumptions!$B$7,$K12>=Assumptions!$B$6),"Medium",IF(AND($F12>=Assumptions!$B$5,$F12<=Assumptions!$B$5+Assumptions!$B$8),"Upcoming","Routine")))))))))) | O12: Administrative hold requires review.
A13: Fictional Juniper Junction | B13: Fictional Juniper Office Park | C13: Hardscape Maintenance | D13: FIC-2026-009 | E13: 46154 | F13: 46184 | G13: 3200 | H13: 1200 | I13: 46255 | J13: Normal | K13: =IF(OR($D13="",$G13="",NOT(ISNUMBER($G13)),AND($H13<>"",NOT(ISNUMBER($H13)))),"",IFERROR(MAX(0,$G13-IF($H13="",0,$H13)),"")) | L13: =IF(OR($D13="",$F13="",$K13="",NOT(ISNUMBER($F13)),NOT(ISNUMBER(Assumptions!$B$5))),"",IF($K13<=0,0,IFERROR(MAX(0,Assumptions!$B$5-$F13),""))) | M13: =IF(OR($D13="",$K13="",$L13=""),"",IF($K13<=0,"Paid",IF(OR(COUNT(Assumptions!$B$11:$B$14)<4,COUNTA(Assumptions!$A$11:$A$15)<5,Assumptions!$B$11>=Assumptions!$B$12,Assumptions!$B$12>=Assumptions!$B$13,Assumptions!$B$13>=Assumptions!$B$14),"Check assumptions",IF($L13<=Assumptions!$B$11,Assumptions!$A$11,IF($L13<=Assumptions!$B$12,Assumptions!$A$12,IF($L13<=Assumptions!$B$13,Assumptions!$A$13,IF($L13<=Assumptions!$B$14,Assumptions!$A$14,Assumptions!$A$15))))))) | N13: =IF(OR($D13="",$K13=""),"",IF($K13<=0,"Paid",IF(NOT(ISNUMBER($F13)),"Needs dates",IF($J13="","Needs status",IF(OR($J13="Disputed",$J13="Hold"),"Human review",IF($J13="Promise to Pay","Follow up",IF(OR(NOT(ISNUMBER(Assumptions!$B$5)),NOT(ISNUMBER(Assumptions!$B$6)),NOT(ISNUMBER(Assumptions!$B$7)),NOT(ISNUMBER(Assumptions!$B$8))),"Check assumptions",IF(AND($L13>Assumptions!$B$7,$K13>=Assumptions!$B$6),"High",IF(OR($L13>Assumptions!$B$7,$K13>=Assumptions!$B$6),"Medium",IF(AND($F13>=Assumptions!$B$5,$F13<=Assumptions!$B$5+Assumptions!$B$8),"Upcoming","Routine")))))))))) | O13: Over-ninety-day boundary example.
A14: Fictional Kite String Workshop | B14: Fictional Kite String Lawn | C14: Landscape Maintenance | D14: FIC-2026-010 | E14: 46200 | F14: 46230 | G14: 700 | H14: 700 | I14: 46265 | J14: Normal | K14: =IF(OR($D14="",$G14="",NOT(ISNUMBER($G14)),AND($H14<>"",NOT(ISNUMBER($H14)))),"",IFERROR(MAX(0,$G14-IF($H14="",0,$H14)),"")) | L14: =IF(OR($D14="",$F14="",$K14="",NOT(ISNUMBER($F14)),NOT(ISNUMBER(Assumptions!$B$5))),"",IF($K14<=0,0,IFERROR(MAX(0,Assumptions!$B$5-$F14),""))) | M14: =IF(OR($D14="",$K14="",$L14=""),"",IF($K14<=0,"Paid",IF(OR(COUNT(Assumptions!$B$11:$B$14)<4,COUNTA(Assumptions!$A$11:$A$15)<5,Assumptions!$B$11>=Assumptions!$B$12,Assumptions!$B$12>=Assumptions!$B$13,Assumptions!$B$13>=Assumptions!$B$14),"Check assumptions",IF($L14<=Assumptions!$B$11,Assumptions!$A$11,IF($L14<=Assumptions!$B$12,Assumptions!$A$12,IF($L14<=Assumptions!$B$13,Assumptions!$A$13,IF($L14<=Assumptions!$B$14,Assumptions!$A$14,Assumptions!$A$15))))))) | N14: =IF(OR($D14="",$K14=""),"",IF($K14<=0,"Paid",IF(NOT(ISNUMBER($F14)),"Needs dates",IF($J14="","Needs status",IF(OR($J14="Disputed",$J14="Hold"),"Human review",IF($J14="Promise to Pay","Follow up",IF(OR(NOT(ISNUMBER(Assumptions!$B$5)),NOT(ISNUMBER(Assumptions!$B$6)),NOT(ISNUMBER(Assumptions!$B$7)),NOT(ISNUMBER(Assumptions!$B$8))),"Check assumptions",IF(AND($L14>Assumptions!$B$7,$K14>=Assumptions!$B$6),"High",IF(OR($L14>Assumptions!$B$7,$K14>=Assumptions!$B$6),"Medium",IF(AND($F14>=Assumptions!$B$5,$F14<=Assumptions!$B$5+Assumptions!$B$8),"Upcoming","Routine")))))))))) | O14: Paid fictional invoice retained for history.
K15: =IF(OR($D15="",$G15="",NOT(ISNUMBER($G15)),AND($H15<>"",NOT(ISNUMBER($H15)))),"",IFERROR(MAX(0,$G15-IF($H15="",0,$H15)),"")) | L15: =IF(OR($D15="",$F15="",$K15="",NOT(ISNUMBER($F15)),NOT(ISNUMBER(Assumptions!$B$5))),"",IF($K15<=0,0,IFERROR(MAX(0,Assumptions!$B$5-$F15),""))) | M15: =IF(OR($D15="",$K15="",$L15=""),"",IF($K15<=0,"Paid",IF(OR(COUNT(Assumptions!$B$11:$B$14)<4,COUNTA(Assumptions!$A$11:$A$15)<5,Assumptions!$B$11>=Assumptions!$B$12,Assumptions!$B$12>=Assumptions!$B$13,Assumptions!$B$13>=Assumptions!$B$14),"Check assumptions",IF($L15<=Assumptions!$B$11,Assumptions!$A$11,IF($L15<=Assumptions!$B$12,Assumptions!$A$12,IF($L15<=Assumptions!$B$13,Assumptions!$A$13,IF($L15<=Assumptions!$B$14,Assumptions!$A$14,Assumptions!$A$15))))))) | N15: =IF(OR($D15="",$K15=""),"",IF($K15<=0,"Paid",IF(NOT(ISNUMBER($F15)),"Needs dates",IF($J15="","Needs status",IF(OR($J15="Disputed",$J15="Hold"),"Human review",IF($J15="Promise to Pay","Follow up",IF(OR(NOT(ISNUMBER(Assumptions!$B$5)),NOT(ISNUMBER(Assumptions!$B$6)),NOT(ISNUMBER(Assumptions!$B$7)),NOT(ISNUMBER(Assumptions!$B$8))),"Check assumptions",IF(AND($L15>Assumptions!$B$7,$K15>=Assumptions!$B$6),"High",IF(OR($L15>Assumptions!$B$7,$K15>=Assumptions!$B$6),"Medium",IF(AND($F15>=Assumptions!$B$5,$F15<=Assumptions!$B$5+Assumptions!$B$8),"Upcoming","Routine"))))))))))
K16: =IF(OR($D16="",$G16="",NOT(ISNUMBER($G16)),AND($H16<>"",NOT(ISNUMBER($H16)))),"",IFERROR(MAX(0,$G16-IF($H16="",0,$H16)),"")) | L16: =IF(OR($D16="",$F16="",$K16="",NOT(ISNUMBER($F16)),NOT(ISNUMBER(Assumptions!$B$5))),"",IF($K16<=0,0,IFERROR(MAX(0,Assumptions!$B$5-$F16),""))) | M16: =IF(OR($D16="",$K16="",$L16=""),"",IF($K16<=0,"Paid",IF(OR(COUNT(Assumptions!$B$11:$B$14)<4,COUNTA(Assumptions!$A$11:$A$15)<5,Assumptions!$B$11>=Assumptions!$B$12,Assumptions!$B$12>=Assumptions!$B$13,Assumptions!$B$13>=Assumptions!$B$14),"Check assumptions",IF($L16<=Assumptions!$B$11,Assumptions!$A$11,IF($L16<=Assumptions!$B$12,Assumptions!$A$12,IF($L16<=Assumptions!$B$13,Assumptions!$A$13,IF($L16<=Assumptions!$B$14,Assumptions!$A$14,Assumptions!$A$15))))))) | N16: =IF(OR($D16="",$K16=""),"",IF($K16<=0,"Paid",IF(NOT(ISNUMBER($F16)),"Needs dates",IF($J16="","Needs status",IF(OR($J16="Disputed",$J16="Hold"),"Human review",IF($J16="Promise to Pay","Follow up",IF(OR(NOT(ISNUMBER(Assumptions!$B$5)),NOT(ISNUMBER(Assumptions!$B$6)),NOT(ISNUMBER(Assumptions!$B$7)),NOT(ISNUMBER(Assumptions!$B$8))),"Check assumptions",IF(AND($L16>Assumptions!$B$7,$K16>=Assumptions!$B$6),"High",IF(OR($L16>Assumptions!$B$7,$K16>=Assumptions!$B$6),"Medium",IF(AND($F16>=Assumptions!$B$5,$F16<=Assumptions!$B$5+Assumptions!$B$8),"Upcoming","Routine"))))))))))
K17: =IF(OR($D17="",$G17="",NOT(ISNUMBER($G17)),AND($H17<>"",NOT(ISNUMBER($H17)))),"",IFERROR(MAX(0,$G17-IF($H17="",0,$H17)),"")) | L17: =IF(OR($D17="",$F17="",$K17="",NOT(ISNUMBER($F17)),NOT(ISNUMBER(Assumptions!$B$5))),"",IF($K17<=0,0,IFERROR(MAX(0,Assumptions!$B$5-$F17),""))) | M17: =IF(OR($D17="",$K17="",$L17=""),"",IF($K17<=0,"Paid",IF(OR(COUNT(Assumptions!$B$11:$B$14)<4,COUNTA(Assumptions!$A$11:$A$15)<5,Assumptions!$B$11>=Assumptions!$B$12,Assumptions!$B$12>=Assumptions!$B$13,Assumptions!$B$13>=Assumptions!$B$14),"Check assumptions",IF($L17<=Assumptions!$B$11,Assumptions!$A$11,IF($L17<=Assumptions!$B$12,Assumptions!$A$12,IF($L17<=Assumptions!$B$13,Assumptions!$A$13,IF($L17<=Assumptions!$B$14,Assumptions!$A$14,Assumptions!$A$15))))))) | N17: =IF(OR($D17="",$K17=""),"",IF($K17<=0,"Paid",IF(NOT(ISNUMBER($F17)),"Needs dates",IF($J17="","Needs status",IF(OR($J17="Disputed",$J17="Hold"),"Human review",IF($J17="Promise to Pay","Follow up",IF(OR(NOT(ISNUMBER(Assumptions!$B$5)),NOT(ISNUMBER(Assumptions!$B$6)),NOT(ISNUMBER(Assumptions!$B$7)),NOT(ISNUMBER(Assumptions!$B$8))),"Check assumptions",IF(AND($L17>Assumptions!$B$7,$K17>=Assumptions!$B$6),"High",IF(OR($L17>Assumptions!$B$7,$K17>=Assumptions!$B$6),"Medium",IF(AND($F17>=Assumptions!$B$5,$F17<=Assumptions!$B$5+Assumptions!$B$8),"Upcoming","Routine"))))))))))
K18: =IF(OR($D18="",$G18="",NOT(ISNUMBER($G18)),AND($H18<>"",NOT(ISNUMBER($H18)))),"",IFERROR(MAX(0,$G18-IF($H18="",0,$H18)),"")) | L18: =IF(OR($D18="",$F18="",$K18="",NOT(ISNUMBER($F18)),NOT(ISNUMBER(Assumptions!$B$5))),"",IF($K18<=0,0,IFERROR(MAX(0,Assumptions!$B$5-$F18),""))) | M18: =IF(OR($D18="",$K18="",$L18=""),"",IF($K18<=0,"Paid",IF(OR(COUNT(Assumptions!$B$11:$B$14)<4,COUNTA(Assumptions!$A$11:$A$15)<5,Assumptions!$B$11>=Assumptions!$B$12,Assumptions!$B$12>=Assumptions!$B$13,Assumptions!$B$13>=Assumptions!$B$14),"Check assumptions",IF($L18<=Assumptions!$B$11,Assumptions!$A$11,IF($L18<=Assumptions!$B$12,Assumptions!$A$12,IF($L18<=Assumptions!$B$13,Assumptions!$A$13,IF($L18<=Assumptions!$B$14,Assumptions!$A$14,Assumptions!$A$15))))))) | N18: =IF(OR($D18="",$K18=""),"",IF($K18<=0,"Paid",IF(NOT(ISNUMBER($F18)),"Needs dates",IF($J18="","Needs status",IF(OR($J18="Disputed",$J18="Hold"),"Human review",IF($J18="Promise to Pay","Follow up",IF(OR(NOT(ISNUMBER(Assumptions!$B$5)),NOT(ISNUMBER(Assumptions!$B$6)),NOT(ISNUMBER(Assumptions!$B$7)),NOT(ISNUMBER(Assumptions!$B$8))),"Check assumptions",IF(AND($L18>Assumptions!$B$7,$K18>=Assumptions!$B$6),"High",IF(OR($L18>Assumptions!$B$7,$K18>=Assumptions!$B$6),"Medium",IF(AND($F18>=Assumptions!$B$5,$F18<=Assumptions!$B$5+Assumptions!$B$8),"Upcoming","Routine"))))))))))
K19: =IF(OR($D19="",$G19="",NOT(ISNUMBER($G19)),AND($H19<>"",NOT(ISNUMBER($H19)))),"",IFERROR(MAX(0,$G19-IF($H19="",0,$H19)),"")) | L19: =IF(OR($D19="",$F19="",$K19="",NOT(ISNUMBER($F19)),NOT(ISNUMBER(Assumptions!$B$5))),"",IF($K19<=0,0,IFERROR(MAX(0,Assumptions!$B$5-$F19),""))) | M19: =IF(OR($D19="",$K19="",$L19=""),"",IF($K19<=0,"Paid",IF(OR(COUNT(Assumptions!$B$11:$B$14)<4,COUNTA(Assumptions!$A$11:$A$15)<5,Assumptions!$B$11>=Assumptions!$B$12,Assumptions!$B$12>=Assumptions!$B$13,Assumptions!$B$13>=Assumptions!$B$14),"Check assumptions",IF($L19<=Assumptions!$B$11,Assumptions!$A$11,IF($L19<=Assumptions!$B$12,Assumptions!$A$12,IF($L19<=Assumptions!$B$13,Assumptions!$A$13,IF($L19<=Assumptions!$B$14,Assumptions!$A$14,Assumptions!$A$15))))))) | N19: =IF(OR($D19="",$K19=""),"",IF($K19<=0,"Paid",IF(NOT(ISNUMBER($F19)),"Needs dates",IF($J19="","Needs status",IF(OR($J19="Disputed",$J19="Hold"),"Human review",IF($J19="Promise to Pay","Follow up",IF(OR(NOT(ISNUMBER(Assumptions!$B$5)),NOT(ISNUMBER(Assumptions!$B$6)),NOT(ISNUMBER(Assumptions!$B$7)),NOT(ISNUMBER(Assumptions!$B$8))),"Check assumptions",IF(AND($L19>Assumptions!$B$7,$K19>=Assumptions!$B$6),"High",IF(OR($L19>Assumptions!$B$7,$K19>=Assumptions!$B$6),"Medium",IF(AND($F19>=Assumptions!$B$5,$F19<=Assumptions!$B$5+Assumptions!$B$8),"Upcoming","Routine"))))))))))
K20: =IF(OR($D20="",$G20="",NOT(ISNUMBER($G20)),AND($H20<>"",NOT(ISNUMBER($H20)))),"",IFERROR(MAX(0,$G20-IF($H20="",0,$H20)),"")) | L20: =IF(OR($D20="",$F20="",$K20="",NOT(ISNUMBER($F20)),NOT(ISNUMBER(Assumptions!$B$5))),"",IF($K20<=0,0,IFERROR(MAX(0,Assumptions!$B$5-$F20),""))) | M20: =IF(OR($D20="",$K20="",$L20=""),"",IF($K20<=0,"Paid",IF(OR(COUNT(Assumptions!$B$11:$B$14)<4,COUNTA(Assumptions!$A$11:$A$15)<5,Assumptions!$B$11>=Assumptions!$B$12,Assumptions!$B$12>=Assumptions!$B$13,Assumptions!$B$13>=Assumptions!$B$14),"Check assumptions",IF($L20<=Assumptions!$B$11,Assumptions!$A$11,IF($L20<=Assumptions!$B$12,Assumptions!$A$12,IF($L20<=Assumptions!$B$13,Assumptions!$A$13,IF($L20<=Assumptions!$B$14,Assumptions!$A$14,Assumptions!$A$15))))))) | N20: =IF(OR($D20="",$K20=""),"",IF($K20<=0,"Paid",IF(NOT(ISNUMBER($F20)),"Needs dates",IF($J20="","Needs status",IF(OR($J20="Disputed",$J20="Hold"),"Human review",IF($J20="Promise to Pay","Follow up",IF(OR(NOT(ISNUMBER(Assumptions!$B$5)),NOT(ISNUMBER(Assumptions!$B$6)),NOT(ISNUMBER(Assumptions!$B$7)),NOT(ISNUMBER(Assumptions!$B$8))),"Check assumptions",IF(AND($L20>Assumptions!$B$7,$K20>=Assumptions!$B$6),"High",IF(OR($L20>Assumptions!$B$7,$K20>=Assumptions!$B$6),"Medium",IF(AND($F20>=Assumptions!$B$5,$F20<=Assumptions!$B$5+Assumptions!$B$8),"Upcoming","Routine"))))))))))
K21: =IF(OR($D21="",$G21="",NOT(ISNUMBER($G21)),AND($H21<>"",NOT(ISNUMBER($H21)))),"",IFERROR(MAX(0,$G21-IF($H21="",0,$H21)),"")) | L21: =IF(OR($D21="",$F21="",$K21="",NOT(ISNUMBER($F21)),NOT(ISNUMBER(Assumptions!$B$5))),"",IF($K21<=0,0,IFERROR(MAX(0,Assumptions!$B$5-$F21),""))) | M21: =IF(OR($D21="",$K21="",$L21=""),"",IF($K21<=0,"Paid",IF(OR(COUNT(Assumptions!$B$11:$B$14)<4,COUNTA(Assumptions!$A$11:$A$15)<5,Assumptions!$B$11>=Assumptions!$B$12,Assumptions!$B$12>=Assumptions!$B$13,Assumptions!$B$13>=Assumptions!$B$14),"Check assumptions",IF($L21<=Assumptions!$B$11,Assumptions!$A$11,IF($L21<=Assumptions!$B$12,Assumptions!$A$12,IF($L21<=Assumptions!$B$13,Assumptions!$A$13,IF($L21<=Assumptions!$B$14,Assumptions!$A$14,Assumptions!$A$15))))))) | N21: =IF(OR($D21="",$K21=""),"",IF($K21<=0,"Paid",IF(NOT(ISNUMBER($F21)),"Needs dates",IF($J21="","Needs status",IF(OR($J21="Disputed",$J21="Hold"),"Human review",IF($J21="Promise to Pay","Follow up",IF(OR(NOT(ISNUMBER(Assumptions!$B$5)),NOT(ISNUMBER(Assumptions!$B$6)),NOT(ISNUMBER(Assumptions!$B$7)),NOT(ISNUMBER(Assumptions!$B$8))),"Check assumptions",IF(AND($L21>Assumptions!$B$7,$K21>=Assumptions!$B$6),"High",IF(OR($L21>Assumptions!$B$7,$K21>=Assumptions!$B$6),"Medium",IF(AND($F21>=Assumptions!$B$5,$F21<=Assumptions!$B$5+Assumptions!$B$8),"Upcoming","Routine"))))))))))
K22: =IF(OR($D22="",$G22="",NOT(ISNUMBER($G22)),AND($H22<>"",NOT(ISNUMBER($H22)))),"",IFERROR(MAX(0,$G22-IF($H22="",0,$H22)),"")) | L22: =IF(OR($D22="",$F22="",$K22="",NOT(ISNUMBER($F22)),NOT(ISNUMBER(Assumptions!$B$5))),"",IF($K22<=0,0,IFERROR(MAX(0,Assumptions!$B$5-$F22),""))) | M22: =IF(OR($D22="",$K22="",$L22=""),"",IF($K22<=0,"Paid",IF(OR(COUNT(Assumptions!$B$11:$B$14)<4,COUNTA(Assumptions!$A$11:$A$15)<5,Assumptions!$B$11>=Assumptions!$B$12,Assumptions!$B$12>=Assumptions!$B$13,Assumptions!$B$13>=Assumptions!$B$14),"Check assumptions",IF($L22<=Assumptions!$B$11,Assumptions!$A$11,IF($L22<=Assumptions!$B$12,Assumptions!$A$12,IF($L22<=Assumptions!$B$13,Assumptions!$A$13,IF($L22<=Assumptions!$B$14,Assumptions!$A$14,Assumptions!$A$15))))))) | N22: =IF(OR($D22="",$K22=""),"",IF($K22<=0,"Paid",IF(NOT(ISNUMBER($F22)),"Needs dates",IF($J22="","Needs status",IF(OR($J22="Disputed",$J22="Hold"),"Human review",IF($J22="Promise to Pay","Follow up",IF(OR(NOT(ISNUMBER(Assumptions!$B$5)),NOT(ISNUMBER(Assumptions!$B$6)),NOT(ISNUMBER(Assumptions!$B$7)),NOT(ISNUMBER(Assumptions!$B$8))),"Check assumptions",IF(AND($L22>Assumptions!$B$7,$K22>=Assumptions!$B$6),"High",IF(OR($L22>Assumptions!$B$7,$K22>=Assumptions!$B$6),"Medium",IF(AND($F22>=Assumptions!$B$5,$F22<=Assumptions!$B$5+Assumptions!$B$8),"Upcoming","Routine"))))))))))
K23: =IF(OR($D23="",$G23="",NOT(ISNUMBER($G23)),AND($H23<>"",NOT(ISNUMBER($H23)))),"",IFERROR(MAX(0,$G23-IF($H23="",0,$H23)),"")) | L23: =IF(OR($D23="",$F23="",$K23="",NOT(ISNUMBER($F23)),NOT(ISNUMBER(Assumptions!$B$5))),"",IF($K23<=0,0,IFERROR(MAX(0,Assumptions!$B$5-$F23),""))) | M23: =IF(OR($D23="",$K23="",$L23=""),"",IF($K23<=0,"Paid",IF(OR(COUNT(Assumptions!$B$11:$B$14)<4,COUNTA(Assumptions!$A$11:$A$15)<5,Assumptions!$B$11>=Assumptions!$B$12,Assumptions!$B$12>=Assumptions!$B$13,Assumptions!$B$13>=Assumptions!$B$14),"Check assumptions",IF($L23<=Assumptions!$B$11,Assumptions!$A$11,IF($L23<=Assumptions!$B$12,Assumptions!$A$12,IF($L23<=Assumptions!$B$13,Assumptions!$A$13,IF($L23<=Assumptions!$B$14,Assumptions!$A$14,Assumptions!$A$15))))))) | N23: =IF(OR($D23="",$K23=""),"",IF($K23<=0,"Paid",IF(NOT(ISNUMBER($F23)),"Needs dates",IF($J23="","Needs status",IF(OR($J23="Disputed",$J23="Hold"),"Human review",IF($J23="Promise to Pay","Follow up",IF(OR(NOT(ISNUMBER(Assumptions!$B$5)),NOT(ISNUMBER(Assumptions!$B$6)),NOT(ISNUMBER(Assumptions!$B$7)),NOT(ISNUMBER(Assumptions!$B$8))),"Check assumptions",IF(AND($L23>Assumptions!$B$7,$K23>=Assumptions!$B$6),"High",IF(OR($L23>Assumptions!$B$7,$K23>=Assumptions!$B$6),"Medium",IF(AND($F23>=Assumptions!$B$5,$F23<=Assumptions!$B$5+Assumptions!$B$8),"Upcoming","Routine"))))))))))
K24: =IF(OR($D24="",$G24="",NOT(ISNUMBER($G24)),AND($H24<>"",NOT(ISNUMBER($H24)))),"",IFERROR(MAX(0,$G24-IF($H24="",0,$H24)),"")) | L24: =IF(OR($D24="",$F24="",$K24="",NOT(ISNUMBER($F24)),NOT(ISNUMBER(Assumptions!$B$5))),"",IF($K24<=0,0,IFERROR(MAX(0,Assumptions!$B$5-$F24),""))) | M24: =IF(OR($D24="",$K24="",$L24=""),"",IF($K24<=0,"Paid",IF(OR(COUNT(Assumptions!$B$11:$B$14)<4,COUNTA(Assumptions!$A$11:$A$15)<5,Assumptions!$B$11>=Assumptions!$B$12,Assumptions!$B$12>=Assumptions!$B$13,Assumptions!$B$13>=Assumptions!$B$14),"Check assumptions",IF($L24<=Assumptions!$B$11,Assumptions!$A$11,IF($L24<=Assumptions!$B$12,Assumptions!$A$12,IF($L24<=Assumptions!$B$13,Assumptions!$A$13,IF($L24<=Assumptions!$B$14,Assumptions!$A$14,Assumptions!$A$15))))))) | N24: =IF(OR($D24="",$K24=""),"",IF($K24<=0,"Paid",IF(NOT(ISNUMBER($F24)),"Needs dates",IF($J24="","Needs status",IF(OR($J24="Disputed",$J24="Hold"),"Human review",IF($J24="Promise to Pay","Follow up",IF(OR(NOT(ISNUMBER(Assumptions!$B$5)),NOT(ISNUMBER(Assumptions!$B$6)),NOT(ISNUMBER(Assumptions!$B$7)),NOT(ISNUMBER(Assumptions!$B$8))),"Check assumptions",IF(AND($L24>Assumptions!$B$7,$K24>=Assumptions!$B$6),"High",IF(OR($L24>Assumptions!$B$7,$K24>=Assumptions!$B$6),"Medium",IF(AND($F24>=Assumptions!$B$5,$F24<=Assumptions!$B$5+Assumptions!$B$8),"Upcoming","Routine"))))))))))
K25: =IF(OR($D25="",$G25="",NOT(ISNUMBER($G25)),AND($H25<>"",NOT(ISNUMBER($H25)))),"",IFERROR(MAX(0,$G25-IF($H25="",0,$H25)),"")) | L25: =IF(OR($D25="",$F25="",$K25="",NOT(ISNUMBER($F25)),NOT(ISNUMBER(Assumptions!$B$5))),"",IF($K25<=0,0,IFERROR(MAX(0,Assumptions!$B$5-$F25),""))) | M25: =IF(OR($D25="",$K25="",$L25=""),"",IF($K25<=0,"Paid",IF(OR(COUNT(Assumptions!$B$11:$B$14)<4,COUNTA(Assumptions!$A$11:$A$15)<5,Assumptions!$B$11>=Assumptions!$B$12,Assumptions!$B$12>=Assumptions!$B$13,Assumptions!$B$13>=Assumptions!$B$14),"Check assumptions",IF($L25<=Assumptions!$B$11,Assumptions!$A$11,IF($L25<=Assumptions!$B$12,Assumptions!$A$12,IF($L25<=Assumptions!$B$13,Assumptions!$A$13,IF($L25<=Assumptions!$B$14,Assumptions!$A$14,Assumptions!$A$15))))))) | N25: =IF(OR($D25="",$K25=""),"",IF($K25<=0,"Paid",IF(NOT(ISNUMBER($F25)),"Needs dates",IF($J25="","Needs status",IF(OR($J25="Disputed",$J25="Hold"),"Human review",IF($J25="Promise to Pay","Follow up",IF(OR(NOT(ISNUMBER(Assumptions!$B$5)),NOT(ISNUMBER(Assumptions!$B$6)),NOT(ISNUMBER(Assumptions!$B$7)),NOT(ISNUMBER(Assumptions!$B$8))),"Check assumptions",IF(AND($L25>Assumptions!$B$7,$K25>=Assumptions!$B$6),"High",IF(OR($L25>Assumptions!$B$7,$K25>=Assumptions!$B$6),"Medium",IF(AND($F25>=Assumptions!$B$5,$F25<=Assumptions!$B$5+Assumptions!$B$8),"Upcoming","Routine"))))))))))
K26: =IF(OR($D26="",$G26="",NOT(ISNUMBER($G26)),AND($H26<>"",NOT(ISNUMBER($H26)))),"",IFERROR(MAX(0,$G26-IF($H26="",0,$H26)),"")) | L26: =IF(OR($D26="",$F26="",$K26="",NOT(ISNUMBER($F26)),NOT(ISNUMBER(Assumptions!$B$5))),"",IF($K26<=0,0,IFERROR(MAX(0,Assumptions!$B$5-$F26),""))) | M26: =IF(OR($D26="",$K26="",$L26=""),"",IF($K26<=0,"Paid",IF(OR(COUNT(Assumptions!$B$11:$B$14)<4,COUNTA(Assumptions!$A$11:$A$15)<5,Assumptions!$B$11>=Assumptions!$B$12,Assumptions!$B$12>=Assumptions!$B$13,Assumptions!$B$13>=Assumptions!$B$14),"Check assumptions",IF($L26<=Assumptions!$B$11,Assumptions!$A$11,IF($L26<=Assumptions!$B$12,Assumptions!$A$12,IF($L26<=Assumptions!$B$13,Assumptions!$A$13,IF($L26<=Assumptions!$B$14,Assumptions!$A$14,Assumptions!$A$15))))))) | N26: =IF(OR($D26="",$K26=""),"",IF($K26<=0,"Paid",IF(NOT(ISNUMBER($F26)),"Needs dates",IF($J26="","Needs status",IF(OR($J26="Disputed",$J26="Hold"),"Human review",IF($J26="Promise to Pay","Follow up",IF(OR(NOT(ISNUMBER(Assumptions!$B$5)),NOT(ISNUMBER(Assumptions!$B$6)),NOT(ISNUMBER(Assumptions!$B$7)),NOT(ISNUMBER(Assumptions!$B$8))),"Check assumptions",IF(AND($L26>Assumptions!$B$7,$K26>=Assumptions!$B$6),"High",IF(OR($L26>Assumptions!$B$7,$K26>=Assumptions!$B$6),"Medium",IF(AND($F26>=Assumptions!$B$5,$F26<=Assumptions!$B$5+Assumptions!$B$8),"Upcoming","Routine"))))))))))
... K104: =IF(OR($D104="",$G104="",NOT(ISNUMBER($G104)),AND($H104<>"",NOT(ISNUMBER($H104)))),"",IFERROR(MAX(0,$G104-IF($H104="",0,$H104)),"")) | L104: =IF(OR($D104="",$F104="",$K104="",NOT(ISNUMBER($F104)),NOT(ISNUMBER(Assumptions!$B$5))),"",IF($K104<=0,0,IFERROR(MAX(0,Assumptions!$B$5-$F104),""))) | M104: =IF(OR($D104="",$K104="",$L104=""),"",IF($K104<=0,"Paid",IF(OR(COUNT(Assumptions!$B$11:$B$14)<4,COUNTA(Assumptions!$A$11:$A$15)<5,Assumptions!$B$11>=Assumptions!$B$12,Assumptions!$B$12>=Assumptions!$B$13,Assumptions!$B$13>=Assumptions!$B$14),"Check assumptions",IF($L104<=Assumptions!$B$11,Assumptions!$A$11,IF($L104<=Assumptions!$B$12,Assumptions!$A$12,IF($L104<=Assumptions!$B$13,Assumptions!$A$13,IF($L104<=Assumptions!$B$14,Assumptions!$A$14,Assumptions!$A$15))))))) | N104: =IF(OR($D104="",$K104=""),"",IF($K104<=0,"Paid",IF(NOT(ISNUMBER($F104)),"Needs dates",IF($J104="","Needs status",IF(OR($J104="Disputed",$J104="Hold"),"Human review",IF($J104="Promise to Pay","Follow up",IF(OR(NOT(ISNUMBER(Assumptions!$B$5)),NOT(ISNUMBER(Assumptions!$B$6)),NOT(ISNUMBER(Assumptions!$B$7)),NOT(ISNUMBER(Assumptions!$B$8))),"Check assumptions",IF(AND($L104>Assumptions!$B$7,$K104>=Assumptions!$B$6),"High",IF(OR($L104>Assumptions!$B$7,$K104>=Assumptions!$B$6),"Medium",IF(AND($F104>=Assumptions!$B$5,$F104<=Assumptions!$B$5+Assumptions!$B$8),"Upcoming","Routine"))))))))))

Sheet Assumptions
A1: Aging Assumptions and Editable Lists
A3: Edit yellow cells as needed. Red aging limits require a human check before use.
A4: Assumption | B4: Value | D4: Service Choices | F4: Collection Status Choices
A5: As-of Date | B5: 46275 | D5: Mowing | F5: Normal
A6: High Balance Threshold | B6: 1000 | D6: Landscape Maintenance | F6: Promise to Pay
A7: Critical Overdue Days | B7: 60 | D7: Mulch Installation | F7: Disputed
A8: Upcoming Due Window (Days) | B8: 7 | D8: Seasonal Cleanup | F8: Hold
D9: Irrigation Check
A10: Aging Bucket | B10: Upper Days Past Due | D10: Tree and Shrub Care
A11: Current / Not Due | B11: 0 | D11: Hardscape Maintenance
A12: 1-30 Days | B12: 30 | D12: Bed Weeding
A13: 31-60 Days | B13: 60
A14: 61-90 Days | B14: 90
A15: Over 90 Days
A17: Human check: | B17: Keep aging upper days in ascending order.
