Workbook

Sheet Summary
A1: Landscaping Budget Variance Dashboard
A2: Compare entered budget and actual amounts by month and cost center. All sample records are fictional.
A3: Selected Month | B3: 46143 | D3: Selected Cost Center | E3: Tree Care
A5: Selected View | D5: Status | E5: =IF($B$3="","Select a month",IF(AND($E$7=0,$E$8=0),"No entered data",IF($E$7=0,"No budget entered",IF($E$8=0,"No actual costs entered",IF($B$8>=0,"At or under budget","Over budget")))))
A6: Planned Budget | B6: =IF(OR($B$3="",$E$3=""),"",IF($E$3="All",IF(COUNTIFS('Variance Data'!$A$7:$A$126,$B$3,'Variance Data'!$C$7:$C$126,"<>")=0,"",SUMIFS('Variance Data'!$C$7:$C$126,'Variance Data'!$A$7:$A$126,$B$3)),IF(COUNTIFS('Variance Data'!$A$7:$A$126,$B$3,'Variance Data'!$B$7:$B$126,$E$3,'Variance Data'!$C$7:$C$126,"<>")=0,"",SUMIFS('Variance Data'!$C$7:$C$126,'Variance Data'!$A$7:$A$126,$B$3,'Variance Data'!$B$7:$B$126,$E$3))))
A7: Actual Cost | B7: =IF(OR($B$3="",$E$3=""),"",IF($E$3="All",IF(COUNTIFS('Variance Data'!$A$7:$A$126,$B$3,'Variance Data'!$D$7:$D$126,"<>")=0,"",SUMIFS('Variance Data'!$D$7:$D$126,'Variance Data'!$A$7:$A$126,$B$3)),IF(COUNTIFS('Variance Data'!$A$7:$A$126,$B$3,'Variance Data'!$B$7:$B$126,$E$3,'Variance Data'!$D$7:$D$126,"<>")=0,"",SUMIFS('Variance Data'!$D$7:$D$126,'Variance Data'!$A$7:$A$126,$B$3,'Variance Data'!$B$7:$B$126,$E$3)))) | D7: Budget Rows | E7: =IF(OR($B$3="",$E$3=""),"",IF($E$3="All",COUNTIFS('Variance Data'!$A$7:$A$126,$B$3,'Variance Data'!$C$7:$C$126,"<>"),COUNTIFS('Variance Data'!$A$7:$A$126,$B$3,'Variance Data'!$B$7:$B$126,$E$3,'Variance Data'!$C$7:$C$126,"<>")))
A8: Variance | B8: =IF(OR(B6="",B7=""),"",B6-B7) | D8: Actual Rows | E8: =IF(OR($B$3="",$E$3=""),"",IF($E$3="All",COUNTIFS('Variance Data'!$A$7:$A$126,$B$3,'Variance Data'!$D$7:$D$126,"<>"),COUNTIFS('Variance Data'!$A$7:$A$126,$B$3,'Variance Data'!$B$7:$B$126,$E$3,'Variance Data'!$D$7:$D$126,"<>")))
A9: Variance % | B9: =IFERROR(B8/B6,"")
A13: Monthly Comparison for Selected Cost Center — 2026
A14: Month | B14: Budget | C14: Actual | D14: Variance
A15: 46023 | B15: =IF($E$3="","",IF($E$3="All",IF(COUNTIFS('Variance Data'!$A$7:$A$126,$A15,'Variance Data'!$C$7:$C$126,"<>")=0,"",SUMIFS('Variance Data'!$C$7:$C$126,'Variance Data'!$A$7:$A$126,$A15)),IF(COUNTIFS('Variance Data'!$A$7:$A$126,$A15,'Variance Data'!$B$7:$B$126,$E$3,'Variance Data'!$C$7:$C$126,"<>")=0,"",SUMIFS('Variance Data'!$C$7:$C$126,'Variance Data'!$A$7:$A$126,$A15,'Variance Data'!$B$7:$B$126,$E$3)))) | C15: =IF($E$3="","",IF($E$3="All",IF(COUNTIFS('Variance Data'!$A$7:$A$126,$A15,'Variance Data'!$D$7:$D$126,"<>")=0,"",SUMIFS('Variance Data'!$D$7:$D$126,'Variance Data'!$A$7:$A$126,$A15)),IF(COUNTIFS('Variance Data'!$A$7:$A$126,$A15,'Variance Data'!$B$7:$B$126,$E$3,'Variance Data'!$D$7:$D$126,"<>")=0,"",SUMIFS('Variance Data'!$D$7:$D$126,'Variance Data'!$A$7:$A$126,$A15,'Variance Data'!$B$7:$B$126,$E$3)))) | D15: =IF(OR(B15="",C15=""),"",B15-C15)
A16: 46054 | B16: =IF($E$3="","",IF($E$3="All",IF(COUNTIFS('Variance Data'!$A$7:$A$126,$A16,'Variance Data'!$C$7:$C$126,"<>")=0,"",SUMIFS('Variance Data'!$C$7:$C$126,'Variance Data'!$A$7:$A$126,$A16)),IF(COUNTIFS('Variance Data'!$A$7:$A$126,$A16,'Variance Data'!$B$7:$B$126,$E$3,'Variance Data'!$C$7:$C$126,"<>")=0,"",SUMIFS('Variance Data'!$C$7:$C$126,'Variance Data'!$A$7:$A$126,$A16,'Variance Data'!$B$7:$B$126,$E$3)))) | C16: =IF($E$3="","",IF($E$3="All",IF(COUNTIFS('Variance Data'!$A$7:$A$126,$A16,'Variance Data'!$D$7:$D$126,"<>")=0,"",SUMIFS('Variance Data'!$D$7:$D$126,'Variance Data'!$A$7:$A$126,$A16)),IF(COUNTIFS('Variance Data'!$A$7:$A$126,$A16,'Variance Data'!$B$7:$B$126,$E$3,'Variance Data'!$D$7:$D$126,"<>")=0,"",SUMIFS('Variance Data'!$D$7:$D$126,'Variance Data'!$A$7:$A$126,$A16,'Variance Data'!$B$7:$B$126,$E$3)))) | D16: =IF(OR(B16="",C16=""),"",B16-C16)
A17: 46082 | B17: =IF($E$3="","",IF($E$3="All",IF(COUNTIFS('Variance Data'!$A$7:$A$126,$A17,'Variance Data'!$C$7:$C$126,"<>")=0,"",SUMIFS('Variance Data'!$C$7:$C$126,'Variance Data'!$A$7:$A$126,$A17)),IF(COUNTIFS('Variance Data'!$A$7:$A$126,$A17,'Variance Data'!$B$7:$B$126,$E$3,'Variance Data'!$C$7:$C$126,"<>")=0,"",SUMIFS('Variance Data'!$C$7:$C$126,'Variance Data'!$A$7:$A$126,$A17,'Variance Data'!$B$7:$B$126,$E$3)))) | C17: =IF($E$3="","",IF($E$3="All",IF(COUNTIFS('Variance Data'!$A$7:$A$126,$A17,'Variance Data'!$D$7:$D$126,"<>")=0,"",SUMIFS('Variance Data'!$D$7:$D$126,'Variance Data'!$A$7:$A$126,$A17)),IF(COUNTIFS('Variance Data'!$A$7:$A$126,$A17,'Variance Data'!$B$7:$B$126,$E$3,'Variance Data'!$D$7:$D$126,"<>")=0,"",SUMIFS('Variance Data'!$D$7:$D$126,'Variance Data'!$A$7:$A$126,$A17,'Variance Data'!$B$7:$B$126,$E$3)))) | D17: =IF(OR(B17="",C17=""),"",B17-C17)
A18: 46113 | B18: =IF($E$3="","",IF($E$3="All",IF(COUNTIFS('Variance Data'!$A$7:$A$126,$A18,'Variance Data'!$C$7:$C$126,"<>")=0,"",SUMIFS('Variance Data'!$C$7:$C$126,'Variance Data'!$A$7:$A$126,$A18)),IF(COUNTIFS('Variance Data'!$A$7:$A$126,$A18,'Variance Data'!$B$7:$B$126,$E$3,'Variance Data'!$C$7:$C$126,"<>")=0,"",SUMIFS('Variance Data'!$C$7:$C$126,'Variance Data'!$A$7:$A$126,$A18,'Variance Data'!$B$7:$B$126,$E$3)))) | C18: =IF($E$3="","",IF($E$3="All",IF(COUNTIFS('Variance Data'!$A$7:$A$126,$A18,'Variance Data'!$D$7:$D$126,"<>")=0,"",SUMIFS('Variance Data'!$D$7:$D$126,'Variance Data'!$A$7:$A$126,$A18)),IF(COUNTIFS('Variance Data'!$A$7:$A$126,$A18,'Variance Data'!$B$7:$B$126,$E$3,'Variance Data'!$D$7:$D$126,"<>")=0,"",SUMIFS('Variance Data'!$D$7:$D$126,'Variance Data'!$A$7:$A$126,$A18,'Variance Data'!$B$7:$B$126,$E$3)))) | D18: =IF(OR(B18="",C18=""),"",B18-C18)
A19: 46143 | B19: =IF($E$3="","",IF($E$3="All",IF(COUNTIFS('Variance Data'!$A$7:$A$126,$A19,'Variance Data'!$C$7:$C$126,"<>")=0,"",SUMIFS('Variance Data'!$C$7:$C$126,'Variance Data'!$A$7:$A$126,$A19)),IF(COUNTIFS('Variance Data'!$A$7:$A$126,$A19,'Variance Data'!$B$7:$B$126,$E$3,'Variance Data'!$C$7:$C$126,"<>")=0,"",SUMIFS('Variance Data'!$C$7:$C$126,'Variance Data'!$A$7:$A$126,$A19,'Variance Data'!$B$7:$B$126,$E$3)))) | C19: =IF($E$3="","",IF($E$3="All",IF(COUNTIFS('Variance Data'!$A$7:$A$126,$A19,'Variance Data'!$D$7:$D$126,"<>")=0,"",SUMIFS('Variance Data'!$D$7:$D$126,'Variance Data'!$A$7:$A$126,$A19)),IF(COUNTIFS('Variance Data'!$A$7:$A$126,$A19,'Variance Data'!$B$7:$B$126,$E$3,'Variance Data'!$D$7:$D$126,"<>")=0,"",SUMIFS('Variance Data'!$D$7:$D$126,'Variance Data'!$A$7:$A$126,$A19,'Variance Data'!$B$7:$B$126,$E$3)))) | D19: =IF(OR(B19="",C19=""),"",B19-C19)
A20: 46174 | B20: =IF($E$3="","",IF($E$3="All",IF(COUNTIFS('Variance Data'!$A$7:$A$126,$A20,'Variance Data'!$C$7:$C$126,"<>")=0,"",SUMIFS('Variance Data'!$C$7:$C$126,'Variance Data'!$A$7:$A$126,$A20)),IF(COUNTIFS('Variance Data'!$A$7:$A$126,$A20,'Variance Data'!$B$7:$B$126,$E$3,'Variance Data'!$C$7:$C$126,"<>")=0,"",SUMIFS('Variance Data'!$C$7:$C$126,'Variance Data'!$A$7:$A$126,$A20,'Variance Data'!$B$7:$B$126,$E$3)))) | C20: =IF($E$3="","",IF($E$3="All",IF(COUNTIFS('Variance Data'!$A$7:$A$126,$A20,'Variance Data'!$D$7:$D$126,"<>")=0,"",SUMIFS('Variance Data'!$D$7:$D$126,'Variance Data'!$A$7:$A$126,$A20)),IF(COUNTIFS('Variance Data'!$A$7:$A$126,$A20,'Variance Data'!$B$7:$B$126,$E$3,'Variance Data'!$D$7:$D$126,"<>")=0,"",SUMIFS('Variance Data'!$D$7:$D$126,'Variance Data'!$A$7:$A$126,$A20,'Variance Data'!$B$7:$B$126,$E$3)))) | D20: =IF(OR(B20="",C20=""),"",B20-C20)
A21: 46204 | B21: =IF($E$3="","",IF($E$3="All",IF(COUNTIFS('Variance Data'!$A$7:$A$126,$A21,'Variance Data'!$C$7:$C$126,"<>")=0,"",SUMIFS('Variance Data'!$C$7:$C$126,'Variance Data'!$A$7:$A$126,$A21)),IF(COUNTIFS('Variance Data'!$A$7:$A$126,$A21,'Variance Data'!$B$7:$B$126,$E$3,'Variance Data'!$C$7:$C$126,"<>")=0,"",SUMIFS('Variance Data'!$C$7:$C$126,'Variance Data'!$A$7:$A$126,$A21,'Variance Data'!$B$7:$B$126,$E$3)))) | C21: =IF($E$3="","",IF($E$3="All",IF(COUNTIFS('Variance Data'!$A$7:$A$126,$A21,'Variance Data'!$D$7:$D$126,"<>")=0,"",SUMIFS('Variance Data'!$D$7:$D$126,'Variance Data'!$A$7:$A$126,$A21)),IF(COUNTIFS('Variance Data'!$A$7:$A$126,$A21,'Variance Data'!$B$7:$B$126,$E$3,'Variance Data'!$D$7:$D$126,"<>")=0,"",SUMIFS('Variance Data'!$D$7:$D$126,'Variance Data'!$A$7:$A$126,$A21,'Variance Data'!$B$7:$B$126,$E$3)))) | D21: =IF(OR(B21="",C21=""),"",B21-C21)
A22: 46235 | B22: =IF($E$3="","",IF($E$3="All",IF(COUNTIFS('Variance Data'!$A$7:$A$126,$A22,'Variance Data'!$C$7:$C$126,"<>")=0,"",SUMIFS('Variance Data'!$C$7:$C$126,'Variance Data'!$A$7:$A$126,$A22)),IF(COUNTIFS('Variance Data'!$A$7:$A$126,$A22,'Variance Data'!$B$7:$B$126,$E$3,'Variance Data'!$C$7:$C$126,"<>")=0,"",SUMIFS('Variance Data'!$C$7:$C$126,'Variance Data'!$A$7:$A$126,$A22,'Variance Data'!$B$7:$B$126,$E$3)))) | C22: =IF($E$3="","",IF($E$3="All",IF(COUNTIFS('Variance Data'!$A$7:$A$126,$A22,'Variance Data'!$D$7:$D$126,"<>")=0,"",SUMIFS('Variance Data'!$D$7:$D$126,'Variance Data'!$A$7:$A$126,$A22)),IF(COUNTIFS('Variance Data'!$A$7:$A$126,$A22,'Variance Data'!$B$7:$B$126,$E$3,'Variance Data'!$D$7:$D$126,"<>")=0,"",SUMIFS('Variance Data'!$D$7:$D$126,'Variance Data'!$A$7:$A$126,$A22,'Variance Data'!$B$7:$B$126,$E$3)))) | D22: =IF(OR(B22="",C22=""),"",B22-C22)
A23: 46266 | B23: =IF($E$3="","",IF($E$3="All",IF(COUNTIFS('Variance Data'!$A$7:$A$126,$A23,'Variance Data'!$C$7:$C$126,"<>")=0,"",SUMIFS('Variance Data'!$C$7:$C$126,'Variance Data'!$A$7:$A$126,$A23)),IF(COUNTIFS('Variance Data'!$A$7:$A$126,$A23,'Variance Data'!$B$7:$B$126,$E$3,'Variance Data'!$C$7:$C$126,"<>")=0,"",SUMIFS('Variance Data'!$C$7:$C$126,'Variance Data'!$A$7:$A$126,$A23,'Variance Data'!$B$7:$B$126,$E$3)))) | C23: =IF($E$3="","",IF($E$3="All",IF(COUNTIFS('Variance Data'!$A$7:$A$126,$A23,'Variance Data'!$D$7:$D$126,"<>")=0,"",SUMIFS('Variance Data'!$D$7:$D$126,'Variance Data'!$A$7:$A$126,$A23)),IF(COUNTIFS('Variance Data'!$A$7:$A$126,$A23,'Variance Data'!$B$7:$B$126,$E$3,'Variance Data'!$D$7:$D$126,"<>")=0,"",SUMIFS('Variance Data'!$D$7:$D$126,'Variance Data'!$A$7:$A$126,$A23,'Variance Data'!$B$7:$B$126,$E$3)))) | D23: =IF(OR(B23="",C23=""),"",B23-C23)
A24: 46296 | B24: =IF($E$3="","",IF($E$3="All",IF(COUNTIFS('Variance Data'!$A$7:$A$126,$A24,'Variance Data'!$C$7:$C$126,"<>")=0,"",SUMIFS('Variance Data'!$C$7:$C$126,'Variance Data'!$A$7:$A$126,$A24)),IF(COUNTIFS('Variance Data'!$A$7:$A$126,$A24,'Variance Data'!$B$7:$B$126,$E$3,'Variance Data'!$C$7:$C$126,"<>")=0,"",SUMIFS('Variance Data'!$C$7:$C$126,'Variance Data'!$A$7:$A$126,$A24,'Variance Data'!$B$7:$B$126,$E$3)))) | C24: =IF($E$3="","",IF($E$3="All",IF(COUNTIFS('Variance Data'!$A$7:$A$126,$A24,'Variance Data'!$D$7:$D$126,"<>")=0,"",SUMIFS('Variance Data'!$D$7:$D$126,'Variance Data'!$A$7:$A$126,$A24)),IF(COUNTIFS('Variance Data'!$A$7:$A$126,$A24,'Variance Data'!$B$7:$B$126,$E$3,'Variance Data'!$D$7:$D$126,"<>")=0,"",SUMIFS('Variance Data'!$D$7:$D$126,'Variance Data'!$A$7:$A$126,$A24,'Variance Data'!$B$7:$B$126,$E$3)))) | D24: =IF(OR(B24="",C24=""),"",B24-C24)
A25: 46327 | B25: =IF($E$3="","",IF($E$3="All",IF(COUNTIFS('Variance Data'!$A$7:$A$126,$A25,'Variance Data'!$C$7:$C$126,"<>")=0,"",SUMIFS('Variance Data'!$C$7:$C$126,'Variance Data'!$A$7:$A$126,$A25)),IF(COUNTIFS('Variance Data'!$A$7:$A$126,$A25,'Variance Data'!$B$7:$B$126,$E$3,'Variance Data'!$C$7:$C$126,"<>")=0,"",SUMIFS('Variance Data'!$C$7:$C$126,'Variance Data'!$A$7:$A$126,$A25,'Variance Data'!$B$7:$B$126,$E$3)))) | C25: =IF($E$3="","",IF($E$3="All",IF(COUNTIFS('Variance Data'!$A$7:$A$126,$A25,'Variance Data'!$D$7:$D$126,"<>")=0,"",SUMIFS('Variance Data'!$D$7:$D$126,'Variance Data'!$A$7:$A$126,$A25)),IF(COUNTIFS('Variance Data'!$A$7:$A$126,$A25,'Variance Data'!$B$7:$B$126,$E$3,'Variance Data'!$D$7:$D$126,"<>")=0,"",SUMIFS('Variance Data'!$D$7:$D$126,'Variance Data'!$A$7:$A$126,$A25,'Variance Data'!$B$7:$B$126,$E$3)))) | D25: =IF(OR(B25="",C25=""),"",B25-C25)
A26: 46357 | B26: =IF($E$3="","",IF($E$3="All",IF(COUNTIFS('Variance Data'!$A$7:$A$126,$A26,'Variance Data'!$C$7:$C$126,"<>")=0,"",SUMIFS('Variance Data'!$C$7:$C$126,'Variance Data'!$A$7:$A$126,$A26)),IF(COUNTIFS('Variance Data'!$A$7:$A$126,$A26,'Variance Data'!$B$7:$B$126,$E$3,'Variance Data'!$C$7:$C$126,"<>")=0,"",SUMIFS('Variance Data'!$C$7:$C$126,'Variance Data'!$A$7:$A$126,$A26,'Variance Data'!$B$7:$B$126,$E$3)))) | C26: =IF($E$3="","",IF($E$3="All",IF(COUNTIFS('Variance Data'!$A$7:$A$126,$A26,'Variance Data'!$D$7:$D$126,"<>")=0,"",SUMIFS('Variance Data'!$D$7:$D$126,'Variance Data'!$A$7:$A$126,$A26)),IF(COUNTIFS('Variance Data'!$A$7:$A$126,$A26,'Variance Data'!$B$7:$B$126,$E$3,'Variance Data'!$D$7:$D$126,"<>")=0,"",SUMIFS('Variance Data'!$D$7:$D$126,'Variance Data'!$A$7:$A$126,$A26,'Variance Data'!$B$7:$B$126,$E$3)))) | D26: =IF(OR(B26="",C26=""),"",B26-C26)
F28: Cost Centers for Selected Month
F29: Cost Center | G29: Budget | H29: Actual | I29: Variance
F30: =Assumptions!A6 | G30: =IF(OR($B$3="",F30=""),"",IF(COUNTIFS('Variance Data'!$A$7:$A$126,$B$3,'Variance Data'!$B$7:$B$126,F30,'Variance Data'!$C$7:$C$126,"<>")=0,"",SUMIFS('Variance Data'!$C$7:$C$126,'Variance Data'!$A$7:$A$126,$B$3,'Variance Data'!$B$7:$B$126,F30))) | H30: =IF(OR($B$3="",F30=""),"",IF(COUNTIFS('Variance Data'!$A$7:$A$126,$B$3,'Variance Data'!$B$7:$B$126,F30,'Variance Data'!$D$7:$D$126,"<>")=0,"",SUMIFS('Variance Data'!$D$7:$D$126,'Variance Data'!$A$7:$A$126,$B$3,'Variance Data'!$B$7:$B$126,F30))) | I30: =IF(OR(G30="",H30=""),"",G30-H30)
F31: =Assumptions!A7 | G31: =IF(OR($B$3="",F31=""),"",IF(COUNTIFS('Variance Data'!$A$7:$A$126,$B$3,'Variance Data'!$B$7:$B$126,F31,'Variance Data'!$C$7:$C$126,"<>")=0,"",SUMIFS('Variance Data'!$C$7:$C$126,'Variance Data'!$A$7:$A$126,$B$3,'Variance Data'!$B$7:$B$126,F31))) | H31: =IF(OR($B$3="",F31=""),"",IF(COUNTIFS('Variance Data'!$A$7:$A$126,$B$3,'Variance Data'!$B$7:$B$126,F31,'Variance Data'!$D$7:$D$126,"<>")=0,"",SUMIFS('Variance Data'!$D$7:$D$126,'Variance Data'!$A$7:$A$126,$B$3,'Variance Data'!$B$7:$B$126,F31))) | I31: =IF(OR(G31="",H31=""),"",G31-H31)
F32: =Assumptions!A8 | G32: =IF(OR($B$3="",F32=""),"",IF(COUNTIFS('Variance Data'!$A$7:$A$126,$B$3,'Variance Data'!$B$7:$B$126,F32,'Variance Data'!$C$7:$C$126,"<>")=0,"",SUMIFS('Variance Data'!$C$7:$C$126,'Variance Data'!$A$7:$A$126,$B$3,'Variance Data'!$B$7:$B$126,F32))) | H32: =IF(OR($B$3="",F32=""),"",IF(COUNTIFS('Variance Data'!$A$7:$A$126,$B$3,'Variance Data'!$B$7:$B$126,F32,'Variance Data'!$D$7:$D$126,"<>")=0,"",SUMIFS('Variance Data'!$D$7:$D$126,'Variance Data'!$A$7:$A$126,$B$3,'Variance Data'!$B$7:$B$126,F32))) | I32: =IF(OR(G32="",H32=""),"",G32-H32)
F33: =Assumptions!A9 | G33: =IF(OR($B$3="",F33=""),"",IF(COUNTIFS('Variance Data'!$A$7:$A$126,$B$3,'Variance Data'!$B$7:$B$126,F33,'Variance Data'!$C$7:$C$126,"<>")=0,"",SUMIFS('Variance Data'!$C$7:$C$126,'Variance Data'!$A$7:$A$126,$B$3,'Variance Data'!$B$7:$B$126,F33))) | H33: =IF(OR($B$3="",F33=""),"",IF(COUNTIFS('Variance Data'!$A$7:$A$126,$B$3,'Variance Data'!$B$7:$B$126,F33,'Variance Data'!$D$7:$D$126,"<>")=0,"",SUMIFS('Variance Data'!$D$7:$D$126,'Variance Data'!$A$7:$A$126,$B$3,'Variance Data'!$B$7:$B$126,F33))) | I33: =IF(OR(G33="",H33=""),"",G33-H33)
F34: =Assumptions!A10 | G34: =IF(OR($B$3="",F34=""),"",IF(COUNTIFS('Variance Data'!$A$7:$A$126,$B$3,'Variance Data'!$B$7:$B$126,F34,'Variance Data'!$C$7:$C$126,"<>")=0,"",SUMIFS('Variance Data'!$C$7:$C$126,'Variance Data'!$A$7:$A$126,$B$3,'Variance Data'!$B$7:$B$126,F34))) | H34: =IF(OR($B$3="",F34=""),"",IF(COUNTIFS('Variance Data'!$A$7:$A$126,$B$3,'Variance Data'!$B$7:$B$126,F34,'Variance Data'!$D$7:$D$126,"<>")=0,"",SUMIFS('Variance Data'!$D$7:$D$126,'Variance Data'!$A$7:$A$126,$B$3,'Variance Data'!$B$7:$B$126,F34))) | I34: =IF(OR(G34="",H34=""),"",G34-H34)
F35: =Assumptions!A11 | G35: =IF(OR($B$3="",F35=""),"",IF(COUNTIFS('Variance Data'!$A$7:$A$126,$B$3,'Variance Data'!$B$7:$B$126,F35,'Variance Data'!$C$7:$C$126,"<>")=0,"",SUMIFS('Variance Data'!$C$7:$C$126,'Variance Data'!$A$7:$A$126,$B$3,'Variance Data'!$B$7:$B$126,F35))) | H35: =IF(OR($B$3="",F35=""),"",IF(COUNTIFS('Variance Data'!$A$7:$A$126,$B$3,'Variance Data'!$B$7:$B$126,F35,'Variance Data'!$D$7:$D$126,"<>")=0,"",SUMIFS('Variance Data'!$D$7:$D$126,'Variance Data'!$A$7:$A$126,$B$3,'Variance Data'!$B$7:$B$126,F35))) | I35: =IF(OR(G35="",H35=""),"",G35-H35)

Sheet Variance Data
A1: Monthly Budget and Actual Entries
A2: Yellow cells are editable. Formula columns calculate variance and prompt a human check. All sample transactions are fictional.
A4: Enter one or more monthly records for each cost center. Amounts may be revised as records are reviewed.
A6: Month Start | B6: Cost Center | C6: Budget Amount | D6: Actual Amount | E6: Variance | F6: Variance % | G6: Review Status | H6: Variance Check | I6: Notes
A7: 46023 | B7: Maintenance | C7: 9000 | D7: 8700 | E7: =IF(OR(C7="",D7=""),"",C7-D7) | F7: =IFERROR(E7/C7,"") | G7: Reviewed | H7: =IF(OR(F7="",Assumptions!$G$5=""),"",IF(ABS(F7)>Assumptions!$G$5,"Check variance","Within entered limit")) | I7: Fictional January routine grounds work.
A8: 46023 | B8: Equipment | C8: 2500 | D8: 2750 | E8: =IF(OR(C8="",D8=""),"",C8-D8) | F8: =IFERROR(E8/C8,"") | G8: Reviewed | H8: =IF(OR(F8="",Assumptions!$G$5=""),"",IF(ABS(F8)>Assumptions!$G$5,"Check variance","Within entered limit")) | I8: Fictional equipment service; exact 10% boundary test.
A9: 46054 | B9: Maintenance | C9: 9200 | D9: 9550 | E9: =IF(OR(C9="",D9=""),"",C9-D9) | F9: =IFERROR(E9/C9,"") | G9: Reviewed | H9: =IF(OR(F9="",Assumptions!$G$5=""),"",IF(ABS(F9)>Assumptions!$G$5,"Check variance","Within entered limit")) | I9: Fictional February recurring service costs.
A10: 46054 | B10: Overhead | C10: 1800 | D10: 1700 | E10: =IF(OR(C10="",D10=""),"",C10-D10) | F10: =IFERROR(E10/C10,"") | G10: Entered | H10: =IF(OR(F10="",Assumptions!$G$5=""),"",IF(ABS(F10)>Assumptions!$G$5,"Check variance","Within entered limit")) | I10: Fictional field office and scheduling costs.
A11: 46082 | B11: Maintenance | C11: 9800 | D11: 9100 | E11: =IF(OR(C11="",D11=""),"",C11-D11) | F11: =IFERROR(E11/C11,"") | G11: Reviewed | H11: =IF(OR(F11="",Assumptions!$G$5=""),"",IF(ABS(F11)>Assumptions!$G$5,"Check variance","Within entered limit")) | I11: Fictional March routine grounds work.
A12: 46082 | B12: Irrigation | C12: 3000 | D12: 3450 | E12: =IF(OR(C12="",D12=""),"",C12-D12) | F12: =IFERROR(E12/C12,"") | G12: Needs Check | H12: =IF(OR(F12="",Assumptions!$G$5=""),"",IF(ABS(F12)>Assumptions!$G$5,"Check variance","Within entered limit")) | I12: Fictional irrigation repair costs for review.
A13: 46113 | B13: Maintenance | C13: 10500 | D13: 10300 | E13: =IF(OR(C13="",D13=""),"",C13-D13) | F13: =IFERROR(E13/C13,"") | G13: Reviewed | H13: =IF(OR(F13="",Assumptions!$G$5=""),"",IF(ABS(F13)>Assumptions!$G$5,"Check variance","Within entered limit")) | I13: Fictional April recurring service costs.
A14: 46113 | B14: Enhancements | C14: 5500 | D14: 6150 | E14: =IF(OR(C14="",D14=""),"",C14-D14) | F14: =IFERROR(E14/C14,"") | G14: Needs Check | H14: =IF(OR(F14="",Assumptions!$G$5=""),"",IF(ABS(F14)>Assumptions!$G$5,"Check variance","Within entered limit")) | I14: Fictional seasonal enhancement costs for review.
A15: 46143 | B15: Maintenance | C15: 11200 | D15: 10900 | E15: =IF(OR(C15="",D15=""),"",C15-D15) | F15: =IFERROR(E15/C15,"") | G15: Entered | H15: =IF(OR(F15="",Assumptions!$G$5=""),"",IF(ABS(F15)>Assumptions!$G$5,"Check variance","Within entered limit")) | I15: Fictional May routine grounds work.
A16: 46143 | B16: Tree Care | C16: 4200 | D16: 4650 | E16: =IF(OR(C16="",D16=""),"",C16-D16) | F16: =IFERROR(E16/C16,"") | G16: Needs Check | H16: =IF(OR(F16="",Assumptions!$G$5=""),"",IF(ABS(F16)>Assumptions!$G$5,"Check variance","Within entered limit")) | I16: Fictional tree care costs for human review.
E17: =IF(OR(C17="",D17=""),"",C17-D17) | F17: =IFERROR(E17/C17,"") | H17: =IF(OR(F17="",Assumptions!$G$5=""),"",IF(ABS(F17)>Assumptions!$G$5,"Check variance","Within entered limit"))
E18: =IF(OR(C18="",D18=""),"",C18-D18) | F18: =IFERROR(E18/C18,"") | H18: =IF(OR(F18="",Assumptions!$G$5=""),"",IF(ABS(F18)>Assumptions!$G$5,"Check variance","Within entered limit"))
E19: =IF(OR(C19="",D19=""),"",C19-D19) | F19: =IFERROR(E19/C19,"") | H19: =IF(OR(F19="",Assumptions!$G$5=""),"",IF(ABS(F19)>Assumptions!$G$5,"Check variance","Within entered limit"))
E20: =IF(OR(C20="",D20=""),"",C20-D20) | F20: =IFERROR(E20/C20,"") | H20: =IF(OR(F20="",Assumptions!$G$5=""),"",IF(ABS(F20)>Assumptions!$G$5,"Check variance","Within entered limit"))
E21: =IF(OR(C21="",D21=""),"",C21-D21) | F21: =IFERROR(E21/C21,"") | H21: =IF(OR(F21="",Assumptions!$G$5=""),"",IF(ABS(F21)>Assumptions!$G$5,"Check variance","Within entered limit"))
E22: =IF(OR(C22="",D22=""),"",C22-D22) | F22: =IFERROR(E22/C22,"") | H22: =IF(OR(F22="",Assumptions!$G$5=""),"",IF(ABS(F22)>Assumptions!$G$5,"Check variance","Within entered limit"))
E23: =IF(OR(C23="",D23=""),"",C23-D23) | F23: =IFERROR(E23/C23,"") | H23: =IF(OR(F23="",Assumptions!$G$5=""),"",IF(ABS(F23)>Assumptions!$G$5,"Check variance","Within entered limit"))
E24: =IF(OR(C24="",D24=""),"",C24-D24) | F24: =IFERROR(E24/C24,"") | H24: =IF(OR(F24="",Assumptions!$G$5=""),"",IF(ABS(F24)>Assumptions!$G$5,"Check variance","Within entered limit"))
E25: =IF(OR(C25="",D25=""),"",C25-D25) | F25: =IFERROR(E25/C25,"") | H25: =IF(OR(F25="",Assumptions!$G$5=""),"",IF(ABS(F25)>Assumptions!$G$5,"Check variance","Within entered limit"))
E26: =IF(OR(C26="",D26=""),"",C26-D26) | F26: =IFERROR(E26/C26,"") | H26: =IF(OR(F26="",Assumptions!$G$5=""),"",IF(ABS(F26)>Assumptions!$G$5,"Check variance","Within entered limit"))
E27: =IF(OR(C27="",D27=""),"",C27-D27) | F27: =IFERROR(E27/C27,"") | H27: =IF(OR(F27="",Assumptions!$G$5=""),"",IF(ABS(F27)>Assumptions!$G$5,"Check variance","Within entered limit"))
E28: =IF(OR(C28="",D28=""),"",C28-D28) | F28: =IFERROR(E28/C28,"") | H28: =IF(OR(F28="",Assumptions!$G$5=""),"",IF(ABS(F28)>Assumptions!$G$5,"Check variance","Within entered limit"))
... E126: =IF(OR(C126="",D126=""),"",C126-D126) | F126: =IFERROR(E126/C126,"") | H126: =IF(OR(F126="",Assumptions!$G$5=""),"",IF(ABS(F126)>Assumptions!$G$5,"Check variance","Within entered limit"))

Sheet Assumptions
A1: Editable Dashboard Assumptions
A2: Edit the yellow lists and variance check limit as operating needs change. Blank prepared rows allow additional choices.
A4: Cost Centers | B4: Review Statuses | C4: Month Starts | G4: Variance Check Limit
A5: All | B5: Entered | C5: 45658 | G5: 0.1
A6: Maintenance | B6: Reviewed | C6: 45689 | G6: Rows over this entered percentage prompt a human variance check.
A7: Enhancements | B7: Needs Check | C7: 45717
A8: Irrigation | C8: 45748
A9: Tree Care | C9: 45778
A10: Equipment | C10: 45809
A11: Overhead | C11: 45839
C12: 45870
C13: 45901
C14: 45931
C15: 45962
C16: 45992
C17: 46023
C18: 46054
C19: 46082
C20: 46113
C21: 46143
C22: 46174
C23: 46204
... C52: 47088
