Workbook

Sheet Summary
A1: Fictional Copper Acorn Landscaping — Landscaping Fuel Budget Worksheet
A2: Budget and actual indicators use the editable reporting period and equipment class assumptions.
A3: Reporting start date | B3: =IF(Assumptions!$B$3="","",Assumptions!$B$3) | D3: Actual gallons | E3: =IF(OR($B$3="",$B$4="",$B$4<$B$3),"",SUMIFS('Fuel Log'!$F$5:$F$104,'Fuel Log'!$A$5:$A$104,">="&$B$3,'Fuel Log'!$A$5:$A$104,"<="&$B$4,'Fuel Log'!$L$5:$L$104,"Recorded")+SUMIFS('Fuel Log'!$F$5:$F$104,'Fuel Log'!$A$5:$A$104,">="&$B$3,'Fuel Log'!$A$5:$A$104,"<="&$B$4,'Fuel Log'!$L$5:$L$104,"Reviewed"))
A4: Reporting end date | B4: =IF(Assumptions!$B$4="","",Assumptions!$B$4) | D4: Budget gallons | E4: =IF(OR($B$5="",Assumptions!$B$5=""),"",IFERROR(SUMPRODUCT(--(Assumptions!$A$8:$A$107<>""),Assumptions!$C$8:$C$107)*$B$5/Assumptions!$B$5,""))
A5: Reporting period days | B5: =IF(OR($B$3="",$B$4="",$B$4<$B$3),"",$B$4-$B$3+1) | D5: Gallon variance | E5: =IF(OR($E$3="",$E$4=""),"",IFERROR($E$3-$E$4,""))
A8: Average actual cost per gallon | B8: =IF(OR($E$3="",$B$10=""),"",IFERROR($B$10/$E$3,"")) | D8: Included transactions | E8: =IF(OR($B$3="",$B$4="",$B$4<$B$3),"",COUNTIFS('Fuel Log'!$A$5:$A$104,">="&$B$3,'Fuel Log'!$A$5:$A$104,"<="&$B$4,'Fuel Log'!$L$5:$L$104,"Recorded")+COUNTIFS('Fuel Log'!$A$5:$A$104,">="&$B$3,'Fuel Log'!$A$5:$A$104,"<="&$B$4,'Fuel Log'!$L$5:$L$104,"Reviewed"))
A9: Unmatched class entries | B9: =IF(OR($B$3="",$B$4="",$B$4<$B$3),"",COUNTIFS('Fuel Log'!$A$5:$A$104,">="&$B$3,'Fuel Log'!$A$5:$A$104,"<="&$B$4,'Fuel Log'!$C$5:$C$104,"<>",'Fuel Log'!$I$5:$I$104,"",'Fuel Log'!$L$5:$L$104,"Recorded")+COUNTIFS('Fuel Log'!$A$5:$A$104,">="&$B$3,'Fuel Log'!$A$5:$A$104,"<="&$B$4,'Fuel Log'!$C$5:$C$104,"<>",'Fuel Log'!$I$5:$I$104,"",'Fuel Log'!$L$5:$L$104,"Reviewed")) | D9: Recorded entries to review | E9: =IF(OR($B$3="",$B$4="",$B$4<$B$3),"",COUNTIFS('Fuel Log'!$A$5:$A$104,">="&$B$3,'Fuel Log'!$A$5:$A$104,"<="&$B$4,'Fuel Log'!$L$5:$L$104,"Recorded"))
A10: Actual fuel cost | B10: =IF(OR($B$3="",$B$4="",$B$4<$B$3),"",SUMIFS('Fuel Log'!$H$5:$H$104,'Fuel Log'!$A$5:$A$104,">="&$B$3,'Fuel Log'!$A$5:$A$104,"<="&$B$4,'Fuel Log'!$L$5:$L$104,"Recorded")+SUMIFS('Fuel Log'!$H$5:$H$104,'Fuel Log'!$A$5:$A$104,">="&$B$3,'Fuel Log'!$A$5:$A$104,"<="&$B$4,'Fuel Log'!$L$5:$L$104,"Reviewed")) | D10: Budget fuel cost | E10: =IF(OR($B$5="",Assumptions!$B$5=""),"",IFERROR(SUMPRODUCT(--(Assumptions!$A$8:$A$107<>""),Assumptions!$C$8:$C$107,Assumptions!$D$8:$D$107)*$B$5/Assumptions!$B$5,""))
D11: Cost variance | E11: =IF(OR($B$10="",$E$10=""),"",IFERROR($B$10-$E$10,""))
A13: Equipment Class | B13: Monthly Budget Gallons | C13: Period Budget Gallons | D13: Actual Gallons | E13: Gallon Variance | F13: Budget Cost | G13: Actual Cost | H13: Cost Variance | J13: Class | K13: Budget Cost | L13: Actual Cost
A14: =IF(Assumptions!$A$8="","",Assumptions!$A$8) | B14: =IF($A14="","",IFERROR(VLOOKUP($A14,Assumptions!$A$8:$D$107,3,FALSE),"")) | C14: =IF(OR($A14="",$B$5="",$B14="",Assumptions!$B$5=""),"",IFERROR($B14*$B$5/Assumptions!$B$5,"")) | D14: =IF(OR($A14="",$B$3="",$B$4="",$B$4<$B$3),"",SUMIFS('Fuel Log'!$F$5:$F$104,'Fuel Log'!$A$5:$A$104,">="&$B$3,'Fuel Log'!$A$5:$A$104,"<="&$B$4,'Fuel Log'!$C$5:$C$104,$A14,'Fuel Log'!$L$5:$L$104,"Recorded")+SUMIFS('Fuel Log'!$F$5:$F$104,'Fuel Log'!$A$5:$A$104,">="&$B$3,'Fuel Log'!$A$5:$A$104,"<="&$B$4,'Fuel Log'!$C$5:$C$104,$A14,'Fuel Log'!$L$5:$L$104,"Reviewed")) | E14: =IF(OR($C14="",$D14=""),"",IFERROR($D14-$C14,"")) | F14: =IF(OR($A14="",$C14=""),"",IFERROR($C14*VLOOKUP($A14,Assumptions!$A$8:$D$107,4,FALSE),"")) | G14: =IF(OR($A14="",$B$3="",$B$4="",$B$4<$B$3),"",SUMIFS('Fuel Log'!$H$5:$H$104,'Fuel Log'!$A$5:$A$104,">="&$B$3,'Fuel Log'!$A$5:$A$104,"<="&$B$4,'Fuel Log'!$C$5:$C$104,$A14,'Fuel Log'!$L$5:$L$104,"Recorded")+SUMIFS('Fuel Log'!$H$5:$H$104,'Fuel Log'!$A$5:$A$104,">="&$B$3,'Fuel Log'!$A$5:$A$104,"<="&$B$4,'Fuel Log'!$C$5:$C$104,$A14,'Fuel Log'!$L$5:$L$104,"Reviewed")) | H14: =IF(OR($F14="",$G14=""),"",IFERROR($G14-$F14,"")) | J14: =IF($A14="","",$A14) | K14: =IF(OR($A14="",$F14=""),NA(),$F14) | L14: =IF(OR($A14="",$G14=""),NA(),$G14)
A15: =IF(Assumptions!$A$9="","",Assumptions!$A$9) | B15: =IF($A15="","",IFERROR(VLOOKUP($A15,Assumptions!$A$8:$D$107,3,FALSE),"")) | C15: =IF(OR($A15="",$B$5="",$B15="",Assumptions!$B$5=""),"",IFERROR($B15*$B$5/Assumptions!$B$5,"")) | D15: =IF(OR($A15="",$B$3="",$B$4="",$B$4<$B$3),"",SUMIFS('Fuel Log'!$F$5:$F$104,'Fuel Log'!$A$5:$A$104,">="&$B$3,'Fuel Log'!$A$5:$A$104,"<="&$B$4,'Fuel Log'!$C$5:$C$104,$A15,'Fuel Log'!$L$5:$L$104,"Recorded")+SUMIFS('Fuel Log'!$F$5:$F$104,'Fuel Log'!$A$5:$A$104,">="&$B$3,'Fuel Log'!$A$5:$A$104,"<="&$B$4,'Fuel Log'!$C$5:$C$104,$A15,'Fuel Log'!$L$5:$L$104,"Reviewed")) | E15: =IF(OR($C15="",$D15=""),"",IFERROR($D15-$C15,"")) | F15: =IF(OR($A15="",$C15=""),"",IFERROR($C15*VLOOKUP($A15,Assumptions!$A$8:$D$107,4,FALSE),"")) | G15: =IF(OR($A15="",$B$3="",$B$4="",$B$4<$B$3),"",SUMIFS('Fuel Log'!$H$5:$H$104,'Fuel Log'!$A$5:$A$104,">="&$B$3,'Fuel Log'!$A$5:$A$104,"<="&$B$4,'Fuel Log'!$C$5:$C$104,$A15,'Fuel Log'!$L$5:$L$104,"Recorded")+SUMIFS('Fuel Log'!$H$5:$H$104,'Fuel Log'!$A$5:$A$104,">="&$B$3,'Fuel Log'!$A$5:$A$104,"<="&$B$4,'Fuel Log'!$C$5:$C$104,$A15,'Fuel Log'!$L$5:$L$104,"Reviewed")) | H15: =IF(OR($F15="",$G15=""),"",IFERROR($G15-$F15,"")) | J15: =IF($A15="","",$A15) | K15: =IF(OR($A15="",$F15=""),NA(),$F15) | L15: =IF(OR($A15="",$G15=""),NA(),$G15)
A16: =IF(Assumptions!$A$10="","",Assumptions!$A$10) | B16: =IF($A16="","",IFERROR(VLOOKUP($A16,Assumptions!$A$8:$D$107,3,FALSE),"")) | C16: =IF(OR($A16="",$B$5="",$B16="",Assumptions!$B$5=""),"",IFERROR($B16*$B$5/Assumptions!$B$5,"")) | D16: =IF(OR($A16="",$B$3="",$B$4="",$B$4<$B$3),"",SUMIFS('Fuel Log'!$F$5:$F$104,'Fuel Log'!$A$5:$A$104,">="&$B$3,'Fuel Log'!$A$5:$A$104,"<="&$B$4,'Fuel Log'!$C$5:$C$104,$A16,'Fuel Log'!$L$5:$L$104,"Recorded")+SUMIFS('Fuel Log'!$F$5:$F$104,'Fuel Log'!$A$5:$A$104,">="&$B$3,'Fuel Log'!$A$5:$A$104,"<="&$B$4,'Fuel Log'!$C$5:$C$104,$A16,'Fuel Log'!$L$5:$L$104,"Reviewed")) | E16: =IF(OR($C16="",$D16=""),"",IFERROR($D16-$C16,"")) | F16: =IF(OR($A16="",$C16=""),"",IFERROR($C16*VLOOKUP($A16,Assumptions!$A$8:$D$107,4,FALSE),"")) | G16: =IF(OR($A16="",$B$3="",$B$4="",$B$4<$B$3),"",SUMIFS('Fuel Log'!$H$5:$H$104,'Fuel Log'!$A$5:$A$104,">="&$B$3,'Fuel Log'!$A$5:$A$104,"<="&$B$4,'Fuel Log'!$C$5:$C$104,$A16,'Fuel Log'!$L$5:$L$104,"Recorded")+SUMIFS('Fuel Log'!$H$5:$H$104,'Fuel Log'!$A$5:$A$104,">="&$B$3,'Fuel Log'!$A$5:$A$104,"<="&$B$4,'Fuel Log'!$C$5:$C$104,$A16,'Fuel Log'!$L$5:$L$104,"Reviewed")) | H16: =IF(OR($F16="",$G16=""),"",IFERROR($G16-$F16,"")) | J16: =IF($A16="","",$A16) | K16: =IF(OR($A16="",$F16=""),NA(),$F16) | L16: =IF(OR($A16="",$G16=""),NA(),$G16)
A17: =IF(Assumptions!$A$11="","",Assumptions!$A$11) | B17: =IF($A17="","",IFERROR(VLOOKUP($A17,Assumptions!$A$8:$D$107,3,FALSE),"")) | C17: =IF(OR($A17="",$B$5="",$B17="",Assumptions!$B$5=""),"",IFERROR($B17*$B$5/Assumptions!$B$5,"")) | D17: =IF(OR($A17="",$B$3="",$B$4="",$B$4<$B$3),"",SUMIFS('Fuel Log'!$F$5:$F$104,'Fuel Log'!$A$5:$A$104,">="&$B$3,'Fuel Log'!$A$5:$A$104,"<="&$B$4,'Fuel Log'!$C$5:$C$104,$A17,'Fuel Log'!$L$5:$L$104,"Recorded")+SUMIFS('Fuel Log'!$F$5:$F$104,'Fuel Log'!$A$5:$A$104,">="&$B$3,'Fuel Log'!$A$5:$A$104,"<="&$B$4,'Fuel Log'!$C$5:$C$104,$A17,'Fuel Log'!$L$5:$L$104,"Reviewed")) | E17: =IF(OR($C17="",$D17=""),"",IFERROR($D17-$C17,"")) | F17: =IF(OR($A17="",$C17=""),"",IFERROR($C17*VLOOKUP($A17,Assumptions!$A$8:$D$107,4,FALSE),"")) | G17: =IF(OR($A17="",$B$3="",$B$4="",$B$4<$B$3),"",SUMIFS('Fuel Log'!$H$5:$H$104,'Fuel Log'!$A$5:$A$104,">="&$B$3,'Fuel Log'!$A$5:$A$104,"<="&$B$4,'Fuel Log'!$C$5:$C$104,$A17,'Fuel Log'!$L$5:$L$104,"Recorded")+SUMIFS('Fuel Log'!$H$5:$H$104,'Fuel Log'!$A$5:$A$104,">="&$B$3,'Fuel Log'!$A$5:$A$104,"<="&$B$4,'Fuel Log'!$C$5:$C$104,$A17,'Fuel Log'!$L$5:$L$104,"Reviewed")) | H17: =IF(OR($F17="",$G17=""),"",IFERROR($G17-$F17,"")) | J17: =IF($A17="","",$A17) | K17: =IF(OR($A17="",$F17=""),NA(),$F17) | L17: =IF(OR($A17="",$G17=""),NA(),$G17)
A18: =IF(Assumptions!$A$12="","",Assumptions!$A$12) | B18: =IF($A18="","",IFERROR(VLOOKUP($A18,Assumptions!$A$8:$D$107,3,FALSE),"")) | C18: =IF(OR($A18="",$B$5="",$B18="",Assumptions!$B$5=""),"",IFERROR($B18*$B$5/Assumptions!$B$5,"")) | D18: =IF(OR($A18="",$B$3="",$B$4="",$B$4<$B$3),"",SUMIFS('Fuel Log'!$F$5:$F$104,'Fuel Log'!$A$5:$A$104,">="&$B$3,'Fuel Log'!$A$5:$A$104,"<="&$B$4,'Fuel Log'!$C$5:$C$104,$A18,'Fuel Log'!$L$5:$L$104,"Recorded")+SUMIFS('Fuel Log'!$F$5:$F$104,'Fuel Log'!$A$5:$A$104,">="&$B$3,'Fuel Log'!$A$5:$A$104,"<="&$B$4,'Fuel Log'!$C$5:$C$104,$A18,'Fuel Log'!$L$5:$L$104,"Reviewed")) | E18: =IF(OR($C18="",$D18=""),"",IFERROR($D18-$C18,"")) | F18: =IF(OR($A18="",$C18=""),"",IFERROR($C18*VLOOKUP($A18,Assumptions!$A$8:$D$107,4,FALSE),"")) | G18: =IF(OR($A18="",$B$3="",$B$4="",$B$4<$B$3),"",SUMIFS('Fuel Log'!$H$5:$H$104,'Fuel Log'!$A$5:$A$104,">="&$B$3,'Fuel Log'!$A$5:$A$104,"<="&$B$4,'Fuel Log'!$C$5:$C$104,$A18,'Fuel Log'!$L$5:$L$104,"Recorded")+SUMIFS('Fuel Log'!$H$5:$H$104,'Fuel Log'!$A$5:$A$104,">="&$B$3,'Fuel Log'!$A$5:$A$104,"<="&$B$4,'Fuel Log'!$C$5:$C$104,$A18,'Fuel Log'!$L$5:$L$104,"Reviewed")) | H18: =IF(OR($F18="",$G18=""),"",IFERROR($G18-$F18,"")) | J18: =IF($A18="","",$A18) | K18: =IF(OR($A18="",$F18=""),NA(),$F18) | L18: =IF(OR($A18="",$G18=""),NA(),$G18)
A19: =IF(Assumptions!$A$13="","",Assumptions!$A$13) | B19: =IF($A19="","",IFERROR(VLOOKUP($A19,Assumptions!$A$8:$D$107,3,FALSE),"")) | C19: =IF(OR($A19="",$B$5="",$B19="",Assumptions!$B$5=""),"",IFERROR($B19*$B$5/Assumptions!$B$5,"")) | D19: =IF(OR($A19="",$B$3="",$B$4="",$B$4<$B$3),"",SUMIFS('Fuel Log'!$F$5:$F$104,'Fuel Log'!$A$5:$A$104,">="&$B$3,'Fuel Log'!$A$5:$A$104,"<="&$B$4,'Fuel Log'!$C$5:$C$104,$A19,'Fuel Log'!$L$5:$L$104,"Recorded")+SUMIFS('Fuel Log'!$F$5:$F$104,'Fuel Log'!$A$5:$A$104,">="&$B$3,'Fuel Log'!$A$5:$A$104,"<="&$B$4,'Fuel Log'!$C$5:$C$104,$A19,'Fuel Log'!$L$5:$L$104,"Reviewed")) | E19: =IF(OR($C19="",$D19=""),"",IFERROR($D19-$C19,"")) | F19: =IF(OR($A19="",$C19=""),"",IFERROR($C19*VLOOKUP($A19,Assumptions!$A$8:$D$107,4,FALSE),"")) | G19: =IF(OR($A19="",$B$3="",$B$4="",$B$4<$B$3),"",SUMIFS('Fuel Log'!$H$5:$H$104,'Fuel Log'!$A$5:$A$104,">="&$B$3,'Fuel Log'!$A$5:$A$104,"<="&$B$4,'Fuel Log'!$C$5:$C$104,$A19,'Fuel Log'!$L$5:$L$104,"Recorded")+SUMIFS('Fuel Log'!$H$5:$H$104,'Fuel Log'!$A$5:$A$104,">="&$B$3,'Fuel Log'!$A$5:$A$104,"<="&$B$4,'Fuel Log'!$C$5:$C$104,$A19,'Fuel Log'!$L$5:$L$104,"Reviewed")) | H19: =IF(OR($F19="",$G19=""),"",IFERROR($G19-$F19,"")) | J19: =IF($A19="","",$A19) | K19: =IF(OR($A19="",$F19=""),NA(),$F19) | L19: =IF(OR($A19="",$G19=""),NA(),$G19)
A20: =IF(Assumptions!$A$14="","",Assumptions!$A$14) | B20: =IF($A20="","",IFERROR(VLOOKUP($A20,Assumptions!$A$8:$D$107,3,FALSE),"")) | C20: =IF(OR($A20="",$B$5="",$B20="",Assumptions!$B$5=""),"",IFERROR($B20*$B$5/Assumptions!$B$5,"")) | D20: =IF(OR($A20="",$B$3="",$B$4="",$B$4<$B$3),"",SUMIFS('Fuel Log'!$F$5:$F$104,'Fuel Log'!$A$5:$A$104,">="&$B$3,'Fuel Log'!$A$5:$A$104,"<="&$B$4,'Fuel Log'!$C$5:$C$104,$A20,'Fuel Log'!$L$5:$L$104,"Recorded")+SUMIFS('Fuel Log'!$F$5:$F$104,'Fuel Log'!$A$5:$A$104,">="&$B$3,'Fuel Log'!$A$5:$A$104,"<="&$B$4,'Fuel Log'!$C$5:$C$104,$A20,'Fuel Log'!$L$5:$L$104,"Reviewed")) | E20: =IF(OR($C20="",$D20=""),"",IFERROR($D20-$C20,"")) | F20: =IF(OR($A20="",$C20=""),"",IFERROR($C20*VLOOKUP($A20,Assumptions!$A$8:$D$107,4,FALSE),"")) | G20: =IF(OR($A20="",$B$3="",$B$4="",$B$4<$B$3),"",SUMIFS('Fuel Log'!$H$5:$H$104,'Fuel Log'!$A$5:$A$104,">="&$B$3,'Fuel Log'!$A$5:$A$104,"<="&$B$4,'Fuel Log'!$C$5:$C$104,$A20,'Fuel Log'!$L$5:$L$104,"Recorded")+SUMIFS('Fuel Log'!$H$5:$H$104,'Fuel Log'!$A$5:$A$104,">="&$B$3,'Fuel Log'!$A$5:$A$104,"<="&$B$4,'Fuel Log'!$C$5:$C$104,$A20,'Fuel Log'!$L$5:$L$104,"Reviewed")) | H20: =IF(OR($F20="",$G20=""),"",IFERROR($G20-$F20,"")) | J20: =IF($A20="","",$A20) | K20: =IF(OR($A20="",$F20=""),NA(),$F20) | L20: =IF(OR($A20="",$G20=""),NA(),$G20)
A21: =IF(Assumptions!$A$15="","",Assumptions!$A$15) | B21: =IF($A21="","",IFERROR(VLOOKUP($A21,Assumptions!$A$8:$D$107,3,FALSE),"")) | C21: =IF(OR($A21="",$B$5="",$B21="",Assumptions!$B$5=""),"",IFERROR($B21*$B$5/Assumptions!$B$5,"")) | D21: =IF(OR($A21="",$B$3="",$B$4="",$B$4<$B$3),"",SUMIFS('Fuel Log'!$F$5:$F$104,'Fuel Log'!$A$5:$A$104,">="&$B$3,'Fuel Log'!$A$5:$A$104,"<="&$B$4,'Fuel Log'!$C$5:$C$104,$A21,'Fuel Log'!$L$5:$L$104,"Recorded")+SUMIFS('Fuel Log'!$F$5:$F$104,'Fuel Log'!$A$5:$A$104,">="&$B$3,'Fuel Log'!$A$5:$A$104,"<="&$B$4,'Fuel Log'!$C$5:$C$104,$A21,'Fuel Log'!$L$5:$L$104,"Reviewed")) | E21: =IF(OR($C21="",$D21=""),"",IFERROR($D21-$C21,"")) | F21: =IF(OR($A21="",$C21=""),"",IFERROR($C21*VLOOKUP($A21,Assumptions!$A$8:$D$107,4,FALSE),"")) | G21: =IF(OR($A21="",$B$3="",$B$4="",$B$4<$B$3),"",SUMIFS('Fuel Log'!$H$5:$H$104,'Fuel Log'!$A$5:$A$104,">="&$B$3,'Fuel Log'!$A$5:$A$104,"<="&$B$4,'Fuel Log'!$C$5:$C$104,$A21,'Fuel Log'!$L$5:$L$104,"Recorded")+SUMIFS('Fuel Log'!$H$5:$H$104,'Fuel Log'!$A$5:$A$104,">="&$B$3,'Fuel Log'!$A$5:$A$104,"<="&$B$4,'Fuel Log'!$C$5:$C$104,$A21,'Fuel Log'!$L$5:$L$104,"Reviewed")) | H21: =IF(OR($F21="",$G21=""),"",IFERROR($G21-$F21,"")) | J21: =IF($A21="","",$A21) | K21: =IF(OR($A21="",$F21=""),NA(),$F21) | L21: =IF(OR($A21="",$G21=""),NA(),$G21)
A22: =IF(Assumptions!$A$16="","",Assumptions!$A$16) | B22: =IF($A22="","",IFERROR(VLOOKUP($A22,Assumptions!$A$8:$D$107,3,FALSE),"")) | C22: =IF(OR($A22="",$B$5="",$B22="",Assumptions!$B$5=""),"",IFERROR($B22*$B$5/Assumptions!$B$5,"")) | D22: =IF(OR($A22="",$B$3="",$B$4="",$B$4<$B$3),"",SUMIFS('Fuel Log'!$F$5:$F$104,'Fuel Log'!$A$5:$A$104,">="&$B$3,'Fuel Log'!$A$5:$A$104,"<="&$B$4,'Fuel Log'!$C$5:$C$104,$A22,'Fuel Log'!$L$5:$L$104,"Recorded")+SUMIFS('Fuel Log'!$F$5:$F$104,'Fuel Log'!$A$5:$A$104,">="&$B$3,'Fuel Log'!$A$5:$A$104,"<="&$B$4,'Fuel Log'!$C$5:$C$104,$A22,'Fuel Log'!$L$5:$L$104,"Reviewed")) | E22: =IF(OR($C22="",$D22=""),"",IFERROR($D22-$C22,"")) | F22: =IF(OR($A22="",$C22=""),"",IFERROR($C22*VLOOKUP($A22,Assumptions!$A$8:$D$107,4,FALSE),"")) | G22: =IF(OR($A22="",$B$3="",$B$4="",$B$4<$B$3),"",SUMIFS('Fuel Log'!$H$5:$H$104,'Fuel Log'!$A$5:$A$104,">="&$B$3,'Fuel Log'!$A$5:$A$104,"<="&$B$4,'Fuel Log'!$C$5:$C$104,$A22,'Fuel Log'!$L$5:$L$104,"Recorded")+SUMIFS('Fuel Log'!$H$5:$H$104,'Fuel Log'!$A$5:$A$104,">="&$B$3,'Fuel Log'!$A$5:$A$104,"<="&$B$4,'Fuel Log'!$C$5:$C$104,$A22,'Fuel Log'!$L$5:$L$104,"Reviewed")) | H22: =IF(OR($F22="",$G22=""),"",IFERROR($G22-$F22,""))
A23: =IF(Assumptions!$A$17="","",Assumptions!$A$17) | B23: =IF($A23="","",IFERROR(VLOOKUP($A23,Assumptions!$A$8:$D$107,3,FALSE),"")) | C23: =IF(OR($A23="",$B$5="",$B23="",Assumptions!$B$5=""),"",IFERROR($B23*$B$5/Assumptions!$B$5,"")) | D23: =IF(OR($A23="",$B$3="",$B$4="",$B$4<$B$3),"",SUMIFS('Fuel Log'!$F$5:$F$104,'Fuel Log'!$A$5:$A$104,">="&$B$3,'Fuel Log'!$A$5:$A$104,"<="&$B$4,'Fuel Log'!$C$5:$C$104,$A23,'Fuel Log'!$L$5:$L$104,"Recorded")+SUMIFS('Fuel Log'!$F$5:$F$104,'Fuel Log'!$A$5:$A$104,">="&$B$3,'Fuel Log'!$A$5:$A$104,"<="&$B$4,'Fuel Log'!$C$5:$C$104,$A23,'Fuel Log'!$L$5:$L$104,"Reviewed")) | E23: =IF(OR($C23="",$D23=""),"",IFERROR($D23-$C23,"")) | F23: =IF(OR($A23="",$C23=""),"",IFERROR($C23*VLOOKUP($A23,Assumptions!$A$8:$D$107,4,FALSE),"")) | G23: =IF(OR($A23="",$B$3="",$B$4="",$B$4<$B$3),"",SUMIFS('Fuel Log'!$H$5:$H$104,'Fuel Log'!$A$5:$A$104,">="&$B$3,'Fuel Log'!$A$5:$A$104,"<="&$B$4,'Fuel Log'!$C$5:$C$104,$A23,'Fuel Log'!$L$5:$L$104,"Recorded")+SUMIFS('Fuel Log'!$H$5:$H$104,'Fuel Log'!$A$5:$A$104,">="&$B$3,'Fuel Log'!$A$5:$A$104,"<="&$B$4,'Fuel Log'!$C$5:$C$104,$A23,'Fuel Log'!$L$5:$L$104,"Reviewed")) | H23: =IF(OR($F23="",$G23=""),"",IFERROR($G23-$F23,""))
A24: =IF(Assumptions!$A$18="","",Assumptions!$A$18) | B24: =IF($A24="","",IFERROR(VLOOKUP($A24,Assumptions!$A$8:$D$107,3,FALSE),"")) | C24: =IF(OR($A24="",$B$5="",$B24="",Assumptions!$B$5=""),"",IFERROR($B24*$B$5/Assumptions!$B$5,"")) | D24: =IF(OR($A24="",$B$3="",$B$4="",$B$4<$B$3),"",SUMIFS('Fuel Log'!$F$5:$F$104,'Fuel Log'!$A$5:$A$104,">="&$B$3,'Fuel Log'!$A$5:$A$104,"<="&$B$4,'Fuel Log'!$C$5:$C$104,$A24,'Fuel Log'!$L$5:$L$104,"Recorded")+SUMIFS('Fuel Log'!$F$5:$F$104,'Fuel Log'!$A$5:$A$104,">="&$B$3,'Fuel Log'!$A$5:$A$104,"<="&$B$4,'Fuel Log'!$C$5:$C$104,$A24,'Fuel Log'!$L$5:$L$104,"Reviewed")) | E24: =IF(OR($C24="",$D24=""),"",IFERROR($D24-$C24,"")) | F24: =IF(OR($A24="",$C24=""),"",IFERROR($C24*VLOOKUP($A24,Assumptions!$A$8:$D$107,4,FALSE),"")) | G24: =IF(OR($A24="",$B$3="",$B$4="",$B$4<$B$3),"",SUMIFS('Fuel Log'!$H$5:$H$104,'Fuel Log'!$A$5:$A$104,">="&$B$3,'Fuel Log'!$A$5:$A$104,"<="&$B$4,'Fuel Log'!$C$5:$C$104,$A24,'Fuel Log'!$L$5:$L$104,"Recorded")+SUMIFS('Fuel Log'!$H$5:$H$104,'Fuel Log'!$A$5:$A$104,">="&$B$3,'Fuel Log'!$A$5:$A$104,"<="&$B$4,'Fuel Log'!$C$5:$C$104,$A24,'Fuel Log'!$L$5:$L$104,"Reviewed")) | H24: =IF(OR($F24="",$G24=""),"",IFERROR($G24-$F24,""))
A25: =IF(Assumptions!$A$19="","",Assumptions!$A$19) | B25: =IF($A25="","",IFERROR(VLOOKUP($A25,Assumptions!$A$8:$D$107,3,FALSE),"")) | C25: =IF(OR($A25="",$B$5="",$B25="",Assumptions!$B$5=""),"",IFERROR($B25*$B$5/Assumptions!$B$5,"")) | D25: =IF(OR($A25="",$B$3="",$B$4="",$B$4<$B$3),"",SUMIFS('Fuel Log'!$F$5:$F$104,'Fuel Log'!$A$5:$A$104,">="&$B$3,'Fuel Log'!$A$5:$A$104,"<="&$B$4,'Fuel Log'!$C$5:$C$104,$A25,'Fuel Log'!$L$5:$L$104,"Recorded")+SUMIFS('Fuel Log'!$F$5:$F$104,'Fuel Log'!$A$5:$A$104,">="&$B$3,'Fuel Log'!$A$5:$A$104,"<="&$B$4,'Fuel Log'!$C$5:$C$104,$A25,'Fuel Log'!$L$5:$L$104,"Reviewed")) | E25: =IF(OR($C25="",$D25=""),"",IFERROR($D25-$C25,"")) | F25: =IF(OR($A25="",$C25=""),"",IFERROR($C25*VLOOKUP($A25,Assumptions!$A$8:$D$107,4,FALSE),"")) | G25: =IF(OR($A25="",$B$3="",$B$4="",$B$4<$B$3),"",SUMIFS('Fuel Log'!$H$5:$H$104,'Fuel Log'!$A$5:$A$104,">="&$B$3,'Fuel Log'!$A$5:$A$104,"<="&$B$4,'Fuel Log'!$C$5:$C$104,$A25,'Fuel Log'!$L$5:$L$104,"Recorded")+SUMIFS('Fuel Log'!$H$5:$H$104,'Fuel Log'!$A$5:$A$104,">="&$B$3,'Fuel Log'!$A$5:$A$104,"<="&$B$4,'Fuel Log'!$C$5:$C$104,$A25,'Fuel Log'!$L$5:$L$104,"Reviewed")) | H25: =IF(OR($F25="",$G25=""),"",IFERROR($G25-$F25,""))
A26: =IF(Assumptions!$A$20="","",Assumptions!$A$20) | B26: =IF($A26="","",IFERROR(VLOOKUP($A26,Assumptions!$A$8:$D$107,3,FALSE),"")) | C26: =IF(OR($A26="",$B$5="",$B26="",Assumptions!$B$5=""),"",IFERROR($B26*$B$5/Assumptions!$B$5,"")) | D26: =IF(OR($A26="",$B$3="",$B$4="",$B$4<$B$3),"",SUMIFS('Fuel Log'!$F$5:$F$104,'Fuel Log'!$A$5:$A$104,">="&$B$3,'Fuel Log'!$A$5:$A$104,"<="&$B$4,'Fuel Log'!$C$5:$C$104,$A26,'Fuel Log'!$L$5:$L$104,"Recorded")+SUMIFS('Fuel Log'!$F$5:$F$104,'Fuel Log'!$A$5:$A$104,">="&$B$3,'Fuel Log'!$A$5:$A$104,"<="&$B$4,'Fuel Log'!$C$5:$C$104,$A26,'Fuel Log'!$L$5:$L$104,"Reviewed")) | E26: =IF(OR($C26="",$D26=""),"",IFERROR($D26-$C26,"")) | F26: =IF(OR($A26="",$C26=""),"",IFERROR($C26*VLOOKUP($A26,Assumptions!$A$8:$D$107,4,FALSE),"")) | G26: =IF(OR($A26="",$B$3="",$B$4="",$B$4<$B$3),"",SUMIFS('Fuel Log'!$H$5:$H$104,'Fuel Log'!$A$5:$A$104,">="&$B$3,'Fuel Log'!$A$5:$A$104,"<="&$B$4,'Fuel Log'!$C$5:$C$104,$A26,'Fuel Log'!$L$5:$L$104,"Recorded")+SUMIFS('Fuel Log'!$H$5:$H$104,'Fuel Log'!$A$5:$A$104,">="&$B$3,'Fuel Log'!$A$5:$A$104,"<="&$B$4,'Fuel Log'!$C$5:$C$104,$A26,'Fuel Log'!$L$5:$L$104,"Reviewed")) | H26: =IF(OR($F26="",$G26=""),"",IFERROR($G26-$F26,""))
A27: =IF(Assumptions!$A$21="","",Assumptions!$A$21) | B27: =IF($A27="","",IFERROR(VLOOKUP($A27,Assumptions!$A$8:$D$107,3,FALSE),"")) | C27: =IF(OR($A27="",$B$5="",$B27="",Assumptions!$B$5=""),"",IFERROR($B27*$B$5/Assumptions!$B$5,"")) | D27: =IF(OR($A27="",$B$3="",$B$4="",$B$4<$B$3),"",SUMIFS('Fuel Log'!$F$5:$F$104,'Fuel Log'!$A$5:$A$104,">="&$B$3,'Fuel Log'!$A$5:$A$104,"<="&$B$4,'Fuel Log'!$C$5:$C$104,$A27,'Fuel Log'!$L$5:$L$104,"Recorded")+SUMIFS('Fuel Log'!$F$5:$F$104,'Fuel Log'!$A$5:$A$104,">="&$B$3,'Fuel Log'!$A$5:$A$104,"<="&$B$4,'Fuel Log'!$C$5:$C$104,$A27,'Fuel Log'!$L$5:$L$104,"Reviewed")) | E27: =IF(OR($C27="",$D27=""),"",IFERROR($D27-$C27,"")) | F27: =IF(OR($A27="",$C27=""),"",IFERROR($C27*VLOOKUP($A27,Assumptions!$A$8:$D$107,4,FALSE),"")) | G27: =IF(OR($A27="",$B$3="",$B$4="",$B$4<$B$3),"",SUMIFS('Fuel Log'!$H$5:$H$104,'Fuel Log'!$A$5:$A$104,">="&$B$3,'Fuel Log'!$A$5:$A$104,"<="&$B$4,'Fuel Log'!$C$5:$C$104,$A27,'Fuel Log'!$L$5:$L$104,"Recorded")+SUMIFS('Fuel Log'!$H$5:$H$104,'Fuel Log'!$A$5:$A$104,">="&$B$3,'Fuel Log'!$A$5:$A$104,"<="&$B$4,'Fuel Log'!$C$5:$C$104,$A27,'Fuel Log'!$L$5:$L$104,"Reviewed")) | H27: =IF(OR($F27="",$G27=""),"",IFERROR($G27-$F27,""))
A28: =IF(Assumptions!$A$22="","",Assumptions!$A$22) | B28: =IF($A28="","",IFERROR(VLOOKUP($A28,Assumptions!$A$8:$D$107,3,FALSE),"")) | C28: =IF(OR($A28="",$B$5="",$B28="",Assumptions!$B$5=""),"",IFERROR($B28*$B$5/Assumptions!$B$5,"")) | D28: =IF(OR($A28="",$B$3="",$B$4="",$B$4<$B$3),"",SUMIFS('Fuel Log'!$F$5:$F$104,'Fuel Log'!$A$5:$A$104,">="&$B$3,'Fuel Log'!$A$5:$A$104,"<="&$B$4,'Fuel Log'!$C$5:$C$104,$A28,'Fuel Log'!$L$5:$L$104,"Recorded")+SUMIFS('Fuel Log'!$F$5:$F$104,'Fuel Log'!$A$5:$A$104,">="&$B$3,'Fuel Log'!$A$5:$A$104,"<="&$B$4,'Fuel Log'!$C$5:$C$104,$A28,'Fuel Log'!$L$5:$L$104,"Reviewed")) | E28: =IF(OR($C28="",$D28=""),"",IFERROR($D28-$C28,"")) | F28: =IF(OR($A28="",$C28=""),"",IFERROR($C28*VLOOKUP($A28,Assumptions!$A$8:$D$107,4,FALSE),"")) | G28: =IF(OR($A28="",$B$3="",$B$4="",$B$4<$B$3),"",SUMIFS('Fuel Log'!$H$5:$H$104,'Fuel Log'!$A$5:$A$104,">="&$B$3,'Fuel Log'!$A$5:$A$104,"<="&$B$4,'Fuel Log'!$C$5:$C$104,$A28,'Fuel Log'!$L$5:$L$104,"Recorded")+SUMIFS('Fuel Log'!$H$5:$H$104,'Fuel Log'!$A$5:$A$104,">="&$B$3,'Fuel Log'!$A$5:$A$104,"<="&$B$4,'Fuel Log'!$C$5:$C$104,$A28,'Fuel Log'!$L$5:$L$104,"Reviewed")) | H28: =IF(OR($F28="",$G28=""),"",IFERROR($G28-$F28,""))
A29: =IF(Assumptions!$A$23="","",Assumptions!$A$23) | B29: =IF($A29="","",IFERROR(VLOOKUP($A29,Assumptions!$A$8:$D$107,3,FALSE),"")) | C29: =IF(OR($A29="",$B$5="",$B29="",Assumptions!$B$5=""),"",IFERROR($B29*$B$5/Assumptions!$B$5,"")) | D29: =IF(OR($A29="",$B$3="",$B$4="",$B$4<$B$3),"",SUMIFS('Fuel Log'!$F$5:$F$104,'Fuel Log'!$A$5:$A$104,">="&$B$3,'Fuel Log'!$A$5:$A$104,"<="&$B$4,'Fuel Log'!$C$5:$C$104,$A29,'Fuel Log'!$L$5:$L$104,"Recorded")+SUMIFS('Fuel Log'!$F$5:$F$104,'Fuel Log'!$A$5:$A$104,">="&$B$3,'Fuel Log'!$A$5:$A$104,"<="&$B$4,'Fuel Log'!$C$5:$C$104,$A29,'Fuel Log'!$L$5:$L$104,"Reviewed")) | E29: =IF(OR($C29="",$D29=""),"",IFERROR($D29-$C29,"")) | F29: =IF(OR($A29="",$C29=""),"",IFERROR($C29*VLOOKUP($A29,Assumptions!$A$8:$D$107,4,FALSE),"")) | G29: =IF(OR($A29="",$B$3="",$B$4="",$B$4<$B$3),"",SUMIFS('Fuel Log'!$H$5:$H$104,'Fuel Log'!$A$5:$A$104,">="&$B$3,'Fuel Log'!$A$5:$A$104,"<="&$B$4,'Fuel Log'!$C$5:$C$104,$A29,'Fuel Log'!$L$5:$L$104,"Recorded")+SUMIFS('Fuel Log'!$H$5:$H$104,'Fuel Log'!$A$5:$A$104,">="&$B$3,'Fuel Log'!$A$5:$A$104,"<="&$B$4,'Fuel Log'!$C$5:$C$104,$A29,'Fuel Log'!$L$5:$L$104,"Reviewed")) | H29: =IF(OR($F29="",$G29=""),"",IFERROR($G29-$F29,""))
A30: =IF(Assumptions!$A$24="","",Assumptions!$A$24) | B30: =IF($A30="","",IFERROR(VLOOKUP($A30,Assumptions!$A$8:$D$107,3,FALSE),"")) | C30: =IF(OR($A30="",$B$5="",$B30="",Assumptions!$B$5=""),"",IFERROR($B30*$B$5/Assumptions!$B$5,"")) | D30: =IF(OR($A30="",$B$3="",$B$4="",$B$4<$B$3),"",SUMIFS('Fuel Log'!$F$5:$F$104,'Fuel Log'!$A$5:$A$104,">="&$B$3,'Fuel Log'!$A$5:$A$104,"<="&$B$4,'Fuel Log'!$C$5:$C$104,$A30,'Fuel Log'!$L$5:$L$104,"Recorded")+SUMIFS('Fuel Log'!$F$5:$F$104,'Fuel Log'!$A$5:$A$104,">="&$B$3,'Fuel Log'!$A$5:$A$104,"<="&$B$4,'Fuel Log'!$C$5:$C$104,$A30,'Fuel Log'!$L$5:$L$104,"Reviewed")) | E30: =IF(OR($C30="",$D30=""),"",IFERROR($D30-$C30,"")) | F30: =IF(OR($A30="",$C30=""),"",IFERROR($C30*VLOOKUP($A30,Assumptions!$A$8:$D$107,4,FALSE),"")) | G30: =IF(OR($A30="",$B$3="",$B$4="",$B$4<$B$3),"",SUMIFS('Fuel Log'!$H$5:$H$104,'Fuel Log'!$A$5:$A$104,">="&$B$3,'Fuel Log'!$A$5:$A$104,"<="&$B$4,'Fuel Log'!$C$5:$C$104,$A30,'Fuel Log'!$L$5:$L$104,"Recorded")+SUMIFS('Fuel Log'!$H$5:$H$104,'Fuel Log'!$A$5:$A$104,">="&$B$3,'Fuel Log'!$A$5:$A$104,"<="&$B$4,'Fuel Log'!$C$5:$C$104,$A30,'Fuel Log'!$L$5:$L$104,"Reviewed")) | H30: =IF(OR($F30="",$G30=""),"",IFERROR($G30-$F30,""))
A31: =IF(Assumptions!$A$25="","",Assumptions!$A$25) | B31: =IF($A31="","",IFERROR(VLOOKUP($A31,Assumptions!$A$8:$D$107,3,FALSE),"")) | C31: =IF(OR($A31="",$B$5="",$B31="",Assumptions!$B$5=""),"",IFERROR($B31*$B$5/Assumptions!$B$5,"")) | D31: =IF(OR($A31="",$B$3="",$B$4="",$B$4<$B$3),"",SUMIFS('Fuel Log'!$F$5:$F$104,'Fuel Log'!$A$5:$A$104,">="&$B$3,'Fuel Log'!$A$5:$A$104,"<="&$B$4,'Fuel Log'!$C$5:$C$104,$A31,'Fuel Log'!$L$5:$L$104,"Recorded")+SUMIFS('Fuel Log'!$F$5:$F$104,'Fuel Log'!$A$5:$A$104,">="&$B$3,'Fuel Log'!$A$5:$A$104,"<="&$B$4,'Fuel Log'!$C$5:$C$104,$A31,'Fuel Log'!$L$5:$L$104,"Reviewed")) | E31: =IF(OR($C31="",$D31=""),"",IFERROR($D31-$C31,"")) | F31: =IF(OR($A31="",$C31=""),"",IFERROR($C31*VLOOKUP($A31,Assumptions!$A$8:$D$107,4,FALSE),"")) | G31: =IF(OR($A31="",$B$3="",$B$4="",$B$4<$B$3),"",SUMIFS('Fuel Log'!$H$5:$H$104,'Fuel Log'!$A$5:$A$104,">="&$B$3,'Fuel Log'!$A$5:$A$104,"<="&$B$4,'Fuel Log'!$C$5:$C$104,$A31,'Fuel Log'!$L$5:$L$104,"Recorded")+SUMIFS('Fuel Log'!$H$5:$H$104,'Fuel Log'!$A$5:$A$104,">="&$B$3,'Fuel Log'!$A$5:$A$104,"<="&$B$4,'Fuel Log'!$C$5:$C$104,$A31,'Fuel Log'!$L$5:$L$104,"Reviewed")) | H31: =IF(OR($F31="",$G31=""),"",IFERROR($G31-$F31,""))
A32: =IF(Assumptions!$A$26="","",Assumptions!$A$26) | B32: =IF($A32="","",IFERROR(VLOOKUP($A32,Assumptions!$A$8:$D$107,3,FALSE),"")) | C32: =IF(OR($A32="",$B$5="",$B32="",Assumptions!$B$5=""),"",IFERROR($B32*$B$5/Assumptions!$B$5,"")) | D32: =IF(OR($A32="",$B$3="",$B$4="",$B$4<$B$3),"",SUMIFS('Fuel Log'!$F$5:$F$104,'Fuel Log'!$A$5:$A$104,">="&$B$3,'Fuel Log'!$A$5:$A$104,"<="&$B$4,'Fuel Log'!$C$5:$C$104,$A32,'Fuel Log'!$L$5:$L$104,"Recorded")+SUMIFS('Fuel Log'!$F$5:$F$104,'Fuel Log'!$A$5:$A$104,">="&$B$3,'Fuel Log'!$A$5:$A$104,"<="&$B$4,'Fuel Log'!$C$5:$C$104,$A32,'Fuel Log'!$L$5:$L$104,"Reviewed")) | E32: =IF(OR($C32="",$D32=""),"",IFERROR($D32-$C32,"")) | F32: =IF(OR($A32="",$C32=""),"",IFERROR($C32*VLOOKUP($A32,Assumptions!$A$8:$D$107,4,FALSE),"")) | G32: =IF(OR($A32="",$B$3="",$B$4="",$B$4<$B$3),"",SUMIFS('Fuel Log'!$H$5:$H$104,'Fuel Log'!$A$5:$A$104,">="&$B$3,'Fuel Log'!$A$5:$A$104,"<="&$B$4,'Fuel Log'!$C$5:$C$104,$A32,'Fuel Log'!$L$5:$L$104,"Recorded")+SUMIFS('Fuel Log'!$H$5:$H$104,'Fuel Log'!$A$5:$A$104,">="&$B$3,'Fuel Log'!$A$5:$A$104,"<="&$B$4,'Fuel Log'!$C$5:$C$104,$A32,'Fuel Log'!$L$5:$L$104,"Reviewed")) | H32: =IF(OR($F32="",$G32=""),"",IFERROR($G32-$F32,""))
A33: =IF(Assumptions!$A$27="","",Assumptions!$A$27) | B33: =IF($A33="","",IFERROR(VLOOKUP($A33,Assumptions!$A$8:$D$107,3,FALSE),"")) | C33: =IF(OR($A33="",$B$5="",$B33="",Assumptions!$B$5=""),"",IFERROR($B33*$B$5/Assumptions!$B$5,"")) | D33: =IF(OR($A33="",$B$3="",$B$4="",$B$4<$B$3),"",SUMIFS('Fuel Log'!$F$5:$F$104,'Fuel Log'!$A$5:$A$104,">="&$B$3,'Fuel Log'!$A$5:$A$104,"<="&$B$4,'Fuel Log'!$C$5:$C$104,$A33,'Fuel Log'!$L$5:$L$104,"Recorded")+SUMIFS('Fuel Log'!$F$5:$F$104,'Fuel Log'!$A$5:$A$104,">="&$B$3,'Fuel Log'!$A$5:$A$104,"<="&$B$4,'Fuel Log'!$C$5:$C$104,$A33,'Fuel Log'!$L$5:$L$104,"Reviewed")) | E33: =IF(OR($C33="",$D33=""),"",IFERROR($D33-$C33,"")) | F33: =IF(OR($A33="",$C33=""),"",IFERROR($C33*VLOOKUP($A33,Assumptions!$A$8:$D$107,4,FALSE),"")) | G33: =IF(OR($A33="",$B$3="",$B$4="",$B$4<$B$3),"",SUMIFS('Fuel Log'!$H$5:$H$104,'Fuel Log'!$A$5:$A$104,">="&$B$3,'Fuel Log'!$A$5:$A$104,"<="&$B$4,'Fuel Log'!$C$5:$C$104,$A33,'Fuel Log'!$L$5:$L$104,"Recorded")+SUMIFS('Fuel Log'!$H$5:$H$104,'Fuel Log'!$A$5:$A$104,">="&$B$3,'Fuel Log'!$A$5:$A$104,"<="&$B$4,'Fuel Log'!$C$5:$C$104,$A33,'Fuel Log'!$L$5:$L$104,"Reviewed")) | H33: =IF(OR($F33="",$G33=""),"",IFERROR($G33-$F33,""))
A34: =IF(Assumptions!$A$28="","",Assumptions!$A$28) | B34: =IF($A34="","",IFERROR(VLOOKUP($A34,Assumptions!$A$8:$D$107,3,FALSE),"")) | C34: =IF(OR($A34="",$B$5="",$B34="",Assumptions!$B$5=""),"",IFERROR($B34*$B$5/Assumptions!$B$5,"")) | D34: =IF(OR($A34="",$B$3="",$B$4="",$B$4<$B$3),"",SUMIFS('Fuel Log'!$F$5:$F$104,'Fuel Log'!$A$5:$A$104,">="&$B$3,'Fuel Log'!$A$5:$A$104,"<="&$B$4,'Fuel Log'!$C$5:$C$104,$A34,'Fuel Log'!$L$5:$L$104,"Recorded")+SUMIFS('Fuel Log'!$F$5:$F$104,'Fuel Log'!$A$5:$A$104,">="&$B$3,'Fuel Log'!$A$5:$A$104,"<="&$B$4,'Fuel Log'!$C$5:$C$104,$A34,'Fuel Log'!$L$5:$L$104,"Reviewed")) | E34: =IF(OR($C34="",$D34=""),"",IFERROR($D34-$C34,"")) | F34: =IF(OR($A34="",$C34=""),"",IFERROR($C34*VLOOKUP($A34,Assumptions!$A$8:$D$107,4,FALSE),"")) | G34: =IF(OR($A34="",$B$3="",$B$4="",$B$4<$B$3),"",SUMIFS('Fuel Log'!$H$5:$H$104,'Fuel Log'!$A$5:$A$104,">="&$B$3,'Fuel Log'!$A$5:$A$104,"<="&$B$4,'Fuel Log'!$C$5:$C$104,$A34,'Fuel Log'!$L$5:$L$104,"Recorded")+SUMIFS('Fuel Log'!$H$5:$H$104,'Fuel Log'!$A$5:$A$104,">="&$B$3,'Fuel Log'!$A$5:$A$104,"<="&$B$4,'Fuel Log'!$C$5:$C$104,$A34,'Fuel Log'!$L$5:$L$104,"Reviewed")) | H34: =IF(OR($F34="",$G34=""),"",IFERROR($G34-$F34,""))
A35: =IF(Assumptions!$A$29="","",Assumptions!$A$29) | B35: =IF($A35="","",IFERROR(VLOOKUP($A35,Assumptions!$A$8:$D$107,3,FALSE),"")) | C35: =IF(OR($A35="",$B$5="",$B35="",Assumptions!$B$5=""),"",IFERROR($B35*$B$5/Assumptions!$B$5,"")) | D35: =IF(OR($A35="",$B$3="",$B$4="",$B$4<$B$3),"",SUMIFS('Fuel Log'!$F$5:$F$104,'Fuel Log'!$A$5:$A$104,">="&$B$3,'Fuel Log'!$A$5:$A$104,"<="&$B$4,'Fuel Log'!$C$5:$C$104,$A35,'Fuel Log'!$L$5:$L$104,"Recorded")+SUMIFS('Fuel Log'!$F$5:$F$104,'Fuel Log'!$A$5:$A$104,">="&$B$3,'Fuel Log'!$A$5:$A$104,"<="&$B$4,'Fuel Log'!$C$5:$C$104,$A35,'Fuel Log'!$L$5:$L$104,"Reviewed")) | E35: =IF(OR($C35="",$D35=""),"",IFERROR($D35-$C35,"")) | F35: =IF(OR($A35="",$C35=""),"",IFERROR($C35*VLOOKUP($A35,Assumptions!$A$8:$D$107,4,FALSE),"")) | G35: =IF(OR($A35="",$B$3="",$B$4="",$B$4<$B$3),"",SUMIFS('Fuel Log'!$H$5:$H$104,'Fuel Log'!$A$5:$A$104,">="&$B$3,'Fuel Log'!$A$5:$A$104,"<="&$B$4,'Fuel Log'!$C$5:$C$104,$A35,'Fuel Log'!$L$5:$L$104,"Recorded")+SUMIFS('Fuel Log'!$H$5:$H$104,'Fuel Log'!$A$5:$A$104,">="&$B$3,'Fuel Log'!$A$5:$A$104,"<="&$B$4,'Fuel Log'!$C$5:$C$104,$A35,'Fuel Log'!$L$5:$L$104,"Reviewed")) | H35: =IF(OR($F35="",$G35=""),"",IFERROR($G35-$F35,""))
A36: =IF(Assumptions!$A$30="","",Assumptions!$A$30) | B36: =IF($A36="","",IFERROR(VLOOKUP($A36,Assumptions!$A$8:$D$107,3,FALSE),"")) | C36: =IF(OR($A36="",$B$5="",$B36="",Assumptions!$B$5=""),"",IFERROR($B36*$B$5/Assumptions!$B$5,"")) | D36: =IF(OR($A36="",$B$3="",$B$4="",$B$4<$B$3),"",SUMIFS('Fuel Log'!$F$5:$F$104,'Fuel Log'!$A$5:$A$104,">="&$B$3,'Fuel Log'!$A$5:$A$104,"<="&$B$4,'Fuel Log'!$C$5:$C$104,$A36,'Fuel Log'!$L$5:$L$104,"Recorded")+SUMIFS('Fuel Log'!$F$5:$F$104,'Fuel Log'!$A$5:$A$104,">="&$B$3,'Fuel Log'!$A$5:$A$104,"<="&$B$4,'Fuel Log'!$C$5:$C$104,$A36,'Fuel Log'!$L$5:$L$104,"Reviewed")) | E36: =IF(OR($C36="",$D36=""),"",IFERROR($D36-$C36,"")) | F36: =IF(OR($A36="",$C36=""),"",IFERROR($C36*VLOOKUP($A36,Assumptions!$A$8:$D$107,4,FALSE),"")) | G36: =IF(OR($A36="",$B$3="",$B$4="",$B$4<$B$3),"",SUMIFS('Fuel Log'!$H$5:$H$104,'Fuel Log'!$A$5:$A$104,">="&$B$3,'Fuel Log'!$A$5:$A$104,"<="&$B$4,'Fuel Log'!$C$5:$C$104,$A36,'Fuel Log'!$L$5:$L$104,"Recorded")+SUMIFS('Fuel Log'!$H$5:$H$104,'Fuel Log'!$A$5:$A$104,">="&$B$3,'Fuel Log'!$A$5:$A$104,"<="&$B$4,'Fuel Log'!$C$5:$C$104,$A36,'Fuel Log'!$L$5:$L$104,"Reviewed")) | H36: =IF(OR($F36="",$G36=""),"",IFERROR($G36-$F36,""))
A37: =IF(Assumptions!$A$31="","",Assumptions!$A$31) | B37: =IF($A37="","",IFERROR(VLOOKUP($A37,Assumptions!$A$8:$D$107,3,FALSE),"")) | C37: =IF(OR($A37="",$B$5="",$B37="",Assumptions!$B$5=""),"",IFERROR($B37*$B$5/Assumptions!$B$5,"")) | D37: =IF(OR($A37="",$B$3="",$B$4="",$B$4<$B$3),"",SUMIFS('Fuel Log'!$F$5:$F$104,'Fuel Log'!$A$5:$A$104,">="&$B$3,'Fuel Log'!$A$5:$A$104,"<="&$B$4,'Fuel Log'!$C$5:$C$104,$A37,'Fuel Log'!$L$5:$L$104,"Recorded")+SUMIFS('Fuel Log'!$F$5:$F$104,'Fuel Log'!$A$5:$A$104,">="&$B$3,'Fuel Log'!$A$5:$A$104,"<="&$B$4,'Fuel Log'!$C$5:$C$104,$A37,'Fuel Log'!$L$5:$L$104,"Reviewed")) | E37: =IF(OR($C37="",$D37=""),"",IFERROR($D37-$C37,"")) | F37: =IF(OR($A37="",$C37=""),"",IFERROR($C37*VLOOKUP($A37,Assumptions!$A$8:$D$107,4,FALSE),"")) | G37: =IF(OR($A37="",$B$3="",$B$4="",$B$4<$B$3),"",SUMIFS('Fuel Log'!$H$5:$H$104,'Fuel Log'!$A$5:$A$104,">="&$B$3,'Fuel Log'!$A$5:$A$104,"<="&$B$4,'Fuel Log'!$C$5:$C$104,$A37,'Fuel Log'!$L$5:$L$104,"Recorded")+SUMIFS('Fuel Log'!$H$5:$H$104,'Fuel Log'!$A$5:$A$104,">="&$B$3,'Fuel Log'!$A$5:$A$104,"<="&$B$4,'Fuel Log'!$C$5:$C$104,$A37,'Fuel Log'!$L$5:$L$104,"Reviewed")) | H37: =IF(OR($F37="",$G37=""),"",IFERROR($G37-$F37,""))
A38: =IF(Assumptions!$A$32="","",Assumptions!$A$32) | B38: =IF($A38="","",IFERROR(VLOOKUP($A38,Assumptions!$A$8:$D$107,3,FALSE),"")) | C38: =IF(OR($A38="",$B$5="",$B38="",Assumptions!$B$5=""),"",IFERROR($B38*$B$5/Assumptions!$B$5,"")) | D38: =IF(OR($A38="",$B$3="",$B$4="",$B$4<$B$3),"",SUMIFS('Fuel Log'!$F$5:$F$104,'Fuel Log'!$A$5:$A$104,">="&$B$3,'Fuel Log'!$A$5:$A$104,"<="&$B$4,'Fuel Log'!$C$5:$C$104,$A38,'Fuel Log'!$L$5:$L$104,"Recorded")+SUMIFS('Fuel Log'!$F$5:$F$104,'Fuel Log'!$A$5:$A$104,">="&$B$3,'Fuel Log'!$A$5:$A$104,"<="&$B$4,'Fuel Log'!$C$5:$C$104,$A38,'Fuel Log'!$L$5:$L$104,"Reviewed")) | E38: =IF(OR($C38="",$D38=""),"",IFERROR($D38-$C38,"")) | F38: =IF(OR($A38="",$C38=""),"",IFERROR($C38*VLOOKUP($A38,Assumptions!$A$8:$D$107,4,FALSE),"")) | G38: =IF(OR($A38="",$B$3="",$B$4="",$B$4<$B$3),"",SUMIFS('Fuel Log'!$H$5:$H$104,'Fuel Log'!$A$5:$A$104,">="&$B$3,'Fuel Log'!$A$5:$A$104,"<="&$B$4,'Fuel Log'!$C$5:$C$104,$A38,'Fuel Log'!$L$5:$L$104,"Recorded")+SUMIFS('Fuel Log'!$H$5:$H$104,'Fuel Log'!$A$5:$A$104,">="&$B$3,'Fuel Log'!$A$5:$A$104,"<="&$B$4,'Fuel Log'!$C$5:$C$104,$A38,'Fuel Log'!$L$5:$L$104,"Reviewed")) | H38: =IF(OR($F38="",$G38=""),"",IFERROR($G38-$F38,""))
A39: =IF(Assumptions!$A$33="","",Assumptions!$A$33) | B39: =IF($A39="","",IFERROR(VLOOKUP($A39,Assumptions!$A$8:$D$107,3,FALSE),"")) | C39: =IF(OR($A39="",$B$5="",$B39="",Assumptions!$B$5=""),"",IFERROR($B39*$B$5/Assumptions!$B$5,"")) | D39: =IF(OR($A39="",$B$3="",$B$4="",$B$4<$B$3),"",SUMIFS('Fuel Log'!$F$5:$F$104,'Fuel Log'!$A$5:$A$104,">="&$B$3,'Fuel Log'!$A$5:$A$104,"<="&$B$4,'Fuel Log'!$C$5:$C$104,$A39,'Fuel Log'!$L$5:$L$104,"Recorded")+SUMIFS('Fuel Log'!$F$5:$F$104,'Fuel Log'!$A$5:$A$104,">="&$B$3,'Fuel Log'!$A$5:$A$104,"<="&$B$4,'Fuel Log'!$C$5:$C$104,$A39,'Fuel Log'!$L$5:$L$104,"Reviewed")) | E39: =IF(OR($C39="",$D39=""),"",IFERROR($D39-$C39,"")) | F39: =IF(OR($A39="",$C39=""),"",IFERROR($C39*VLOOKUP($A39,Assumptions!$A$8:$D$107,4,FALSE),"")) | G39: =IF(OR($A39="",$B$3="",$B$4="",$B$4<$B$3),"",SUMIFS('Fuel Log'!$H$5:$H$104,'Fuel Log'!$A$5:$A$104,">="&$B$3,'Fuel Log'!$A$5:$A$104,"<="&$B$4,'Fuel Log'!$C$5:$C$104,$A39,'Fuel Log'!$L$5:$L$104,"Recorded")+SUMIFS('Fuel Log'!$H$5:$H$104,'Fuel Log'!$A$5:$A$104,">="&$B$3,'Fuel Log'!$A$5:$A$104,"<="&$B$4,'Fuel Log'!$C$5:$C$104,$A39,'Fuel Log'!$L$5:$L$104,"Reviewed")) | H39: =IF(OR($F39="",$G39=""),"",IFERROR($G39-$F39,""))
A40: =IF(Assumptions!$A$34="","",Assumptions!$A$34) | B40: =IF($A40="","",IFERROR(VLOOKUP($A40,Assumptions!$A$8:$D$107,3,FALSE),"")) | C40: =IF(OR($A40="",$B$5="",$B40="",Assumptions!$B$5=""),"",IFERROR($B40*$B$5/Assumptions!$B$5,"")) | D40: =IF(OR($A40="",$B$3="",$B$4="",$B$4<$B$3),"",SUMIFS('Fuel Log'!$F$5:$F$104,'Fuel Log'!$A$5:$A$104,">="&$B$3,'Fuel Log'!$A$5:$A$104,"<="&$B$4,'Fuel Log'!$C$5:$C$104,$A40,'Fuel Log'!$L$5:$L$104,"Recorded")+SUMIFS('Fuel Log'!$F$5:$F$104,'Fuel Log'!$A$5:$A$104,">="&$B$3,'Fuel Log'!$A$5:$A$104,"<="&$B$4,'Fuel Log'!$C$5:$C$104,$A40,'Fuel Log'!$L$5:$L$104,"Reviewed")) | E40: =IF(OR($C40="",$D40=""),"",IFERROR($D40-$C40,"")) | F40: =IF(OR($A40="",$C40=""),"",IFERROR($C40*VLOOKUP($A40,Assumptions!$A$8:$D$107,4,FALSE),"")) | G40: =IF(OR($A40="",$B$3="",$B$4="",$B$4<$B$3),"",SUMIFS('Fuel Log'!$H$5:$H$104,'Fuel Log'!$A$5:$A$104,">="&$B$3,'Fuel Log'!$A$5:$A$104,"<="&$B$4,'Fuel Log'!$C$5:$C$104,$A40,'Fuel Log'!$L$5:$L$104,"Recorded")+SUMIFS('Fuel Log'!$H$5:$H$104,'Fuel Log'!$A$5:$A$104,">="&$B$3,'Fuel Log'!$A$5:$A$104,"<="&$B$4,'Fuel Log'!$C$5:$C$104,$A40,'Fuel Log'!$L$5:$L$104,"Reviewed")) | H40: =IF(OR($F40="",$G40=""),"",IFERROR($G40-$F40,""))
A41: =IF(Assumptions!$A$35="","",Assumptions!$A$35) | B41: =IF($A41="","",IFERROR(VLOOKUP($A41,Assumptions!$A$8:$D$107,3,FALSE),"")) | C41: =IF(OR($A41="",$B$5="",$B41="",Assumptions!$B$5=""),"",IFERROR($B41*$B$5/Assumptions!$B$5,"")) | D41: =IF(OR($A41="",$B$3="",$B$4="",$B$4<$B$3),"",SUMIFS('Fuel Log'!$F$5:$F$104,'Fuel Log'!$A$5:$A$104,">="&$B$3,'Fuel Log'!$A$5:$A$104,"<="&$B$4,'Fuel Log'!$C$5:$C$104,$A41,'Fuel Log'!$L$5:$L$104,"Recorded")+SUMIFS('Fuel Log'!$F$5:$F$104,'Fuel Log'!$A$5:$A$104,">="&$B$3,'Fuel Log'!$A$5:$A$104,"<="&$B$4,'Fuel Log'!$C$5:$C$104,$A41,'Fuel Log'!$L$5:$L$104,"Reviewed")) | E41: =IF(OR($C41="",$D41=""),"",IFERROR($D41-$C41,"")) | F41: =IF(OR($A41="",$C41=""),"",IFERROR($C41*VLOOKUP($A41,Assumptions!$A$8:$D$107,4,FALSE),"")) | G41: =IF(OR($A41="",$B$3="",$B$4="",$B$4<$B$3),"",SUMIFS('Fuel Log'!$H$5:$H$104,'Fuel Log'!$A$5:$A$104,">="&$B$3,'Fuel Log'!$A$5:$A$104,"<="&$B$4,'Fuel Log'!$C$5:$C$104,$A41,'Fuel Log'!$L$5:$L$104,"Recorded")+SUMIFS('Fuel Log'!$H$5:$H$104,'Fuel Log'!$A$5:$A$104,">="&$B$3,'Fuel Log'!$A$5:$A$104,"<="&$B$4,'Fuel Log'!$C$5:$C$104,$A41,'Fuel Log'!$L$5:$L$104,"Reviewed")) | H41: =IF(OR($F41="",$G41=""),"",IFERROR($G41-$F41,""))
A42: =IF(Assumptions!$A$36="","",Assumptions!$A$36) | B42: =IF($A42="","",IFERROR(VLOOKUP($A42,Assumptions!$A$8:$D$107,3,FALSE),"")) | C42: =IF(OR($A42="",$B$5="",$B42="",Assumptions!$B$5=""),"",IFERROR($B42*$B$5/Assumptions!$B$5,"")) | D42: =IF(OR($A42="",$B$3="",$B$4="",$B$4<$B$3),"",SUMIFS('Fuel Log'!$F$5:$F$104,'Fuel Log'!$A$5:$A$104,">="&$B$3,'Fuel Log'!$A$5:$A$104,"<="&$B$4,'Fuel Log'!$C$5:$C$104,$A42,'Fuel Log'!$L$5:$L$104,"Recorded")+SUMIFS('Fuel Log'!$F$5:$F$104,'Fuel Log'!$A$5:$A$104,">="&$B$3,'Fuel Log'!$A$5:$A$104,"<="&$B$4,'Fuel Log'!$C$5:$C$104,$A42,'Fuel Log'!$L$5:$L$104,"Reviewed")) | E42: =IF(OR($C42="",$D42=""),"",IFERROR($D42-$C42,"")) | F42: =IF(OR($A42="",$C42=""),"",IFERROR($C42*VLOOKUP($A42,Assumptions!$A$8:$D$107,4,FALSE),"")) | G42: =IF(OR($A42="",$B$3="",$B$4="",$B$4<$B$3),"",SUMIFS('Fuel Log'!$H$5:$H$104,'Fuel Log'!$A$5:$A$104,">="&$B$3,'Fuel Log'!$A$5:$A$104,"<="&$B$4,'Fuel Log'!$C$5:$C$104,$A42,'Fuel Log'!$L$5:$L$104,"Recorded")+SUMIFS('Fuel Log'!$H$5:$H$104,'Fuel Log'!$A$5:$A$104,">="&$B$3,'Fuel Log'!$A$5:$A$104,"<="&$B$4,'Fuel Log'!$C$5:$C$104,$A42,'Fuel Log'!$L$5:$L$104,"Reviewed")) | H42: =IF(OR($F42="",$G42=""),"",IFERROR($G42-$F42,""))
A43: =IF(Assumptions!$A$37="","",Assumptions!$A$37) | B43: =IF($A43="","",IFERROR(VLOOKUP($A43,Assumptions!$A$8:$D$107,3,FALSE),"")) | C43: =IF(OR($A43="",$B$5="",$B43="",Assumptions!$B$5=""),"",IFERROR($B43*$B$5/Assumptions!$B$5,"")) | D43: =IF(OR($A43="",$B$3="",$B$4="",$B$4<$B$3),"",SUMIFS('Fuel Log'!$F$5:$F$104,'Fuel Log'!$A$5:$A$104,">="&$B$3,'Fuel Log'!$A$5:$A$104,"<="&$B$4,'Fuel Log'!$C$5:$C$104,$A43,'Fuel Log'!$L$5:$L$104,"Recorded")+SUMIFS('Fuel Log'!$F$5:$F$104,'Fuel Log'!$A$5:$A$104,">="&$B$3,'Fuel Log'!$A$5:$A$104,"<="&$B$4,'Fuel Log'!$C$5:$C$104,$A43,'Fuel Log'!$L$5:$L$104,"Reviewed")) | E43: =IF(OR($C43="",$D43=""),"",IFERROR($D43-$C43,"")) | F43: =IF(OR($A43="",$C43=""),"",IFERROR($C43*VLOOKUP($A43,Assumptions!$A$8:$D$107,4,FALSE),"")) | G43: =IF(OR($A43="",$B$3="",$B$4="",$B$4<$B$3),"",SUMIFS('Fuel Log'!$H$5:$H$104,'Fuel Log'!$A$5:$A$104,">="&$B$3,'Fuel Log'!$A$5:$A$104,"<="&$B$4,'Fuel Log'!$C$5:$C$104,$A43,'Fuel Log'!$L$5:$L$104,"Recorded")+SUMIFS('Fuel Log'!$H$5:$H$104,'Fuel Log'!$A$5:$A$104,">="&$B$3,'Fuel Log'!$A$5:$A$104,"<="&$B$4,'Fuel Log'!$C$5:$C$104,$A43,'Fuel Log'!$L$5:$L$104,"Reviewed")) | H43: =IF(OR($F43="",$G43=""),"",IFERROR($G43-$F43,""))
...

Sheet Fuel Log
A1: Fictional Copper Acorn Landscaping — Fuel Log
A2: Yellow cells are editable. Recorded and Reviewed entries are included in Summary actuals; alerts prompt a manual check.
A4: Date | B4: Equipment ID | C4: Equipment Class | D4: Property or Job | E4: Fuel Type | F4: Gallons | G4: Price per Gallon | H4: Actual Cost | I4: Budget Price per Gallon | J4: Rate-Based Cost | K4: Rate Variance | L4: Entry Status | M4: Notes
A5: 46266 | B5: FIC-PU-01 | C5: Pickup Truck | D5: Fictional Cedar Kite Commons | E5: =IF($C5="","",IFERROR(VLOOKUP($C5,Assumptions!$A$8:$D$107,2,FALSE),"")) | F5: 18.4 | G5: 3.59 | H5: =IF(OR($F5="",$G5=""),"",IFERROR($F5*$G5,"")) | I5: =IF($C5="","",IFERROR(VLOOKUP($C5,Assumptions!$A$8:$D$107,4,FALSE),"")) | J5: =IF(OR($F5="",$I5=""),"",IFERROR($F5*$I5,"")) | K5: =IF(OR($H5="",$J5=""),"",IFERROR($H5-$J5,"")) | L5: Reviewed | M5: Manual receipt entry.
A6: 46267 | B6: FIC-ZM-01 | C6: Zero-Turn Mower | D6: Fictional Blue Pebble Residence | E6: =IF($C6="","",IFERROR(VLOOKUP($C6,Assumptions!$A$8:$D$107,2,FALSE),"")) | F6: 8.2 | G6: 3.49 | H6: =IF(OR($F6="",$G6=""),"",IFERROR($F6*$G6,"")) | I6: =IF($C6="","",IFERROR(VLOOKUP($C6,Assumptions!$A$8:$D$107,4,FALSE),"")) | J6: =IF(OR($F6="",$I6=""),"",IFERROR($F6*$I6,"")) | K6: =IF(OR($H6="",$J6=""),"",IFERROR($H6-$J6,"")) | L6: Reviewed
A7: 46268 | B7: FIC-SS-01 | C7: Skid Steer | D7: Fictional Willow Button Offices | E7: =IF($C7="","",IFERROR(VLOOKUP($C7,Assumptions!$A$8:$D$107,2,FALSE),"")) | F7: 14.7 | G7: 3.89 | H7: =IF(OR($F7="",$G7=""),"",IFERROR($F7*$G7,"")) | I7: =IF($C7="","",IFERROR(VLOOKUP($C7,Assumptions!$A$8:$D$107,4,FALSE),"")) | J7: =IF(OR($F7="",$I7=""),"",IFERROR($F7*$I7,"")) | K7: =IF(OR($H7="",$J7=""),"",IFERROR($H7-$J7,"")) | L7: Recorded | M7: Review fuel slip.
A8: 46269 | B8: FIC-LB-01 | C8: Leaf Blower | D8: Fictional Juniper Paper Plaza | E8: =IF($C8="","",IFERROR(VLOOKUP($C8,Assumptions!$A$8:$D$107,2,FALSE),"")) | F8: 2.1 | G8: 3.55 | H8: =IF(OR($F8="",$G8=""),"",IFERROR($F8*$G8,"")) | I8: =IF($C8="","",IFERROR(VLOOKUP($C8,Assumptions!$A$8:$D$107,4,FALSE),"")) | J8: =IF(OR($F8="",$I8=""),"",IFERROR($F8*$I8,"")) | K8: =IF(OR($H8="",$J8=""),"",IFERROR($H8-$J8,"")) | L8: Reviewed
A9: 46270 | B9: FIC-CT-01 | C9: Compact Tractor | D9: Fictional Meadow Lantern Park | E9: =IF($C9="","",IFERROR(VLOOKUP($C9,Assumptions!$A$8:$D$107,2,FALSE),"")) | F9: 11.3 | G9: 3.92 | H9: =IF(OR($F9="",$G9=""),"",IFERROR($F9*$G9,"")) | I9: =IF($C9="","",IFERROR(VLOOKUP($C9,Assumptions!$A$8:$D$107,4,FALSE),"")) | J9: =IF(OR($F9="",$I9=""),"",IFERROR($F9*$I9,"")) | K9: =IF(OR($H9="",$J9=""),"",IFERROR($H9-$J9,"")) | L9: Recorded | M9: Review fuel slip.
A10: 46271 | B10: FIC-ST-01 | C10: String Trimmer | D10: Fictional Copper Finch Courtyard | E10: =IF($C10="","",IFERROR(VLOOKUP($C10,Assumptions!$A$8:$D$107,2,FALSE),"")) | F10: 1.8 | G10: 3.61 | H10: =IF(OR($F10="",$G10=""),"",IFERROR($F10*$G10,"")) | I10: =IF($C10="","",IFERROR(VLOOKUP($C10,Assumptions!$A$8:$D$107,4,FALSE),"")) | J10: =IF(OR($F10="",$I10=""),"",IFERROR($F10*$I10,"")) | K10: =IF(OR($H10="",$J10=""),"",IFERROR($H10-$J10,"")) | L10: Reviewed
A11: 46272 | B11: FIC-WM-01 | C11: Walk-Behind Mower | D11: Fictional Silver Acorn Homes | E11: =IF($C11="","",IFERROR(VLOOKUP($C11,Assumptions!$A$8:$D$107,2,FALSE),"")) | F11: 3.6 | G11: 3.57 | H11: =IF(OR($F11="",$G11=""),"",IFERROR($F11*$G11,"")) | I11: =IF($C11="","",IFERROR(VLOOKUP($C11,Assumptions!$A$8:$D$107,4,FALSE),"")) | J11: =IF(OR($F11="",$I11=""),"",IFERROR($F11*$I11,"")) | K11: =IF(OR($H11="",$J11=""),"",IFERROR($H11-$J11,"")) | L11: Recorded | M11: Review fuel slip.
A12: 46273 | B12: FIC-UV-01 | C12: Utility Vehicle | D12: Fictional Red Kite Garden | E12: =IF($C12="","",IFERROR(VLOOKUP($C12,Assumptions!$A$8:$D$107,2,FALSE),"")) | F12: 6.4 | G12: 3.52 | H12: =IF(OR($F12="",$G12=""),"",IFERROR($F12*$G12,"")) | I12: =IF($C12="","",IFERROR(VLOOKUP($C12,Assumptions!$A$8:$D$107,4,FALSE),"")) | J12: =IF(OR($F12="",$I12=""),"",IFERROR($F12*$I12,"")) | K12: =IF(OR($H12="",$J12=""),"",IFERROR($H12-$J12,"")) | L12: Reviewed
A13: 46274 | B13: FIC-ZM-02 | C13: Zero-Turn Mower | D13: Fictional Pebble Clover Center | E13: =IF($C13="","",IFERROR(VLOOKUP($C13,Assumptions!$A$8:$D$107,2,FALSE),"")) | F13: 7.9 | G13: 3.63 | H13: =IF(OR($F13="",$G13=""),"",IFERROR($F13*$G13,"")) | I13: =IF($C13="","",IFERROR(VLOOKUP($C13,Assumptions!$A$8:$D$107,4,FALSE),"")) | J13: =IF(OR($F13="",$I13=""),"",IFERROR($F13*$I13,"")) | K13: =IF(OR($H13="",$J13=""),"",IFERROR($H13-$J13,"")) | L13: Recorded | M13: Review fuel slip.
A14: 46275 | B14: FIC-PU-02 | C14: Pickup Truck | D14: Fictional Maple Button Grounds | E14: =IF($C14="","",IFERROR(VLOOKUP($C14,Assumptions!$A$8:$D$107,2,FALSE),"")) | F14: 16.8 | G14: 3.67 | H14: =IF(OR($F14="",$G14=""),"",IFERROR($F14*$G14,"")) | I14: =IF($C14="","",IFERROR(VLOOKUP($C14,Assumptions!$A$8:$D$107,4,FALSE),"")) | J14: =IF(OR($F14="",$I14=""),"",IFERROR($F14*$I14,"")) | K14: =IF(OR($H14="",$J14=""),"",IFERROR($H14-$J14,"")) | L14: Recorded | M14: Review fuel slip.
E15: =IF($C15="","",IFERROR(VLOOKUP($C15,Assumptions!$A$8:$D$107,2,FALSE),"")) | H15: =IF(OR($F15="",$G15=""),"",IFERROR($F15*$G15,"")) | I15: =IF($C15="","",IFERROR(VLOOKUP($C15,Assumptions!$A$8:$D$107,4,FALSE),"")) | J15: =IF(OR($F15="",$I15=""),"",IFERROR($F15*$I15,"")) | K15: =IF(OR($H15="",$J15=""),"",IFERROR($H15-$J15,""))
E16: =IF($C16="","",IFERROR(VLOOKUP($C16,Assumptions!$A$8:$D$107,2,FALSE),"")) | H16: =IF(OR($F16="",$G16=""),"",IFERROR($F16*$G16,"")) | I16: =IF($C16="","",IFERROR(VLOOKUP($C16,Assumptions!$A$8:$D$107,4,FALSE),"")) | J16: =IF(OR($F16="",$I16=""),"",IFERROR($F16*$I16,"")) | K16: =IF(OR($H16="",$J16=""),"",IFERROR($H16-$J16,""))
E17: =IF($C17="","",IFERROR(VLOOKUP($C17,Assumptions!$A$8:$D$107,2,FALSE),"")) | H17: =IF(OR($F17="",$G17=""),"",IFERROR($F17*$G17,"")) | I17: =IF($C17="","",IFERROR(VLOOKUP($C17,Assumptions!$A$8:$D$107,4,FALSE),"")) | J17: =IF(OR($F17="",$I17=""),"",IFERROR($F17*$I17,"")) | K17: =IF(OR($H17="",$J17=""),"",IFERROR($H17-$J17,""))
E18: =IF($C18="","",IFERROR(VLOOKUP($C18,Assumptions!$A$8:$D$107,2,FALSE),"")) | H18: =IF(OR($F18="",$G18=""),"",IFERROR($F18*$G18,"")) | I18: =IF($C18="","",IFERROR(VLOOKUP($C18,Assumptions!$A$8:$D$107,4,FALSE),"")) | J18: =IF(OR($F18="",$I18=""),"",IFERROR($F18*$I18,"")) | K18: =IF(OR($H18="",$J18=""),"",IFERROR($H18-$J18,""))
E19: =IF($C19="","",IFERROR(VLOOKUP($C19,Assumptions!$A$8:$D$107,2,FALSE),"")) | H19: =IF(OR($F19="",$G19=""),"",IFERROR($F19*$G19,"")) | I19: =IF($C19="","",IFERROR(VLOOKUP($C19,Assumptions!$A$8:$D$107,4,FALSE),"")) | J19: =IF(OR($F19="",$I19=""),"",IFERROR($F19*$I19,"")) | K19: =IF(OR($H19="",$J19=""),"",IFERROR($H19-$J19,""))
E20: =IF($C20="","",IFERROR(VLOOKUP($C20,Assumptions!$A$8:$D$107,2,FALSE),"")) | H20: =IF(OR($F20="",$G20=""),"",IFERROR($F20*$G20,"")) | I20: =IF($C20="","",IFERROR(VLOOKUP($C20,Assumptions!$A$8:$D$107,4,FALSE),"")) | J20: =IF(OR($F20="",$I20=""),"",IFERROR($F20*$I20,"")) | K20: =IF(OR($H20="",$J20=""),"",IFERROR($H20-$J20,""))
E21: =IF($C21="","",IFERROR(VLOOKUP($C21,Assumptions!$A$8:$D$107,2,FALSE),"")) | H21: =IF(OR($F21="",$G21=""),"",IFERROR($F21*$G21,"")) | I21: =IF($C21="","",IFERROR(VLOOKUP($C21,Assumptions!$A$8:$D$107,4,FALSE),"")) | J21: =IF(OR($F21="",$I21=""),"",IFERROR($F21*$I21,"")) | K21: =IF(OR($H21="",$J21=""),"",IFERROR($H21-$J21,""))
E22: =IF($C22="","",IFERROR(VLOOKUP($C22,Assumptions!$A$8:$D$107,2,FALSE),"")) | H22: =IF(OR($F22="",$G22=""),"",IFERROR($F22*$G22,"")) | I22: =IF($C22="","",IFERROR(VLOOKUP($C22,Assumptions!$A$8:$D$107,4,FALSE),"")) | J22: =IF(OR($F22="",$I22=""),"",IFERROR($F22*$I22,"")) | K22: =IF(OR($H22="",$J22=""),"",IFERROR($H22-$J22,""))
E23: =IF($C23="","",IFERROR(VLOOKUP($C23,Assumptions!$A$8:$D$107,2,FALSE),"")) | H23: =IF(OR($F23="",$G23=""),"",IFERROR($F23*$G23,"")) | I23: =IF($C23="","",IFERROR(VLOOKUP($C23,Assumptions!$A$8:$D$107,4,FALSE),"")) | J23: =IF(OR($F23="",$I23=""),"",IFERROR($F23*$I23,"")) | K23: =IF(OR($H23="",$J23=""),"",IFERROR($H23-$J23,""))
E24: =IF($C24="","",IFERROR(VLOOKUP($C24,Assumptions!$A$8:$D$107,2,FALSE),"")) | H24: =IF(OR($F24="",$G24=""),"",IFERROR($F24*$G24,"")) | I24: =IF($C24="","",IFERROR(VLOOKUP($C24,Assumptions!$A$8:$D$107,4,FALSE),"")) | J24: =IF(OR($F24="",$I24=""),"",IFERROR($F24*$I24,"")) | K24: =IF(OR($H24="",$J24=""),"",IFERROR($H24-$J24,""))
E25: =IF($C25="","",IFERROR(VLOOKUP($C25,Assumptions!$A$8:$D$107,2,FALSE),"")) | H25: =IF(OR($F25="",$G25=""),"",IFERROR($F25*$G25,"")) | I25: =IF($C25="","",IFERROR(VLOOKUP($C25,Assumptions!$A$8:$D$107,4,FALSE),"")) | J25: =IF(OR($F25="",$I25=""),"",IFERROR($F25*$I25,"")) | K25: =IF(OR($H25="",$J25=""),"",IFERROR($H25-$J25,""))
E26: =IF($C26="","",IFERROR(VLOOKUP($C26,Assumptions!$A$8:$D$107,2,FALSE),"")) | H26: =IF(OR($F26="",$G26=""),"",IFERROR($F26*$G26,"")) | I26: =IF($C26="","",IFERROR(VLOOKUP($C26,Assumptions!$A$8:$D$107,4,FALSE),"")) | J26: =IF(OR($F26="",$I26=""),"",IFERROR($F26*$I26,"")) | K26: =IF(OR($H26="",$J26=""),"",IFERROR($H26-$J26,""))
... E104: =IF($C104="","",IFERROR(VLOOKUP($C104,Assumptions!$A$8:$D$107,2,FALSE),"")) | H104: =IF(OR($F104="",$G104=""),"",IFERROR($F104*$G104,"")) | I104: =IF($C104="","",IFERROR(VLOOKUP($C104,Assumptions!$A$8:$D$107,4,FALSE),"")) | J104: =IF(OR($F104="",$I104=""),"",IFERROR($F104*$I104,"")) | K104: =IF(OR($H104="",$J104=""),"",IFERROR($H104-$J104,""))

Sheet Assumptions
A1: Fictional Copper Acorn Landscaping — Fuel Budget Assumptions
A2: Edit the reporting period, average days per month, equipment classes, monthly gallon budgets, and planning prices.
A3: Reporting start date | B3: 46266
A4: Reporting end date | B4: 46275
A5: Average days per month | B5: 30.4375
A7: Equipment Class | B7: Default Fuel Type | C7: Monthly Budget Gallons | D7: Budget Price per Gallon
A8: Pickup Truck | B8: Gasoline | C8: 220 | D8: 3.65
A9: Zero-Turn Mower | B9: Gasoline | C9: 90 | D9: 3.58
A10: Walk-Behind Mower | B10: Gasoline | C10: 25 | D10: 3.58
A11: Skid Steer | B11: Diesel | C11: 110 | D11: 3.95
A12: Compact Tractor | B12: Diesel | C12: 75 | D12: 3.95
A13: Leaf Blower | B13: Gasoline | C13: 18 | D13: 3.62
A14: String Trimmer | B14: Gasoline | C14: 14 | D14: 3.62
A15: Utility Vehicle | B15: Gasoline | C15: 45 | D15: 3.6
