Workbook

Sheet Summary
A1: Fictional Copper Acorn Landscaping — Landscaping Fuel Budget Worksheet
A2: Budget and actual indicators use the editable reporting period and equipment class assumptions.
A3: Reporting start date | B3: =IF(Assumptions!$B$3="","",Assumptions!$B$3) | D3: Actual gallons | E3: =IF(OR($B$3="",$B$4="",$B$4<$B$3),"",SUMIFS('Fuel Log'!$F$5:$F$104,'Fuel Log'!$A$5:$A$104,">="&$B$3,'Fuel Log'!$A$5:$A$104,"<="&$B$4,'Fuel Log'!$L$5:$L$104,"Recorded")+SUMIFS('Fuel Log'!$F$5:$F$104,'Fuel Log'!$A$5:$A$104,">="&$B$3,'Fuel Log'!$A$5:$A$104,"<="&$B$4,'Fuel Log'!$L$5:$L$104,"Reviewed"))
A4: Reporting end date | B4: =IF(Assumptions!$B$4="","",Assumptions!$B$4) | D4: Budget gallons | E4: =IF(OR($B$5="",Assumptions!$B$5=""),"",IFERROR(SUMPRODUCT(--(Assumptions!$A$8:$A$107<>""),Assumptions!$C$8:$C$107)*$B$5/Assumptions!$B$5,""))
A5: Reporting period days | B5: =IF(OR($B$3="",$B$4="",$B$4<$B$3),"",$B$4-$B$3+1) | D5: Gallon variance | E5: =IF(OR($E$3="",$E$4=""),"",IFERROR($E$3-$E$4,""))
A8: Average actual cost per gallon | B8: =IF(OR($E$3="",$B$10=""),"",IFERROR($B$10/$E$3,"")) | D8: Included transactions | E8: =IF(OR($B$3="",$B$4="",$B$4<$B$3),"",COUNTIFS('Fuel Log'!$A$5:$A$104,">="&$B$3,'Fuel Log'!$A$5:$A$104,"<="&$B$4,'Fuel Log'!$L$5:$L$104,"Recorded")+COUNTIFS('Fuel Log'!$A$5:$A$104,">="&$B$3,'Fuel Log'!$A$5:$A$104,"<="&$B$4,'Fuel Log'!$L$5:$L$104,"Reviewed"))
A9: Unmatched class entries | B9: =IF(OR($B$3="",$B$4="",$B$4<$B$3),"",COUNTIFS('Fuel Log'!$A$5:$A$104,">="&$B$3,'Fuel Log'!$A$5:$A$104,"<="&$B$4,'Fuel Log'!$C$5:$C$104,"<>",'Fuel Log'!$I$5:$I$104,"",'Fuel Log'!$L$5:$L$104,"Recorded")+COUNTIFS('Fuel Log'!$A$5:$A$104,">="&$B$3,'Fuel Log'!$A$5:$A$104,"<="&$B$4,'Fuel Log'!$C$5:$C$104,"<>",'Fuel Log'!$I$5:$I$104,"",'Fuel Log'!$L$5:$L$104,"Reviewed")) | D9: Recorded entries to review | E9: =IF(OR($B$3="",$B$4="",$B$4<$B$3),"",COUNTIFS('Fuel Log'!$A$5:$A$104,">="&$B$3,'Fuel Log'!$A$5:$A$104,"<="&$B$4,'Fuel Log'!$L$5:$L$104,"Recorded"))
A10: Actual fuel cost | B10: =IF(OR($B$3="",$B$4="",$B$4<$B$3),"",SUMIFS('Fuel Log'!$H$5:$H$104,'Fuel Log'!$A$5:$A$104,">="&$B$3,'Fuel Log'!$A$5:$A$104,"<="&$B$4,'Fuel Log'!$L$5:$L$104,"Recorded")+SUMIFS('Fuel Log'!$H$5:$H$104,'Fuel Log'!$A$5:$A$104,">="&$B$3,'Fuel Log'!$A$5:$A$104,"<="&$B$4,'Fuel Log'!$L$5:$L$104,"Reviewed")) | D10: Budget fuel cost | E10: =IF(OR($B$5="",Assumptions!$B$5=""),"",IFERROR(SUMPRODUCT(--(Assumptions!$A$8:$A$107<>""),Assumptions!$C$8:$C$107,Assumptions!$D$8:$D$107)*$B$5/Assumptions!$B$5,""))
D11: Cost variance | E11: =IF(OR($B$10="",$E$10=""),"",IFERROR($B$10-$E$10,""))
A13: Equipment Class | B13: Monthly Budget Gallons | C13: Period Budget Gallons | D13: Actual Gallons | E13: Gallon Variance | F13: Budget Cost | G13: Actual Cost | H13: Cost Variance | J13: Class | K13: Budget Cost | L13: Actual Cost
A14: =IF(Assumptions!$A$8="","",Assumptions!$A$8) | B14: =IF($A14="","",IFERROR(VLOOKUP($A14,Assumptions!$A$8:$D$107,3,FALSE),"")) | C14: =IF(OR($A14="",$B$5="",$B14="",Assumptions!$B$5=""),"",IFERROR($B14*$B$5/Assumptions!$B$5,"")) | D14: =IF(OR($A14="",$B$3="",$B$4="",$B$4<$B$3),"",SUMIFS('Fuel Log'!$F$5:$F$104,'Fuel Log'!$A$5:$A$104,">="&$B$3,'Fuel Log'!$A$5:$A$104,"<="&$B$4,'Fuel Log'!$C$5:$C$104,$A14,'Fuel Log'!$L$5:$L$104,"Recorded")+SUMIFS('Fuel Log'!$F$5:$F$104,'Fuel Log'!$A$5:$A$104,">="&$B$3,'Fuel Log'!$A$5:$A$104,"<="&$B$4,'Fuel Log'!$C$5:$C$104,$A14,'Fuel Log'!$L$5:$L$104,"Reviewed")) | E14: =IF(OR($C14="",$D14=""),"",IFERROR($D14-$C14,"")) | F14: =IF(OR($A14="",$C14=""),"",IFERROR($C14*VLOOKUP($A14,Assumptions!$A$8:$D$107,4,FALSE),"")) | G14: =IF(OR($A14="",$B$3="",$B$4="",$B$4<$B$3),"",SUMIFS('Fuel Log'!$H$5:$H$104,'Fuel Log'!$A$5:$A$104,">="&$B$3,'Fuel Log'!$A$5:$A$104,"<="&$B$4,'Fuel Log'!$C$5:$C$104,$A14,'Fuel Log'!$L$5:$L$104,"Recorded")+SUMIFS('Fuel Log'!$H$5:$H$104,'Fuel Log'!$A$5:$A$104,">="&$B$3,'Fuel Log'!$A$5:$A$104,"<="&$B$4,'Fuel Log'!$C$5:$C$104,$A14,'Fuel Log'!$L$5:$L$104,"Reviewed")) | H14: =IF(OR($F14="",$G14=""),"",IFERROR($G14-$F14,"")) | J14: =IF($A14="","",$A14) | K14: =IF(OR($A14="",$F14=""),NA(),$F14) | L14: =IF(OR($A14="",$G14=""),NA(),$G14)
A15: =IF(Assumptions!$A$9="","",Assumptions!$A$9) | B15: =IF($A15="","",IFERROR(VLOOKUP($A15,Assumptions!$A$8:$D$107,3,FALSE),"")) | C15: =IF(OR($A15="",$B$5="",$B15="",Assumptions!$B$5=""),"",IFERROR($B15*$B$5/Assumptions!$B$5,"")) | D15: =IF(OR($A15="",$B$3="",$B$4="",$B$4<$B$3),"",SUMIFS('Fuel Log'!$F$5:$F$104,'Fuel Log'!$A$5:$A$104,">="&$B$3,'Fuel Log'!$A$5:$A$104,"<="&$B$4,'Fuel Log'!$C$5:$C$104,$A15,'Fuel Log'!$L$5:$L$104,"Recorded")+SUMIFS('Fuel Log'!$F$5:$F$104,'Fuel Log'!$A$5:$A$104,">="&$B$3,'Fuel Log'!$A$5:$A$104,"<="&$B$4,'Fuel Log'!$C$5:$C$104,$A15,'Fuel Log'!$L$5:$L$104,"Reviewed")) | E15: =IF(OR($C15="",$D15=""),"",IFERROR($D15-$C15,"")) | F15: =IF(OR($A15="",$C15=""),"",IFERROR($C15*VLOOKUP($A15,Assumptions!$A$8:$D$107,4,FALSE),"")) | G15: =IF(OR($A15="",$B$3="",$B$4="",$B$4<$B$3),"",SUMIFS('Fuel Log'!$H$5:$H$104,'Fuel Log'!$A$5:$A$104,">="&$B$3,'Fuel Log'!$A$5:$A$104,"<="&$B$4,'Fuel Log'!$C$5:$C$104,$A15,'Fuel Log'!$L$5:$L$104,"Recorded")+SUMIFS('Fuel Log'!$H$5:$H$104,'Fuel Log'!$A$5:$A$104,">="&$B$3,'Fuel Log'!$A$5:$A$104,"<="&$B$4,'Fuel Log'!$C$5:$C$104,$A15,'Fuel Log'!$L$5:$L$104,"Reviewed")) | H15: =IF(OR($F15="",$G15=""),"",IFERROR($G15-$F15,"")) | J15: =IF($A15="","",$A15) | K15: =IF(OR($A15="",$F15=""),NA(),$F15) | L15: =IF(OR($A15="",$G15=""),NA(),$G15)
A16: =IF(Assumptions!$A$10="","",Assumptions!$A$10) | B16: =IF($A16="","",IFERROR(VLOOKUP($A16,Assumptions!$A$8:$D$107,3,FALSE),"")) | C16: =IF(OR($A16="",$B$5="",$B16="",Assumptions!$B$5=""),"",IFERROR($B16*$B$5/Assumptions!$B$5,"")) | D16: =IF(OR($A16="",$B$3="",$B$4="",$B$4<$B$3),"",SUMIFS('Fuel Log'!$F$5:$F$104,'Fuel Log'!$A$5:$A$104,">="&$B$3,'Fuel Log'!$A$5:$A$104,"<="&$B$4,'Fuel Log'!$C$5:$C$104,$A16,'Fuel Log'!$L$5:$L$104,"Recorded")+SUMIFS('Fuel Log'!$F$5:$F$104,'Fuel Log'!$A$5:$A$104,">="&$B$3,'Fuel Log'!$A$5:$A$104,"<="&$B$4,'Fuel Log'!$C$5:$C$104,$A16,'Fuel Log'!$L$5:$L$104,"Reviewed")) | E16: =IF(OR($C16="",$D16=""),"",IFERROR($D16-$C16,"")) | F16: =IF(OR($A16="",$C16=""),"",IFERROR($C16*VLOOKUP($A16,Assumptions!$A$8:$D$107,4,FALSE),"")) | G16: =IF(OR($A16="",$B$3="",$B$4="",$B$4<$B$3),"",SUMIFS('Fuel Log'!$H$5:$H$104,'Fuel Log'!$A$5:$A$104,">="&$B$3,'Fuel Log'!$A$5:$A$104,"<="&$B$4,'Fuel Log'!$C$5:$C$104,$A16,'Fuel Log'!$L$5:$L$104,"Recorded")+SUMIFS('Fuel Log'!$H$5:$H$104,'Fuel Log'!$A$5:$A$104,">="&$B$3,'Fuel Log'!$A$5:$A$104,"<="&$B$4,'Fuel Log'!$C$5:$C$104,$A16,'Fuel Log'!$L$5:$L$104,"Reviewed")) | H16: =IF(OR($F16="",$G16=""),"",IFERROR($G16-$F16,"")) | J16: =IF($A16="","",$A16) | K16: =IF(OR($A16="",$F16=""),NA(),$F16) | L16: =IF(OR($A16="",$G16=""),NA(),$G16)
A17: =IF(Assumptions!$A$11="","",Assumptions!$A$11) | B17: =IF($A17="","",IFERROR(VLOOKUP($A17,Assumptions!$A$8:$D$107,3,FALSE),"")) | C17: =IF(OR($A17="",$B$5="",$B17="",Assumptions!$B$5=""),"",IFERROR($B17*$B$5/Assumptions!$B$5,"")) | D17: =IF(OR($A17="",$B$3="",$B$4="",$B$4<$B$3),"",SUMIFS('Fuel Log'!$F$5:$F$104,'Fuel Log'!$A$5:$A$104,">="&$B$3,'Fuel Log'!$A$5:$A$104,"<="&$B$4,'Fuel Log'!$C$5:$C$104,$A17,'Fuel Log'!$L$5:$L$104,"Recorded")+SUMIFS('Fuel Log'!$F$5:$F$104,'Fuel Log'!$A$5:$A$104,">="&$B$3,'Fuel Log'!$A$5:$A$104,"<="&$B$4,'Fuel Log'!$C$5:$C$104,$A17,'Fuel Log'!$L$5:$L$104,"Reviewed")) | E17: =IF(OR($C17="",$D17=""),"",IFERROR($D17-$C17,"")) | F17: =IF(OR($A17="",$C17=""),"",IFERROR($C17*VLOOKUP($A17,Assumptions!$A$8:$D$107,4,FALSE),"")) | G17: =IF(OR($A17="",$B$3="",$B$4="",$B$4<$B$3),"",SUMIFS('Fuel Log'!$H$5:$H$104,'Fuel Log'!$A$5:$A$104,">="&$B$3,'Fuel Log'!$A$5:$A$104,"<="&$B$4,'Fuel Log'!$C$5:$C$104,$A17,'Fuel Log'!$L$5:$L$104,"Recorded")+SUMIFS('Fuel Log'!$H$5:$H$104,'Fuel Log'!$A$5:$A$104,">="&$B$3,'Fuel Log'!$A$5:$A$104,"<="&$B$4,'Fuel Log'!$C$5:$C$104,$A17,'Fuel Log'!$L$5:$L$104,"Reviewed")) | H17: =IF(OR($F17="",$G17=""),"",IFERROR($G17-$F17,"")) | J17: =IF($A17="","",$A17) | K17: =IF(OR($A17="",$F17=""),NA(),$F17) | L17: =IF(OR($A17="",$G17=""),NA(),$G17)
A18: =IF(Assumptions!$A$12="","",Assumptions!$A$12) | B18: =IF($A18="","",IFERROR(VLOOKUP($A18,Assumptions!$A$8:$D$107,3,FALSE),"")) | C18: =IF(OR($A18="",$B$5="",$B18="",Assumptions!$B$5=""),"",IFERROR($B18*$B$5/Assumptions!$B$5,"")) | D18: =IF(OR($A18="",$B$3="",$B$4="",$B$4<$B$3),"",SUMIFS('Fuel Log'!$F$5:$F$104,'Fuel Log'!$A$5:$A$104,">="&$B$3,'Fuel Log'!$A$5:$A$104,"<="&$B$4,'Fuel Log'!$C$5:$C$104,$A18,'Fuel Log'!$L$5:$L$104,"Recorded")+SUMIFS('Fuel Log'!$F$5:$F$104,'Fuel Log'!$A$5:$A$104,">="&$B$3,'Fuel Log'!$A$5:$A$104,"<="&$B$4,'Fuel Log'!$C$5:$C$104,$A18,'Fuel Log'!$L$5:$L$104,"Reviewed")) | E18: =IF(OR($C18="",$D18=""),"",IFERROR($D18-$C18,"")) | F18: =IF(OR($A18="",$C18=""),"",IFERROR($C18*VLOOKUP($A18,Assumptions!$A$8:$D$107,4,FALSE),"")) | G18: =IF(OR($A18="",$B$3="",$B$4="",$B$4<$B$3),"",SUMIFS('Fuel Log'!$H$5:$H$104,'Fuel Log'!$A$5:$A$104,">="&$B$3,'Fuel Log'!$A$5:$A$104,"<="&$B$4,'Fuel Log'!$C$5:$C$104,$A18,'Fuel Log'!$L$5:$L$104,"Recorded")+SUMIFS('Fuel Log'!$H$5:$H$104,'Fuel Log'!$A$5:$A$104,">="&$B$3,'Fuel Log'!$A$5:$A$104,"<="&$B$4,'Fuel Log'!$C$5:$C$104,$A18,'Fuel Log'!$L$5:$L$104,"Reviewed")) | H18: =IF(OR($F18="",$G18=""),"",IFERROR($G18-$F18,"")) | J18: =IF($A18="","",$A18) | K18: =IF(OR($A18="",$F18=""),NA(),$F18) | L18: =IF(OR($A18="",$G18=""),NA(),$G18)
A19: =IF(Assumptions!$A$13="","",Assumptions!$A$13) | B19: =IF($A19="","",IFERROR(VLOOKUP($A19,Assumptions!$A$8:$D$107,3,FALSE),"")) | C19: =IF(OR($A19="",$B$5="",$B19="",Assumptions!$B$5=""),"",IFERROR($B19*$B$5/Assumptions!$B$5,"")) | D19: =IF(OR($A19="",$B$3="",$B$4="",$B$4<$B$3),"",SUMIFS('Fuel Log'!$F$5:$F$104,'Fuel Log'!$A$5:$A$104,">="&$B$3,'Fuel Log'!$A$5:$A$104,"<="&$B$4,'Fuel Log'!$C$5:$C$104,$A19,'Fuel Log'!$L$5:$L$104,"Recorded")+SUMIFS('Fuel Log'!$F$5:$F$104,'Fuel Log'!$A$5:$A$104,">="&$B$3,'Fuel Log'!$A$5:$A$104,"<="&$B$4,'Fuel Log'!$C$5:$C$104,$A19,'Fuel Log'!$L$5:$L$104,"Reviewed")) | E19: =IF(OR($C19="",$D19=""),"",IFERROR($D19-$C19,"")) | F19: =IF(OR($A19="",$C19=""),"",IFERROR($C19*VLOOKUP($A19,Assumptions!$A$8:$D$107,4,FALSE),"")) | G19: =IF(OR($A19="",$B$3="",$B$4="",$B$4<$B$3),"",SUMIFS('Fuel Log'!$H$5:$H$104,'Fuel Log'!$A$5:$A$104,">="&$B$3,'Fuel Log'!$A$5:$A$104,"<="&$B$4,'Fuel Log'!$C$5:$C$104,$A19,'Fuel Log'!$L$5:$L$104,"Recorded")+SUMIFS('Fuel Log'!$H$5:$H$104,'Fuel Log'!$A$5:$A$104,">="&$B$3,'Fuel Log'!$A$5:$A$104,"<="&$B$4,'Fuel Log'!$C$5:$C$104,$A19,'Fuel Log'!$L$5:$L$104,"Reviewed")) | H19: =IF(OR($F19="",$G19=""),"",IFERROR($G19-$F19,"")) | J19: =IF($A19="","",$A19) | K19: =IF(OR($A19="",$F19=""),NA(),$F19) | L19: =IF(OR($A19="",$G19=""),NA(),$G19)
A20: =IF(Assumptions!$A$14="","",Assumptions!$A$14) | B20: =IF($A20="","",IFERROR(VLOOKUP($A20,Assumptions!$A$8:$D$107,3,FALSE),"")) | C20: =IF(OR($A20="",$B$5="",$B20="",Assumptions!$B$5=""),"",IFERROR($B20*$B$5/Assumptions!$B$5,"")) | D20: =IF(OR($A20="",$B$3="",$B$4="",$B$4<$B$3),"",SUMIFS('Fuel Log'!$F$5:$F$104,'Fuel Log'!$A$5:$A$104,">="&$B$3,'Fuel Log'!$A$5:$A$104,"<="&$B$4,'Fuel Log'!$C$5:$C$104,$A20,'Fuel Log'!$L$5:$L$104,"Recorded")+SUMIFS('Fuel Log'!$F$5:$F$104,'Fuel Log'!$A$5:$A$104,">="&$B$3,'Fuel Log'!$A$5:$A$104,"<="&$B$4,'Fuel Log'!$C$5:$C$104,$A20,'Fuel Log'!$L$5:$L$104,"Reviewed")) | E20: =IF(OR($C20="",$D20=""),"",IFERROR($D20-$C20,"")) | F20: =IF(OR($A20="",$C20=""),"",IFERROR($C20*VLOOKUP($A20,Assumptions!$A$8:$D$107,4,FALSE),"")) | G20: =IF(OR($A20="",$B$3="",$B$4="",$B$4<$B$3),"",SUMIFS('Fuel Log'!$H$5:$H$104,'Fuel Log'!$A$5:$A$104,">="&$B$3,'Fuel Log'!$A$5:$A$104,"<="&$B$4,'Fuel Log'!$C$5:$C$104,$A20,'Fuel Log'!$L$5:$L$104,"Recorded")+SUMIFS('Fuel Log'!$H$5:$H$104,'Fuel Log'!$A$5:$A$104,">="&$B$3,'Fuel Log'!$A$5:$A$104,"<="&$B$4,'Fuel Log'!$C$5:$C$104,$A20,'Fuel Log'!$L$5:$L$104,"Reviewed")) | H20: =IF(OR($F20="",$G20=""),"",IFERROR($G20-$F20,"")) | J20: =IF($A20="","",$A20) | K20: =IF(OR($A20="",$F20=""),NA(),$F20) | L20: =IF(OR($A20="",$G20=""),NA(),$G20)
A21: =IF(Assumptions!$A$15="","",Assumptions!$A$15) | B21: =IF($A21="","",IFERROR(VLOOKUP($A21,Assumptions!$A$8:$D$107,3,FALSE),"")) | C21: =IF(OR($A21="",$B$5="",$B21="",Assumptions!$B$5=""),"",IFERROR($B21*$B$5/Assumptions!$B$5,"")) | D21: =IF(OR($A21="",$B$3="",$B$4="",$B$4<$B$3),"",SUMIFS('Fuel Log'!$F$5:$F$104,'Fuel Log'!$A$5:$A$104,">="&$B$3,'Fuel Log'!$A$5:$A$104,"<="&$B$4,'Fuel Log'!$C$5:$C$104,$A21,'Fuel Log'!$L$5:$L$104,"Recorded")+SUMIFS('Fuel Log'!$F$5:$F$104,'Fuel Log'!$A$5:$A$104,">="&$B$3,'Fuel Log'!$A$5:$A$104,"<="&$B$4,'Fuel Log'!$C$5:$C$104,$A21,'Fuel Log'!$L$5:$L$104,"Reviewed")) | E21: =IF(OR($C21="",$D21=""),"",IFERROR($D21-$C21,"")) | F21: =IF(OR($A21="",$C21=""),"",IFERROR($C21*VLOOKUP($A21,Assumptions!$A$8:$D$107,4,FALSE),"")) | G21: =IF(OR($A21="",$B$3="",$B$4="",$B$4<$B$3),"",SUMIFS('Fuel Log'!$H$5:$H$104,'Fuel Log'!$A$5:$A$104,">="&$B$3,'Fuel Log'!$A$5:$A$104,"<="&$B$4,'Fuel Log'!$C$5:$C$104,$A21,'Fuel Log'!$L$5:$L$104,"Recorded")+SUMIFS('Fuel Log'!$H$5:$H$104,'Fuel Log'!$A$5:$A$104,">="&$B$3,'Fuel Log'!$A$5:$A$104,"<="&$B$4,'Fuel Log'!$C$5:$C$104,$A21,'Fuel Log'!$L$5:$L$104,"Reviewed")) | H21: =IF(OR($F21="",$G21=""),"",IFERROR($G21-$F21,"")) | J21: =IF($A21="","",$A21) | K21: =IF(OR($A21="",$F21=""),NA(),$F21) | L21: =IF(OR($A21="",$G21=""),NA(),$G21)
A22: =IF(Assumptions!$A$16="","",Assumptions!$A$16) | B22: =IF($A22="","",IFERROR(VLOOKUP($A22,Assumptions!$A$8:$D$107,3,FALSE),"")) | C22: =IF(OR($A22="",$B$5="",$B22="",Assumptions!$B$5=""),"",IFERROR($B22*$B$5/Assumptions!$B$5,"")) | D22: =IF(OR($A22="",$B$3="",$B$4="",$B$4<$B$3),"",SUMIFS('Fuel Log'!$F$5:$F$104,'Fuel Log'!$A$5:$A$104,">="&$B$3,'Fuel Log'!$A$5:$A$104,"<="&$B$4,'Fuel Log'!$C$5:$C$104,$A22,'Fuel Log'!$L$5:$L$104,"Recorded")+SUMIFS('Fuel Log'!$F$5:$F$104,'Fuel Log'!$A$5:$A$104,">="&$B$3,'Fuel Log'!$A$5:$A$104,"<="&$B$4,'Fuel Log'!$C$5:$C$104,$A22,'Fuel Log'!$L$5:$L$104,"Reviewed")) | E22: =IF(OR($C22="",$D22=""),"",IFERROR($D22-$C22,"")) | F22: =IF(OR($A22="",$C22=""),"",IFERROR($C22*VLOOKUP($A22,Assumptions!$A$8:$D$107,4,FALSE),"")) | G22: =IF(OR($A22="",$B$3="",$B$4="",$B$4<$B$3),"",SUMIFS('Fuel Log'!$H$5:$H$104,'Fuel Log'!$A$5:$A$104,">="&$B$3,'Fuel Log'!$A$5:$A$104,"<="&$B$4,'Fuel Log'!$C$5:$C$104,$A22,'Fuel Log'!$L$5:$L$104,"Recorded")+SUMIFS('Fuel Log'!$H$5:$H$104,'Fuel Log'!$A$5:$A$104,">="&$B$3,'Fuel Log'!$A$5:$A$104,"<="&$B$4,'Fuel Log'!$C$5:$C$104,$A22,'Fuel Log'!$L$5:$L$104,"Reviewed")) | H22: =IF(OR($F22="",$G22=""),"",IFERROR($G22-$F22,""))
A23: =IF(Assumptions!$A$17="","",Assumptions!$A$17) | B23: =IF($A23="","",IFERROR(VLOOKUP($A23,Assumptions!$A$8:$D$107,3,FALSE),"")) | C23: =IF(OR($A23="",$B$5="",$B23="",Assumptions!$B$5=""),"",IFERROR($B23*$B$5/Assumptions!$B$5,"")) | D23: =IF(OR($A23="",$B$3="",$B$4="",$B$4<$B$3),"",SUMIFS('Fuel Log'!$F$5:$F$104,'Fuel Log'!$A$5:$A$104,">="&$B$3,'Fuel Log'!$A$5:$A$104,"<="&$B$4,'Fuel Log'!$C$5:$C$104,$A23,'Fuel Log'!$L$5:$L$104,"Recorded")+SUMIFS('Fuel Log'!$F$5:$F$104,'Fuel Log'!$A$5:$A$104,">="&$B$3,'Fuel Log'!$A$5:$A$104,"<="&$B$4,'Fuel Log'!$C$5:$C$104,$A23,'Fuel Log'!$L$5:$L$104,"Reviewed")) | E23: =IF(OR($C23="",$D23=""),"",IFERROR($D23-$C23,"")) | F23: =IF(OR($A23="",$C23=""),"",IFERROR($C23*VLOOKUP($A23,Assumptions!$A$8:$D$107,4,FALSE),"")) | G23: =IF(OR($A23="",$B$3="",$B$4="",$B$4<$B$3),"",SUMIFS('Fuel Log'!$H$5:$H$104,'Fuel Log'!$A$5:$A$104,">="&$B$3,'Fuel Log'!$A$5:$A$104,"<="&$B$4,'Fuel Log'!$C$5:$C$104,$A23,'Fuel Log'!$L$5:$L$104,"Recorded")+SUMIFS('Fuel Log'!$H$5:$H$104,'Fuel Log'!$A$5:$A$104,">="&$B$3,'Fuel Log'!$A$5:$A$104,"<="&$B$4,'Fuel Log'!$C$5:$C$104,$A23,'Fuel Log'!$L$5:$L$104,"Reviewed")) | H23: =IF(OR($F23="",$G23=""),"",IFERROR($G23-$F23,""))
A24: =IF(Assumptions!$A$18="","",Assumptions!$A$18) | B24: =IF($A24="","",IFERROR(VLOOKUP($A24,Assumptions!$A$8:$D$107,3,FALSE),"")) | C24: =IF(OR($A24="",$B$5="",$B24="",Assumptions!$B$5=""),"",IFERROR($B24*$B$5/Assumptions!$B$5,"")) | D24: =IF(OR($A24="",$B$3="",$B$4="",$B$4<$B$3),"",SUMIFS('Fuel Log'!$F$5:$F$104,'Fuel Log'!$A$5:$A$104,">="&$B$3,'Fuel Log'!$A$5:$A$104,"<="&$B$4,'Fuel Log'!$C$5:$C$104,$A24,'Fuel Log'!$L$5:$L$104,"Recorded")+SUMIFS('Fuel Log'!$F$5:$F$104,'Fuel Log'!$A$5:$A$104,">="&$B$3,'Fuel Log'!$A$5:$A$104,"<="&$B$4,'Fuel Log'!$C$5:$C$104,$A24,'Fuel Log'!$L$5:$L$104,"Reviewed")) | E24: =IF(OR($C24="",$D24=""),"",IFERROR($D24-$C24,"")) | F24: =IF(OR($A24="",$C24=""),"",IFERROR($C24*VLOOKUP($A24,Assumptions!$A$8:$D$107,4,FALSE),"")) | G24: =IF(OR($A24="",$B$3="",$B$4="",$B$4<$B$3),"",SUMIFS('Fuel Log'!$H$5:$H$104,'Fuel Log'!$A$5:$A$104,">="&$B$3,'Fuel Log'!$A$5:$A$104,"<="&$B$4,'Fuel Log'!$C$5:$C$104,$A24,'Fuel Log'!$L$5:$L$104,"Recorded")+SUMIFS('Fuel Log'!$H$5:$H$104,'Fuel Log'!$A$5:$A$104,">="&$B$3,'Fuel Log'!$A$5:$A$104,"<="&$B$4,'Fuel Log'!$C$5:$C$104,$A24,'Fuel Log'!$L$5:$L$104,"Reviewed")) | H24: =IF(OR($F24="",$G24=""),"",IFERROR($G24-$F24,""))
A25: =IF(Assumptions!$A$19="","",Assumptions!$A$19) | B25: =IF($A25="","",IFERROR(VLOOKUP($A25,Assumptions!$A$8:$D$107,3,FALSE),"")) | C25: =IF(OR($A25="",$B$5="",$B25="",Assumptions!$B$5=""),"",IFERROR($B25*$B$5/Assumptions!$B$5,"")) | D25: =IF(OR($A25="",$B$3="",$B$4="",$B$4<$B$3),"",SUMIFS('Fuel Log'!$F$5:$F$104,'Fuel Log'!$A$5:$A$104,">="&$B$3,'Fuel Log'!$A$5:$A$104,"<="&$B$4,'Fuel Log'!$C$5:$C$104,$A25,'Fuel Log'!$L$5:$L$104,"Recorded")+SUMIFS('Fuel Log'!$F$5:$F$104,'Fuel Log'!$A$5:$A$104,">="&$B$3,'Fuel Log'!$A$5:$A$104,"<="&$B$4,'Fuel Log'!$C$5:$C$104,$A25,'Fuel Log'!$L$5:$L$104,"Reviewed")) | E25: =IF(OR($C25="",$D25=""),"",IFERROR($D25-$C25,"")) | F25: =IF(OR($A25="",$C25=""),"",IFERROR($C25*VLOOKUP($A25,Assumptions!$A$8:$D$107,4,FALSE),"")) | G25: =IF(OR($A25="",$B$3="",$B$4="",$B$4<$B$3),"",SUMIFS('Fuel Log'!$H$5:$H$104,'Fuel Log'!$A$5:$A$104,">="&$B$3,'Fuel Log'!$A$5:$A$104,"<="&$B$4,'Fuel Log'!$C$5:$C$104,$A25,'Fuel Log'!$L$5:$L$104,"Recorded")+SUMIFS('Fuel Log'!$H$5:$H$104,'Fuel Log'!$A$5:$A$104,">="&$B$3,'Fuel Log'!$A$5:$A$104,"<="&$B$4,'Fuel Log'!$C$5:$C$104,$A25,'Fuel Log'!$L$5:$L$104,"Reviewed")) | H25: =IF(OR($F25="",$G25=""),"",IFERROR($G25-$F25,""))
A26: =IF(Assumptions!$A$20="","",Assumptions!$A$20) | B26: =IF($A26="","",IFERROR(VLOOKUP($A26,Assumptions!$A$8:$D$107,3,FALSE),"")) | C26: =IF(OR($A26="",$B$5="",$B26="",Assumptions!$B$5=""),"",IFERROR($B26*$B$5/Assumptions!$B$5,"")) | D26: =IF(OR($A26="",$B$3="",$B$4="",$B$4<$B$3),"",SUMIFS('Fuel Log'!$F$5:$F$104,'Fuel Log'!$A$5:$A$104,">="&$B$3,'Fuel Log'!$A$5:$A$104,"<="&$B$4,'Fuel Log'!$C$5:$C$104,$A26,'Fuel Log'!$L$5:$L$104,"Recorded")+SUMIFS('Fuel Log'!$F$5:$F$104,'Fuel Log'!$A$5:$A$104,">="&$B$3,'Fuel Log'!$A$5:$A$104,"<="&$B$4,'Fuel Log'!$C$5:$C$104,$A26,'Fuel Log'!$L$5:$L$104,"Reviewed")) | E26: =IF(OR($C26="",$D26=""),"",IFERROR($D26-$C26,"")) | F26: =IF(OR($A26="",$C26=""),"",IFERROR($C26*VLOOKUP($A26,Assumptions!$A$8:$D$107,4,FALSE),"")) | G26: =IF(OR($A26="",$B$3="",$B$4="",$B$4<$B$3),"",SUMIFS('Fuel Log'!$H$5:$H$104,'Fuel Log'!$A$5:$A$104,">="&$B$3,'Fuel Log'!$A$5:$A$104,"<="&$B$4,'Fuel Log'!$C$5:$C$104,$A26,'Fuel Log'!$L$5:$L$104,"Recorded")+SUMIFS('Fuel Log'!$H$5:$H$104,'Fuel Log'!$A$5:$A$104,">="&$B$3,'Fuel Log'!$A$5:$A$104,"<="&$B$4,'Fuel Log'!$C$5:$C$104,$A26,'Fuel Log'!$L$5:$L$104,"Reviewed")) | H26: =IF(OR($F26="",$G26=""),"",IFERROR($G26-$F26,""))
A27: =IF(Assumptions!$A$21="","",Assumptions!$A$21) | B27: =IF($A27="","",IFERROR(VLOOKUP($A27,Assumptions!$A$8:$D$107,3,FALSE),"")) | C27: =IF(OR($A27="",$B$5="",$B27="",Assumptions!$B$5=""),"",IFERROR($B27*$B$5/Assumptions!$B$5,"")) | D27: =IF(OR($A27="",$B$3="",$B$4="",$B$4<$B$3),"",SUMIFS('Fuel Log'!$F$5:$F$104,'Fuel Log'!$A$5:$A$104,">="&$B$3,'Fuel Log'!$A$5:$A$104,"<="&$B$4,'Fuel Log'!$C$5:$C$104,$A27,'Fuel Log'!$L$5:$L$104,"Recorded")+SUMIFS('Fuel Log'!$F$5:$F$104,'Fuel Log'!$A$5:$A$104,">="&$B$3,'Fuel Log'!$A$5:$A$104,"<="&$B$4,'Fuel Log'!$C$5:$C$104,$A27,'Fuel Log'!$L$5:$L$104,"Reviewed")) | E27: =IF(OR($C27="",$D27=""),"",IFERROR($D27-$C27,"")) | F27: =IF(OR($A27="",$C27=""),"",IFERROR($C27*VLOOKUP($A27,Assumptions!$A$8:$D$107,4,FALSE),"")) | G27: =IF(OR($A27="",$B$3="",$B$4="",$B$4<$B$3),"",SUMIFS('Fuel Log'!$H$5:$H$104,'Fuel Log'!$A$5:$A$104,">="&$B$3,'Fuel Log'!$A$5:$A$104,"<="&$B$4,'Fuel Log'!$C$5:$C$104,$A27,'Fuel Log'!$L$5:$L$104,"Recorded")+SUMIFS('Fuel Log'!$H$5:$H$104,'Fuel Log'!$A$5:$A$104,">="&$B$3,'Fuel Log'!$A$5:$A$104,"<="&$B$4,'Fuel Log'!$C$5:$C$104,$A27,'Fuel Log'!$L$5:$L$104,"Reviewed")) | H27: =IF(OR($F27="",$G27=""),"",IFERROR($G27-$F27,""))
A28: =IF(Assumptions!$A$22="","",Assumptions!$A$22) | B28: =IF($A28="","",IFERROR(VLOOKUP($A28,Assumptions!$A$8:$D$107,3,FALSE),"")) | C28: =IF(OR($A28="",$B$5="",$B28="",Assumptions!$B$5=""),"",IFERROR($B28*$B$5/Assumptions!$B$5,"")) | D28: =IF(OR($A28="",$B$3="",$B$4="",$B$4<$B$3),"",SUMIFS('Fuel Log'!$F$5:$F$104,'Fuel Log'!$A$5:$A$104,">="&$B$3,'Fuel Log'!$A$5:$A$104,"<="&$B$4,'Fuel Log'!$C$5:$C$104,$A28,'Fuel Log'!$L$5:$L$104,"Recorded")+SUMIFS('Fuel Log'!$F$5:$F$104,'Fuel Log'!$A$5:$A$104,">="&$B$3,'Fuel Log'!$A$5:$A$104,"<="&$B$4,'Fuel Log'!$C$5:$C$104,$A28,'Fuel Log'!$L$5:$L$104,"Reviewed")) | E28: =IF(OR($C28="",$D28=""),"",IFERROR($D28-$C28,"")) | F28: =IF(OR($A28="",$C28=""),"",IFERROR($C28*VLOOKUP($A28,Assumptions!$A$8:$D$107,4,FALSE),"")) | G28: =IF(OR($A28="",$B$3="",$B$4="",$B$4<$B$3),"",SUMIFS('Fuel Log'!$H$5:$H$104,'Fuel Log'!$A$5:$A$104,">="&$B$3,'Fuel Log'!$A$5:$A$104,"<="&$B$4,'Fuel Log'!$C$5:$C$104,$A28,'Fuel Log'!$L$5:$L$104,"Recorded")+SUMIFS('Fuel Log'!$H$5:$H$104,'Fuel Log'!$A$5:$A$104,">="&$B$3,'Fuel Log'!$A$5:$A$104,"<="&$B$4,'Fuel Log'!$C$5:$C$104,$A28,'Fuel Log'!$L$5:$L$104,"Reviewed")) | H28: =IF(OR($F28="",$G28=""),"",IFERROR($G28-$F28,""))
A29: =IF(Assumptions!$A$23="","",Assumptions!$A$23) | B29: =IF($A29="","",IFERROR(VLOOKUP($A29,Assumptions!$A$8:$D$107,3,FALSE),"")) | C29: =IF(OR($A29="",$B$5="",$B29="",Assumptions!$B$5=""),"",IFERROR($B29*$B$5/Assumptions!$B$5,"")) | D29: =IF(OR($A29="",$B$3="",$B$4="",$B$4<$B$3),"",SUMIFS('Fuel Log'!$F$5:$F$104,'Fuel Log'!$A$5:$A$104,">="&$B$3,'Fuel Log'!$A$5:$A$104,"<="&$B$4,'Fuel Log'!$C$5:$C$104,$A29,'Fuel Log'!$L$5:$L$104,"Recorded")+SUMIFS('Fuel Log'!$F$5:$F$104,'Fuel Log'!$A$5:$A$104,">="&$B$3,'Fuel Log'!$A$5:$A$104,"<="&$B$4,'Fuel Log'!$C$5:$C$104,$A29,'Fuel Log'!$L$5:$L$104,"Reviewed")) | E29: =IF(OR($C29="",$D29=""),"",IFERROR($D29-$C29,"")) | F29: =IF(OR($A29="",$C29=""),"",IFERROR($C29*VLOOKUP($A29,Assumptions!$A$8:$D$107,4,FALSE),"")) | G29: =IF(OR($A29="",$B$3="",$B$4="",$B$4<$B$3),"",SUMIFS('Fuel Log'!$H$5:$H$104,'Fuel Log'!$A$5:$A$104,">="&$B$3,'Fuel Log'!$A$5:$A$104,"<="&$B$4,'Fuel Log'!$C$5:$C$104,$A29,'Fuel Log'!$L$5:$L$104,"Recorded")+SUMIFS('Fuel Log'!$H$5:$H$104,'Fuel Log'!$A$5:$A$104,">="&$B$3,'Fuel Log'!$A$5:$A$104,"<="&$B$4,'Fuel Log'!$C$5:$C$104,$A29,'Fuel Log'!$L$5:$L$104,"Reviewed")) | H29: =IF(OR($F29="",$G29=""),"",IFERROR($G29-$F29,""))
A30: =IF(Assumptions!$A$24="","",Assumptions!$A$24) | B30: =IF($A30="","",IFERROR(VLOOKUP($A30,Assumptions!$A$8:$D$107,3,FALSE),"")) | C30: =IF(OR($A30="",$B$5="",$B30="",Assumptions!$B$5=""),"",IFERROR($B30*$B$5/Assumptions!$B$5,"")) | D30: =IF(OR($A30="",$B$3="",$B$4="",$B$4<$B$3),"",SUMIFS('Fuel Log'!$F$5:$F$104,'Fuel Log'!$A$5:$A$104,">="&$B$3,'Fuel Log'!$A$5:$A$104,"<="&$B$4,'Fuel Log'!$C$5:$C$104,$A30,'Fuel Log'!$L$5:$L$104,"Recorded")+SUMIFS('Fuel Log'!$F$5:$F$104,'Fuel Log'!$A$5:$A$104,">="&$B$3,'Fuel Log'!$A$5:$A$104,"<="&$B$4,'Fuel Log'!$C$5:$C$104,$A30,'Fuel Log'!$L$5:$L$104,"Reviewed")) | E30: =IF(OR($C30="",$D30=""),"",IFERROR($D30-$C30,"")) | F30: =IF(OR($A30="",$C30=""),"",IFERROR($C30*VLOOKUP($A30,Assumptions!$A$8:$D$107,4,FALSE),"")) | G30: =IF(OR($A30="",$B$3="",$B$4="",$B$4<$B$3),"",SUMIFS('Fuel Log'!$H$5:$H$104,'Fuel Log'!$A$5:$A$104,">="&$B$3,'Fuel Log'!$A$5:$A$104,"<="&$B$4,'Fuel Log'!$C$5:$C$104,$A30,'Fuel Log'!$L$5:$L$104,"Recorded")+SUMIFS('Fuel Log'!$H$5:$H$104,'Fuel Log'!$A$5:$A$104,">="&$B$3,'Fuel Log'!$A$5:$A$104,"<="&$B$4,'Fuel Log'!$C$5:$C$104,$A30,'Fuel Log'!$L$5:$L$104,"Reviewed")) | H30: =IF(OR($F30="",$G30=""),"",IFERROR($G30-$F30,""))
A31: =IF(Assumptions!$A$25="","",Assumptions!$A$25) | B31: =IF($A31="","",IFERROR(VLOOKUP($A31,Assumptions!$A$8:$D$107,3,FALSE),"")) | C31: =IF(OR($A31="",$B$5="",$B31="",Assumptions!$B$5=""),"",IFERROR($B31*$B$5/Assumptions!$B$5,"")) | D31: =IF(OR($A31="",$B$3="",$B$4="",$B$4<$B$3),"",SUMIFS('Fuel Log'!$F$5:$F$104,'Fuel Log'!$A$5:$A$104,">="&$B$3,'Fuel Log'!$A$5:$A$104,"<="&$B$4,'Fuel Log'!$C$5:$C$104,$A31,'Fuel Log'!$L$5:$L$104,"Recorded")+SUMIFS('Fuel Log'!$F$5:$F$104,'Fuel Log'!$A$5:$A$104,">="&$B$3,'Fuel Log'!$A$5:$A$104,"<="&$B$4,'Fuel Log'!$C$5:$C$104,$A31,'Fuel Log'!$L$5:$L$104,"Reviewed")) | E31: =IF(OR($C31="",$D31=""),"",IFERROR($D31-$C31,"")) | F31: =IF(OR($A31="",$C31=""),"",IFERROR($C31*VLOOKUP($A31,Assumptions!$A$8:$D$107,4,FALSE),"")) | G31: =IF(OR($A31="",$B$3="",$B$4="",$B$4<$B$3),"",SUMIFS('Fuel Log'!$H$5:$H$104,'Fuel Log'!$A$5:$A$104,">="&$B$3,'Fuel Log'!$A$5:$A$104,"<="&$B$4,'Fuel Log'!$C$5:$C$104,$A31,'Fuel Log'!$L$5:$L$104,"Recorded")+SUMIFS('Fuel Log'!$H$5:$H$104,'Fuel Log'!$A$5:$A$104,">="&$B$3,'Fuel Log'!$A$5:$A$104,"<="&$B$4,'Fuel Log'!$C$5:$C$104,$A31,'Fuel Log'!$L$5:$L$104,"Reviewed")) | H31: =IF(OR($F31="",$G31=""),"",IFERROR($G31-$F31,""))
A32: =IF(Assumptions!$A$26="","",Assumptions!$A$26) | B32: =IF($A32="","",IFERROR(VLOOKUP($A32,Assumptions!$A$8:$D$107,3,FALSE),"")) | C32: =IF(OR($A32="",$B$5="",$B32="",Assumptions!$B$5=""),"",IFERROR($B32*$B$5/Assumptions!$B$5,"")) | D32: =IF(OR($A32="",$B$3="",$B$4="",$B$4<$B$3),"",SUMIFS('Fuel Log'!$F$5:$F$104,'Fuel Log'!$A$5:$A$104,">="&$B$3,'Fuel Log'!$A$5:$A$104,"<="&$B$4,'Fuel Log'!$C$5:$C$104,$A32,'Fuel Log'!$L$5:$L$104,"Recorded")+SUMIFS('Fuel Log'!$F$5:$F$104,'Fuel Log'!$A$5:$A$104,">="&$B$3,'Fuel Log'!$A$5:$A$104,"<="&$B$4,'Fuel Log'!$C$5:$C$104,$A32,'Fuel Log'!$L$5:$L$104,"Reviewed")) | E32: =IF(OR($C32="",$D32=""),"",IFERROR($D32-$C32,"")) | F32: =IF(OR($A32="",$C32=""),"",IFERROR($C32*VLOOKUP($A32,Assumptions!$A$8:$D$107,4,FALSE),"")) | G32: =IF(OR($A32="",$B$3="",$B$4="",$B$4<$B$3),"",SUMIFS('Fuel Log'!$H$5:$H$104,'Fuel Log'!$A$5:$A$104,">="&$B$3,'Fuel Log'!$A$5:$A$104,"<="&$B$4,'Fuel Log'!$C$5:$C$104,$A32,'Fuel Log'!$L$5:$L$104,"Recorded")+SUMIFS('Fuel Log'!$H$5:$H$104,'Fuel Log'!$A$5:$A$104,">="&$B$3,'Fuel Log'!$A$5:$A$104,"<="&$B$4,'Fuel Log'!$C$5:$C$104,$A32,'Fuel Log'!$L$5:$L$104,"Reviewed")) | H32: =IF(OR($F32="",$G32=""),"",IFERROR($G32-$F32,""))
A33: =IF(Assumptions!$A$27="","",Assumptions!$A$27) | B33: =IF($A33="","",IFERROR(VLOOKUP($A33,Assumptions!$A$8:$D$107,3,FALSE),"")) | C33: =IF(OR($A33="",$B$5="",$B33="",Assumptions!$B$5=""),"",IFERROR($B33*$B$5/Assumptions!$B$5,"")) | D33: =IF(OR($A33="",$B$3="",$B$4="",$B$4<$B$3),"",SUMIFS('Fuel Log'!$F$5:$F$104,'Fuel Log'!$A$5:$A$104,">="&$B$3,'Fuel Log'!$A$5:$A$104,"<="&$B$4,'Fuel Log'!$C$5:$C$104,$A33,'Fuel Log'!$L$5:$L$104,"Recorded")+SUMIFS('Fuel Log'!$F$5:$F$104,'Fuel Log'!$A$5:$A$104,">="&$B$3,'Fuel Log'!$A$5:$A$104,"<="&$B$4,'Fuel Log'!$C$5:$C$104,$A33,'Fuel Log'!$L$5:$L$104,"Reviewed")) | E33: =IF(OR($C33="",$D33=""),"",IFERROR($D33-$C33,"")) | F33: =IF(OR($A33="",$C33=""),"",IFERROR($C33*VLOOKUP($A33,Assumptions!$A$8:$D$107,4,FALSE),"")) | G33: =IF(OR($A33="",$B$3="",$B$4="",$B$4<$B$3),"",SUMIFS('Fuel Log'!$H$5:$H$104,'Fuel Log'!$A$5:$A$104,">="&$B$3,'Fuel Log'!$A$5:$A$104,"<="&$B$4,'Fuel Log'!$C$5:$C$104,$A33,'Fuel Log'!$L$5:$L$104,"Recorded")+SUMIFS('Fuel Log'!$H$5:$H$104,'Fuel Log'!$A$5:$A$104,">="&$B$3,'Fuel Log'!$A$5:$A$104,"<="&$B$4,'Fuel Log'!$C$5:$C$104,$A33,'Fuel Log'!$L$5:$L$104,"Reviewed")) | H33: =IF(OR($F33="",$G33=""),"",IFERROR($G33-$F33,""))
A34: =IF(Assumptions!$A$28="","",Assumptions!$A$28) | B34: =IF($A34="","",IFERROR(VLOOKUP($A34,Assumptions!$A$8:$D$107,3,FALSE),"")) | C34: =IF(OR($A34="",$B$5="",$B34="",Assumptions!$B$5=""),"",IFERROR($B34*$B$5/Assumptions!$B$5,"")) | D34: =IF(OR($A34="",$B$3="",$B$4="",$B$4<$B$3),"",SUMIFS('Fuel Log'!$F$5:$F$104,'Fuel Log'!$A$5:$A$104,">="&$B$3,'Fuel Log'!$A$5:$A$104,"<="&$B$4,'Fuel Log'!$C$5:$C$104,$A34,'Fuel Log'!$L$5:$L$104,"Recorded")+SUMIFS('Fuel Log'!$F$5:$F$104,'Fuel Log'!$A$5:$A$104,">="&$B$3,'Fuel Log'!$A$5:$A$104,"<="&$B$4,'Fuel Log'!$C$5:$C$104,$A34,'Fuel Log'!$L$5:$L$104,"Reviewed")) | E34: =IF(OR($C34="",$D34=""),"",IFERROR($D34-$C34,"")) | F34: =IF(OR($A34="",$C34=""),"",IFERROR($C34*VLOOKUP($A34,Assumptions!$A$8:$D$107,4,FALSE),"")) | G34: =IF(OR($A34="",$B$3="",$B$4="",$B$4<$B$3),"",SUMIFS('Fuel Log'!$H$5:$H$104,'Fuel Log'!$A$5:$A$104,">="&$B$3,'Fuel Log'!$A$5:$A$104,"<="&$B$4,'Fuel Log'!$C$5:$C$104,$A34,'Fuel Log'!$L$5:$L$104,"Recorded")+SUMIFS('Fuel Log'!$H$5:$H$104,'Fuel Log'!$A$5:$A$104,">="&$B$3,'Fuel Log'!$A$5:$A$104,"<="&$B$4,'Fuel Log'!$C$5:$C$104,$A34,'Fuel Log'!$L$5:$L$104,"Reviewed")) | H34: =IF(OR($F34="",$G34=""),"",IFERROR($G34-$F34,""))
A35: =IF(Assumptions!$A$29="","",Assumptions!$A$29) | B35: =IF($A35="","",IFERROR(VLOOKUP($A35,Assumptions!$A$8:$D$107,3,FALSE),"")) | C35: =IF(OR($A35="",$B$5="",$B35="",Assumptions!$B$5=""),"",IFERROR($B35*$B$5/Assumptions!$B$5,"")) | D35: =IF(OR($A35="",$B$3="",$B$4="",$B$4<$B$3),"",SUMIFS('Fuel Log'!$F$5:$F$104,'Fuel Log'!$A$5:$A$104,">="&$B$3,'Fuel Log'!$A$5:$A$104,"<="&$B$4,'Fuel Log'!$C$5:$C$104,$A35,'Fuel Log'!$L$5:$L$104,"Recorded")+SUMIFS('Fuel Log'!$F$5:$F$104,'Fuel Log'!$A$5:$A$104,">="&$B$3,'Fuel Log'!$A$5:$A$104,"<="&$B$4,'Fuel Log'!$C$5:$C$104,$A35,'Fuel Log'!$L$5:$L$104,"Reviewed")) | E35: =IF(OR($C35="",$D35=""),"",IFERROR($D35-$C35,"")) | F35: =IF(OR($A35="",$C35=""),"",IFERROR($C35*VLOOKUP($A35,Assumptions!$A$8:$D$107,4,FALSE),"")) | G35: =IF(OR($A35="",$B$3="",$B$4="",$B$4<$B$3),"",SUMIFS('Fuel Log'!$H$5:$H$104,'Fuel Log'!$A$5:$A$104,">="&$B$3,'Fuel Log'!$A$5:$A$104,"<="&$B$4,'Fuel Log'!$C$5:$C$104,$A35,'Fuel Log'!$L$5:$L$104,"Recorded")+SUMIFS('Fuel Log'!$H$5:$H$104,'Fuel Log'!$A$5:$A$104,">="&$B$3,'Fuel Log'!$A$5:$A$104,"<="&$B$4,'Fuel Log'!$C$5:$C$104,$A35,'Fuel Log'!$L$5:$L$104,"Reviewed")) | H35: =IF(OR($F35="",$G35=""),"",IFERROR($G35-$F35,""))
A36: =IF(Assumptions!$A$30="","",Assumptions!$A$30) | B36: =IF($A36="","",IFERROR(VLOOKUP($A36,Assumptions!$A$8:$D$107,3,FALSE),"")) | C36: =IF(OR($A36="",$B$5="",$B36="",Assumptions!$B$5=""),"",IFERROR($B36*$B$5/Assumptions!$B$5,"")) | D36: =IF(OR($A36="",$B$3="",$B$4="",$B$4<$B$3),"",SUMIFS('Fuel Log'!$F$5:$F$104,'Fuel Log'!$A$5:$A$104,">="&$B$3,'Fuel Log'!$A$5:$A$104,"<="&$B$4,'Fuel Log'!$C$5:$C$104,$A36,'Fuel Log'!$L$5:$L$104,"Recorded")+SUMIFS('Fuel Log'!$F$5:$F$104,'Fuel Log'!$A$5:$A$104,">="&$B$3,'Fuel Log'!$A$5:$A$104,"<="&$B$4,'Fuel Log'!$C$5:$C$104,$A36,'Fuel Log'!$L$5:$L$104,"Reviewed")) | E36: =IF(OR($C36="",$D36=""),"",IFERROR($D36-$C36,"")) | F36: =IF(OR($A36="",$C36=""),"",IFERROR($C36*VLOOKUP($A36,Assumptions!$A$8:$D$107,4,FALSE),"")) | G36: =IF(OR($A36="",$B$3="",$B$4="",$B$4<$B$3),"",SUMIFS('Fuel Log'!$H$5:$H$104,'Fuel Log'!$A$5:$A$104,">="&$B$3,'Fuel Log'!$A$5:$A$104,"<="&$B$4,'Fuel Log'!$C$5:$C$104,$A36,'Fuel Log'!$L$5:$L$104,"Recorded")+SUMIFS('Fuel Log'!$H$5:$H$104,'Fuel Log'!$A$5:$A$104,">="&$B$3,'Fuel Log'!$A$5:$A$104,"<="&$B$4,'Fuel Log'!$C$5:$C$104,$A36,'Fuel Log'!$L$5:$L$104,"Reviewed")) | H36: =IF(OR($F36="",$G36=""),"",IFERROR($G36-$F36,""))
A37: =IF(Assumptions!$A$31="","",Assumptions!$A$31) | B37: =IF($A37="","",IFERROR(VLOOKUP($A37,Assumptions!$A$8:$D$107,3,FALSE),"")) | C37: =IF(OR($A37="",$B$5="",$B37="",Assumptions!$B$5=""),"",IFERROR($B37*$B$5/Assumptions!$B$5,"")) | D37: =IF(OR($A37="",$B$3="",$B$4="",$B$4<$B$3),"",SUMIFS('Fuel Log'!$F$5:$F$104,'Fuel Log'!$A$5:$A$104,">="&$B$3,'Fuel Log'!$A$5:$A$104,"<="&$B$4,'Fuel Log'!$C$5:$C$104,$A37,'Fuel Log'!$L$5:$L$104,"Recorded")+SUMIFS('Fuel Log'!$F$5:$F$104,'Fuel Log'!$A$5:$A$104,">="&$B$3,'Fuel Log'!$A$5:$A$104,"<="&$B$4,'Fuel Log'!$C$5:$C$104,$A37,'Fuel Log'!$L$5:$L$104,"Reviewed")) | E37: =IF(OR($C37="",$D37=""),"",IFERROR($D37-$C37,"")) | F37: =IF(OR($A37="",$C37=""),"",IFERROR($C37*VLOOKUP($A37,Assumptions!$A$8:$D$107,4,FALSE),"")) | G37: =IF(OR($A37="",$B$3="",$B$4="",$B$4<$B$3),"",SUMIFS('Fuel Log'!$H$5:$H$104,'Fuel Log'!$A$5:$A$104,">="&$B$3,'Fuel Log'!$A$5:$A$104,"<="&$B$4,'Fuel Log'!$C$5:$C$104,$A37,'Fuel Log'!$L$5:$L$104,"Recorded")+SUMIFS('Fuel Log'!$H$5:$H$104,'Fuel Log'!$A$5:$A$104,">="&$B$3,'Fuel Log'!$A$5:$A$104,"<="&$B$4,'Fuel Log'!$C$5:$C$104,$A37,'Fuel Log'!$L$5:$L$104,"Reviewed")) | H37: =IF(OR($F37="",$G37=""),"",IFERROR($G37-$F37,""))
A38: =IF(Assumptions!$A$32="","",Assumptions!$A$32) | B38: =IF($A38="","",IFERROR(VLOOKUP($A38,Assumptions!$A$8:$D$107,3,FALSE),"")) | C38: =IF(OR($A38="",$B$5="",$B38="",Assumptions!$B$5=""),"",IFERROR($B38*$B$5/Assumptions!$B$5,"")) | D38: =IF(OR($A38="",$B$3="",$B$4="",$B$4<$B$3),"",SUMIFS('Fuel Log'!$F$5:$F$104,'Fuel Log'!$A$5:$A$104,">="&$B$3,'Fuel Log'!$A$5:$A$104,"<="&$B$4,'Fuel Log'!$C$5:$C$104,$A38,'Fuel Log'!$L$5:$L$104,"Recorded")+SUMIFS('Fuel Log'!$F$5:$F$104,'Fuel Log'!$A$5:$A$104,">="&$B$3,'Fuel Log'!$A$5:$A$104,"<="&$B$4,'Fuel Log'!$C$5:$C$104,$A38,'Fuel Log'!$L$5:$L$104,"Reviewed")) | E38: =IF(OR($C38="",$D38=""),"",IFERROR($D38-$C38,"")) | F38: =IF(OR($A38="",$C38=""),"",IFERROR($C38*VLOOKUP($A38,Assumptions!$A$8:$D$107,4,FALSE),"")) | G38: =IF(OR($A38="",$B$3="",$B$4="",$B$4<$B$3),"",SUMIFS('Fuel Log'!$H$5:$H$104,'Fuel Log'!$A$5:$A$104,">="&$B$3,'Fuel Log'!$A$5:$A$104,"<="&$B$4,'Fuel Log'!$C$5:$C$104,$A38,'Fuel Log'!$L$5:$L$104,"Recorded")+SUMIFS('Fuel Log'!$H$5:$H$104,'Fuel Log'!$A$5:$A$104,">="&$B$3,'Fuel Log'!$A$5:$A$104,"<="&$B$4,'Fuel Log'!$C$5:$C$104,$A38,'Fuel Log'!$L$5:$L$104,"Reviewed")) | H38: =IF(OR($F38="",$G38=""),"",IFERROR($G38-$F38,""))
A39: =IF(Assumptions!$A$33="","",Assumptions!$A$33) | B39: =IF($A39="","",IFERROR(VLOOKUP($A39,Assumptions!$A$8:$D$107,3,FALSE),"")) | C39: =IF(OR($A39="",$B$5="",$B39="",Assumptions!$B$5=""),"",IFERROR($B39*$B$5/Assumptions!$B$5,"")) | D39: =IF(OR($A39="",$B$3="",$B$4="",$B$4<$B$3),"",SUMIFS('Fuel Log'!$F$5:$F$104,'Fuel Log'!$A$5:$A$104,">="&$B$3,'Fuel Log'!$A$5:$A$104,"<="&$B$4,'Fuel Log'!$C$5:$C$104,$A39,'Fuel Log'!$L$5:$L$104,"Recorded")+SUMIFS('Fuel Log'!$F$5:$F$104,'Fuel Log'!$A$5:$A$104,">="&$B$3,'Fuel Log'!$A$5:$A$104,"<="&$B$4,'Fuel Log'!$C$5:$C$104,$A39,'Fuel Log'!$L$5:$L$104,"Reviewed")) | E39: =IF(OR($C39="",$D39=""),"",IFERROR($D39-$C39,"")) | F39: =IF(OR($A39="",$C39=""),"",IFERROR($C39*VLOOKUP($A39,Assumptions!$A$8:$D$107,4,FALSE),"")) | G39: =IF(OR($A39="",$B$3="",$B$4="",$B$4<$B$3),"",SUMIFS('Fuel Log'!$H$5:$H$104,'Fuel Log'!$A$5:$A$104,">="&$B$3,'Fuel Log'!$A$5:$A$104,"<="&$B$4,'Fuel Log'!$C$5:$C$104,$A39,'Fuel Log'!$L$5:$L$104,"Recorded")+SUMIFS('Fuel Log'!$H$5:$H$104,'Fuel Log'!$A$5:$A$104,">="&$B$3,'Fuel Log'!$A$5:$A$104,"<="&$B$4,'Fuel Log'!$C$5:$C$104,$A39,'Fuel Log'!$L$5:$L$104,"Reviewed")) | H39: =IF(OR($F39="",$G39=""),"",IFERROR($G39-$F39,""))
A40: =IF(Assumptions!$A$34="","",Assumptions!$A$34) | B40: =IF($A40="","",IFERROR(VLOOKUP($A40,Assumptions!$A$8:$D$107,3,FALSE),"")) | C40: =IF(OR($A40="",$B$5="",$B40="",Assumptions!$B$5=""),"",IFERROR($B40*$B$5/Assumptions!$B$5,"")) | D40: =IF(OR($A40="",$B$3="",$B$4="",$B$4<$B$3),"",SUMIFS('Fuel Log'!$F$5:$F$104,'Fuel Log'!$A$5:$A$104,">="&$B$3,'Fuel Log'!$A$5:$A$104,"<="&$B$4,'Fuel Log'!$C$5:$C$104,$A40,'Fuel Log'!$L$5:$L$104,"Recorded")+SUMIFS('Fuel Log'!$F$5:$F$104,'Fuel Log'!$A$5:$A$104,">="&$B$3,'Fuel Log'!$A$5:$A$104,"<="&$B$4,'Fuel Log'!$C$5:$C$104,$A40,'Fuel Log'!$L$5:$L$104,"Reviewed")) | E40: =IF(OR($C40="",$D40=""),"",IFERROR($D40-$C40,"")) | F40: =IF(OR($A40="",$C40=""),"",IFERROR($C40*VLOOKUP($A40,Assumptions!$A$8:$D$107,4,FALSE),"")) | G40: =IF(OR($A40="",$B$3="",$B$4="",$B$4<$B$3),"",SUMIFS('Fuel Log'!$H$5:$H$104,'Fuel Log'!$A$5:$A$104,">="&$B$3,'Fuel Log'!$A$5:$A$104,"<="&$B$4,'Fuel Log'!$C$5:$C$104,$A40,'Fuel Log'!$L$5:$L$104,"Recorded")+SUMIFS('Fuel Log'!$H$5:$H$104,'Fuel Log'!$A$5:$A$104,">="&$B$3,'Fuel Log'!$A$5:$A$104,"<="&$B$4,'Fuel Log'!$C$5:$C$104,$A40,'Fuel Log'!$L$5:$L$104,"Reviewed")) | H40: =IF(OR($F40="",$G40=""),"",IFERROR($G40-$F40,""))
A41: =IF(Assumptions!$A$35="","",Assumptions!$A$35) | B41: =IF($A41="","",IFERROR(VLOOKUP($A41,Assumptions!$A$8:$D$107,3,FALSE),"")) | C41: =IF(OR($A41="",$B$5="",$B41="",Assumptions!$B$5=""),"",IFERROR($B41*$B$5/Assumptions!$B$5,"")) | D41: =IF(OR($A41="",$B$3="",$B$4="",$B$4<$B$3),"",SUMIFS('Fuel Log'!$F$5:$F$104,'Fuel Log'!$A$5:$A$104,">="&$B$3,'Fuel Log'!$A$5:$A$104,"<="&$B$4,'Fuel Log'!$C$5:$C$104,$A41,'Fuel Log'!$L$5:$L$104,"Recorded")+SUMIFS('Fuel Log'!$F$5:$F$104,'Fuel Log'!$A$5:$A$104,">="&$B$3,'Fuel Log'!$A$5:$A$104,"<="&$B$4,'Fuel Log'!$C$5:$C$104,$A41,'Fuel Log'!$L$5:$L$104,"Reviewed")) | E41: =IF(OR($C41="",$D41=""),"",IFERROR($D41-$C41,"")) | F41: =IF(OR($A41="",$C41=""),"",IFERROR($C41*VLOOKUP($A41,Assumptions!$A$8:$D$107,4,FALSE),"")) | G41: =IF(OR($A41="",$B$3="",$B$4="",$B$4<$B$3),"",SUMIFS('Fuel Log'!$H$5:$H$104,'Fuel Log'!$A$5:$A$104,">="&$B$3,'Fuel Log'!$A$5:$A$104,"<="&$B$4,'Fuel Log'!$C$5:$C$104,$A41,'Fuel Log'!$L$5:$L$104,"Recorded")+SUMIFS('Fuel Log'!$H$5:$H$104,'Fuel Log'!$A$5:$A$104,">="&$B$3,'Fuel Log'!$A$5:$A$104,"<="&$B$4,'Fuel Log'!$C$5:$C$104,$A41,'Fuel Log'!$L$5:$L$104,"Reviewed")) | H41: =IF(OR($F41="",$G41=""),"",IFERROR($G41-$F41,""))
A42: =IF(Assumptions!$A$36="","",Assumptions!$A$36) | B42: =IF($A42="","",IFERROR(VLOOKUP($A42,Assumptions!$A$8:$D$107,3,FALSE),"")) | C42: =IF(OR($A42="",$B$5="",$B42="",Assumptions!$B$5=""),"",IFERROR($B42*$B$5/Assumptions!$B$5,"")) | D42: =IF(OR($A42="",$B$3="",$B$4="",$B$4<$B$3),"",SUMIFS('Fuel Log'!$F$5:$F$104,'Fuel Log'!$A$5:$A$104,">="&$B$3,'Fuel Log'!$A$5:$A$104,"<="&$B$4,'Fuel Log'!$C$5:$C$104,$A42,'Fuel Log'!$L$5:$L$104,"Recorded")+SUMIFS('Fuel Log'!$F$5:$F$104,'Fuel Log'!$A$5:$A$104,">="&$B$3,'Fuel Log'!$A$5:$A$104,"<="&$B$4,'Fuel Log'!$C$5:$C$104,$A42,'Fuel Log'!$L$5:$L$104,"Reviewed")) | E42: =IF(OR($C42="",$D42=""),"",IFERROR($D42-$C42,"")) | F42: =IF(OR($A42="",$C42=""),"",IFERROR($C42*VLOOKUP($A42,Assumptions!$A$8:$D$107,4,FALSE),"")) | G42: =IF(OR($A42="",$B$3="",$B$4="",$B$4<$B$3),"",SUMIFS('Fuel Log'!$H$5:$H$104,'Fuel Log'!$A$5:$A$104,">="&$B$3,'Fuel Log'!$A$5:$A$104,"<="&$B$4,'Fuel Log'!$C$5:$C$104,$A42,'Fuel Log'!$L$5:$L$104,"Recorded")+SUMIFS('Fuel Log'!$H$5:$H$104,'Fuel Log'!$A$5:$A$104,">="&$B$3,'Fuel Log'!$A$5:$A$104,"<="&$B$4,'Fuel Log'!$C$5:$C$104,$A42,'Fuel Log'!$L$5:$L$104,"Reviewed")) | H42: =IF(OR($F42="",$G42=""),"",IFERROR($G42-$F42,""))
A43: =IF(Assumptions!$A$37="","",Assumptions!$A$37) | B43: =IF($A43="","",IFERROR(VLOOKUP($A43,Assumptions!$A$8:$D$107,3,FALSE),"")) | C43: =IF(OR($A43="",$B$5="",$B43="",Assumptions!$B$5=""),"",IFERROR($B43*$B$5/Assumptions!$B$5,"")) | D43: =IF(OR($A43="",$B$3="",$B$4="",$B$4<$B$3),"",SUMIFS('Fuel Log'!$F$5:$F$104,'Fuel Log'!$A$5:$A$104,">="&$B$3,'Fuel Log'!$A$5:$A$104,"<="&$B$4,'Fuel Log'!$C$5:$C$104,$A43,'Fuel Log'!$L$5:$L$104,"Recorded")+SUMIFS('Fuel Log'!$F$5:$F$104,'Fuel Log'!$A$5:$A$104,">="&$B$3,'Fuel Log'!$A$5:$A$104,"<="&$B$4,'Fuel Log'!$C$5:$C$104,$A43,'Fuel Log'!$L$5:$L$104,"Reviewed")) | E43: =IF(OR($C43="",$D43=""),"",IFERROR($D43-$C43,"")) | F43: =IF(OR($A43="",$C43=""),"",IFERROR($C43*VLOOKUP($A43,Assumptions!$A$8:$D$107,4,FALSE),"")) | G43: =IF(OR($A43="",$B$3="",$B$4="",$B$4<$B$3),"",SUMIFS('Fuel Log'!$H$5:$H$104,'Fuel Log'!$A$5:$A$104,">="&$B$3,'Fuel Log'!$A$5:$A$104,"<="&$B$4,'Fuel Log'!$C$5:$C$104,$A43,'Fuel Log'!$L$5:$L$104,"Recorded")+SUMIFS('Fuel Log'!$H$5:$H$104,'Fuel Log'!$A$5:$A$104,">="&$B$3,'Fuel Log'!$A$5:$A$104,"<="&$B$4,'Fuel Log'!$C$5:$C$104,$A43,'Fuel Log'!$L$5:$L$104,"Reviewed")) | H43: =IF(OR($F43="",$G43=""),"",IFERROR($G43-$F43,""))
A44: =IF(Assumptions!$A$38="","",Assumptions!$A$38) | B44: =IF($A44="","",IFERROR(VLOOKUP($A44,Assumptions!$A$8:$D$107,3,FALSE),"")) | C44: =IF(OR($A44="",$B$5="",$B44="",Assumptions!$B$5=""),"",IFERROR($B44*$B$5/Assumptions!$B$5,"")) | D44: =IF(OR($A44="",$B$3="",$B$4="",$B$4<$B$3),"",SUMIFS('Fuel Log'!$F$5:$F$104,'Fuel Log'!$A$5:$A$104,">="&$B$3,'Fuel Log'!$A$5:$A$104,"<="&$B$4,'Fuel Log'!$C$5:$C$104,$A44,'Fuel Log'!$L$5:$L$104,"Recorded")+SUMIFS('Fuel Log'!$F$5:$F$104,'Fuel Log'!$A$5:$A$104,">="&$B$3,'Fuel Log'!$A$5:$A$104,"<="&$B$4,'Fuel Log'!$C$5:$C$104,$A44,'Fuel Log'!$L$5:$L$104,"Reviewed")) | E44: =IF(OR($C44="",$D44=""),"",IFERROR($D44-$C44,"")) | F44: =IF(OR($A44="",$C44=""),"",IFERROR($C44*VLOOKUP($A44,Assumptions!$A$8:$D$107,4,FALSE),"")) | G44: =IF(OR($A44="",$B$3="",$B$4="",$B$4<$B$3),"",SUMIFS('Fuel Log'!$H$5:$H$104,'Fuel Log'!$A$5:$A$104,">="&$B$3,'Fuel Log'!$A$5:$A$104,"<="&$B$4,'Fuel Log'!$C$5:$C$104,$A44,'Fuel Log'!$L$5:$L$104,"Recorded")+SUMIFS('Fuel Log'!$H$5:$H$104,'Fuel Log'!$A$5:$A$104,">="&$B$3,'Fuel Log'!$A$5:$A$104,"<="&$B$4,'Fuel Log'!$C$5:$C$104,$A44,'Fuel Log'!$L$5:$L$104,"Reviewed")) | H44: =IF(OR($F44="",$G44=""),"",IFERROR($G44-$F44,""))
A45: =IF(Assumptions!$A$39="","",Assumptions!$A$39) | B45: =IF($A45="","",IFERROR(VLOOKUP($A45,Assumptions!$A$8:$D$107,3,FALSE),"")) | C45: =IF(OR($A45="",$B$5="",$B45="",Assumptions!$B$5=""),"",IFERROR($B45*$B$5/Assumptions!$B$5,"")) | D45: =IF(OR($A45="",$B$3="",$B$4="",$B$4<$B$3),"",SUMIFS('Fuel Log'!$F$5:$F$104,'Fuel Log'!$A$5:$A$104,">="&$B$3,'Fuel Log'!$A$5:$A$104,"<="&$B$4,'Fuel Log'!$C$5:$C$104,$A45,'Fuel Log'!$L$5:$L$104,"Recorded")+SUMIFS('Fuel Log'!$F$5:$F$104,'Fuel Log'!$A$5:$A$104,">="&$B$3,'Fuel Log'!$A$5:$A$104,"<="&$B$4,'Fuel Log'!$C$5:$C$104,$A45,'Fuel Log'!$L$5:$L$104,"Reviewed")) | E45: =IF(OR($C45="",$D45=""),"",IFERROR($D45-$C45,"")) | F45: =IF(OR($A45="",$C45=""),"",IFERROR($C45*VLOOKUP($A45,Assumptions!$A$8:$D$107,4,FALSE),"")) | G45: =IF(OR($A45="",$B$3="",$B$4="",$B$4<$B$3),"",SUMIFS('Fuel Log'!$H$5:$H$104,'Fuel Log'!$A$5:$A$104,">="&$B$3,'Fuel Log'!$A$5:$A$104,"<="&$B$4,'Fuel Log'!$C$5:$C$104,$A45,'Fuel Log'!$L$5:$L$104,"Recorded")+SUMIFS('Fuel Log'!$H$5:$H$104,'Fuel Log'!$A$5:$A$104,">="&$B$3,'Fuel Log'!$A$5:$A$104,"<="&$B$4,'Fuel Log'!$C$5:$C$104,$A45,'Fuel Log'!$L$5:$L$104,"Reviewed")) | H45: =IF(OR($F45="",$G45=""),"",IFERROR($G45-$F45,""))
A46: =IF(Assumptions!$A$40="","",Assumptions!$A$40) | B46: =IF($A46="","",IFERROR(VLOOKUP($A46,Assumptions!$A$8:$D$107,3,FALSE),"")) | C46: =IF(OR($A46="",$B$5="",$B46="",Assumptions!$B$5=""),"",IFERROR($B46*$B$5/Assumptions!$B$5,"")) | D46: =IF(OR($A46="",$B$3="",$B$4="",$B$4<$B$3),"",SUMIFS('Fuel Log'!$F$5:$F$104,'Fuel Log'!$A$5:$A$104,">="&$B$3,'Fuel Log'!$A$5:$A$104,"<="&$B$4,'Fuel Log'!$C$5:$C$104,$A46,'Fuel Log'!$L$5:$L$104,"Recorded")+SUMIFS('Fuel Log'!$F$5:$F$104,'Fuel Log'!$A$5:$A$104,">="&$B$3,'Fuel Log'!$A$5:$A$104,"<="&$B$4,'Fuel Log'!$C$5:$C$104,$A46,'Fuel Log'!$L$5:$L$104,"Reviewed")) | E46: =IF(OR($C46="",$D46=""),"",IFERROR($D46-$C46,"")) | F46: =IF(OR($A46="",$C46=""),"",IFERROR($C46*VLOOKUP($A46,Assumptions!$A$8:$D$107,4,FALSE),"")) | G46: =IF(OR($A46="",$B$3="",$B$4="",$B$4<$B$3),"",SUMIFS('Fuel Log'!$H$5:$H$104,'Fuel Log'!$A$5:$A$104,">="&$B$3,'Fuel Log'!$A$5:$A$104,"<="&$B$4,'Fuel Log'!$C$5:$C$104,$A46,'Fuel Log'!$L$5:$L$104,"Recorded")+SUMIFS('Fuel Log'!$H$5:$H$104,'Fuel Log'!$A$5:$A$104,">="&$B$3,'Fuel Log'!$A$5:$A$104,"<="&$B$4,'Fuel Log'!$C$5:$C$104,$A46,'Fuel Log'!$L$5:$L$104,"Reviewed")) | H46: =IF(OR($F46="",$G46=""),"",IFERROR($G46-$F46,""))
A47: =IF(Assumptions!$A$41="","",Assumptions!$A$41) | B47: =IF($A47="","",IFERROR(VLOOKUP($A47,Assumptions!$A$8:$D$107,3,FALSE),"")) | C47: =IF(OR($A47="",$B$5="",$B47="",Assumptions!$B$5=""),"",IFERROR($B47*$B$5/Assumptions!$B$5,"")) | D47: =IF(OR($A47="",$B$3="",$B$4="",$B$4<$B$3),"",SUMIFS('Fuel Log'!$F$5:$F$104,'Fuel Log'!$A$5:$A$104,">="&$B$3,'Fuel Log'!$A$5:$A$104,"<="&$B$4,'Fuel Log'!$C$5:$C$104,$A47,'Fuel Log'!$L$5:$L$104,"Recorded")+SUMIFS('Fuel Log'!$F$5:$F$104,'Fuel Log'!$A$5:$A$104,">="&$B$3,'Fuel Log'!$A$5:$A$104,"<="&$B$4,'Fuel Log'!$C$5:$C$104,$A47,'Fuel Log'!$L$5:$L$104,"Reviewed")) | E47: =IF(OR($C47="",$D47=""),"",IFERROR($D47-$C47,"")) | F47: =IF(OR($A47="",$C47=""),"",IFERROR($C47*VLOOKUP($A47,Assumptions!$A$8:$D$107,4,FALSE),"")) | G47: =IF(OR($A47="",$B$3="",$B$4="",$B$4<$B$3),"",SUMIFS('Fuel Log'!$H$5:$H$104,'Fuel Log'!$A$5:$A$104,">="&$B$3,'Fuel Log'!$A$5:$A$104,"<="&$B$4,'Fuel Log'!$C$5:$C$104,$A47,'Fuel Log'!$L$5:$L$104,"Recorded")+SUMIFS('Fuel Log'!$H$5:$H$104,'Fuel Log'!$A$5:$A$104,">="&$B$3,'Fuel Log'!$A$5:$A$104,"<="&$B$4,'Fuel Log'!$C$5:$C$104,$A47,'Fuel Log'!$L$5:$L$104,"Reviewed")) | H47: =IF(OR($F47="",$G47=""),"",IFERROR($G47-$F47,""))
A48: =IF(Assumptions!$A$42="","",Assumptions!$A$42) | B48: =IF($A48="","",IFERROR(VLOOKUP($A48,Assumptions!$A$8:$D$107,3,FALSE),"")) | C48: =IF(OR($A48="",$B$5="",$B48="",Assumptions!$B$5=""),"",IFERROR($B48*$B$5/Assumptions!$B$5,"")) | D48: =IF(OR($A48="",$B$3="",$B$4="",$B$4<$B$3),"",SUMIFS('Fuel Log'!$F$5:$F$104,'Fuel Log'!$A$5:$A$104,">="&$B$3,'Fuel Log'!$A$5:$A$104,"<="&$B$4,'Fuel Log'!$C$5:$C$104,$A48,'Fuel Log'!$L$5:$L$104,"Recorded")+SUMIFS('Fuel Log'!$F$5:$F$104,'Fuel Log'!$A$5:$A$104,">="&$B$3,'Fuel Log'!$A$5:$A$104,"<="&$B$4,'Fuel Log'!$C$5:$C$104,$A48,'Fuel Log'!$L$5:$L$104,"Reviewed")) | E48: =IF(OR($C48="",$D48=""),"",IFERROR($D48-$C48,"")) | F48: =IF(OR($A48="",$C48=""),"",IFERROR($C48*VLOOKUP($A48,Assumptions!$A$8:$D$107,4,FALSE),"")) | G48: =IF(OR($A48="",$B$3="",$B$4="",$B$4<$B$3),"",SUMIFS('Fuel Log'!$H$5:$H$104,'Fuel Log'!$A$5:$A$104,">="&$B$3,'Fuel Log'!$A$5:$A$104,"<="&$B$4,'Fuel Log'!$C$5:$C$104,$A48,'Fuel Log'!$L$5:$L$104,"Recorded")+SUMIFS('Fuel Log'!$H$5:$H$104,'Fuel Log'!$A$5:$A$104,">="&$B$3,'Fuel Log'!$A$5:$A$104,"<="&$B$4,'Fuel Log'!$C$5:$C$104,$A48,'Fuel Log'!$L$5:$L$104,"Reviewed")) | H48: =IF(OR($F48="",$G48=""),"",IFERROR($G48-$F48,""))
A49: =IF(Assumptions!$A$43="","",Assumptions!$A$43) | B49: =IF($A49="","",IFERROR(VLOOKUP($A49,Assumptions!$A$8:$D$107,3,FALSE),"")) | C49: =IF(OR($A49="",$B$5="",$B49="",Assumptions!$B$5=""),"",IFERROR($B49*$B$5/Assumptions!$B$5,"")) | D49: =IF(OR($A49="",$B$3="",$B$4="",$B$4<$B$3),"",SUMIFS('Fuel Log'!$F$5:$F$104,'Fuel Log'!$A$5:$A$104,">="&$B$3,'Fuel Log'!$A$5:$A$104,"<="&$B$4,'Fuel Log'!$C$5:$C$104,$A49,'Fuel Log'!$L$5:$L$104,"Recorded")+SUMIFS('Fuel Log'!$F$5:$F$104,'Fuel Log'!$A$5:$A$104,">="&$B$3,'Fuel Log'!$A$5:$A$104,"<="&$B$4,'Fuel Log'!$C$5:$C$104,$A49,'Fuel Log'!$L$5:$L$104,"Reviewed")) | E49: =IF(OR($C49="",$D49=""),"",IFERROR($D49-$C49,"")) | F49: =IF(OR($A49="",$C49=""),"",IFERROR($C49*VLOOKUP($A49,Assumptions!$A$8:$D$107,4,FALSE),"")) | G49: =IF(OR($A49="",$B$3="",$B$4="",$B$4<$B$3),"",SUMIFS('Fuel Log'!$H$5:$H$104,'Fuel Log'!$A$5:$A$104,">="&$B$3,'Fuel Log'!$A$5:$A$104,"<="&$B$4,'Fuel Log'!$C$5:$C$104,$A49,'Fuel Log'!$L$5:$L$104,"Recorded")+SUMIFS('Fuel Log'!$H$5:$H$104,'Fuel Log'!$A$5:$A$104,">="&$B$3,'Fuel Log'!$A$5:$A$104,"<="&$B$4,'Fuel Log'!$C$5:$C$104,$A49,'Fuel Log'!$L$5:$L$104,"Reviewed")) | H49: =IF(OR($F49="",$G49=""),"",IFERROR($G49-$F49,""))
A50: =IF(Assumptions!$A$44="","",Assumptions!$A$44) | B50: =IF($A50="","",IFERROR(VLOOKUP($A50,Assumptions!$A$8:$D$107,3,FALSE),"")) | C50: =IF(OR($A50="",$B$5="",$B50="",Assumptions!$B$5=""),"",IFERROR($B50*$B$5/Assumptions!$B$5,"")) | D50: =IF(OR($A50="",$B$3="",$B$4="",$B$4<$B$3),"",SUMIFS('Fuel Log'!$F$5:$F$104,'Fuel Log'!$A$5:$A$104,">="&$B$3,'Fuel Log'!$A$5:$A$104,"<="&$B$4,'Fuel Log'!$C$5:$C$104,$A50,'Fuel Log'!$L$5:$L$104,"Recorded")+SUMIFS('Fuel Log'!$F$5:$F$104,'Fuel Log'!$A$5:$A$104,">="&$B$3,'Fuel Log'!$A$5:$A$104,"<="&$B$4,'Fuel Log'!$C$5:$C$104,$A50,'Fuel Log'!$L$5:$L$104,"Reviewed")) | E50: =IF(OR($C50="",$D50=""),"",IFERROR($D50-$C50,"")) | F50: =IF(OR($A50="",$C50=""),"",IFERROR($C50*VLOOKUP($A50,Assumptions!$A$8:$D$107,4,FALSE),"")) | G50: =IF(OR($A50="",$B$3="",$B$4="",$B$4<$B$3),"",SUMIFS('Fuel Log'!$H$5:$H$104,'Fuel Log'!$A$5:$A$104,">="&$B$3,'Fuel Log'!$A$5:$A$104,"<="&$B$4,'Fuel Log'!$C$5:$C$104,$A50,'Fuel Log'!$L$5:$L$104,"Recorded")+SUMIFS('Fuel Log'!$H$5:$H$104,'Fuel Log'!$A$5:$A$104,">="&$B$3,'Fuel Log'!$A$5:$A$104,"<="&$B$4,'Fuel Log'!$C$5:$C$104,$A50,'Fuel Log'!$L$5:$L$104,"Reviewed")) | H50: =IF(OR($F50="",$G50=""),"",IFERROR($G50-$F50,""))
A51: =IF(Assumptions!$A$45="","",Assumptions!$A$45) | B51: =IF($A51="","",IFERROR(VLOOKUP($A51,Assumptions!$A$8:$D$107,3,FALSE),"")) | C51: =IF(OR($A51="",$B$5="",$B51="",Assumptions!$B$5=""),"",IFERROR($B51*$B$5/Assumptions!$B$5,"")) | D51: =IF(OR($A51="",$B$3="",$B$4="",$B$4<$B$3),"",SUMIFS('Fuel Log'!$F$5:$F$104,'Fuel Log'!$A$5:$A$104,">="&$B$3,'Fuel Log'!$A$5:$A$104,"<="&$B$4,'Fuel Log'!$C$5:$C$104,$A51,'Fuel Log'!$L$5:$L$104,"Recorded")+SUMIFS('Fuel Log'!$F$5:$F$104,'Fuel Log'!$A$5:$A$104,">="&$B$3,'Fuel Log'!$A$5:$A$104,"<="&$B$4,'Fuel Log'!$C$5:$C$104,$A51,'Fuel Log'!$L$5:$L$104,"Reviewed")) | E51: =IF(OR($C51="",$D51=""),"",IFERROR($D51-$C51,"")) | F51: =IF(OR($A51="",$C51=""),"",IFERROR($C51*VLOOKUP($A51,Assumptions!$A$8:$D$107,4,FALSE),"")) | G51: =IF(OR($A51="",$B$3="",$B$4="",$B$4<$B$3),"",SUMIFS('Fuel Log'!$H$5:$H$104,'Fuel Log'!$A$5:$A$104,">="&$B$3,'Fuel Log'!$A$5:$A$104,"<="&$B$4,'Fuel Log'!$C$5:$C$104,$A51,'Fuel Log'!$L$5:$L$104,"Recorded")+SUMIFS('Fuel Log'!$H$5:$H$104,'Fuel Log'!$A$5:$A$104,">="&$B$3,'Fuel Log'!$A$5:$A$104,"<="&$B$4,'Fuel Log'!$C$5:$C$104,$A51,'Fuel Log'!$L$5:$L$104,"Reviewed")) | H51: =IF(OR($F51="",$G51=""),"",IFERROR($G51-$F51,""))
A52: =IF(Assumptions!$A$46="","",Assumptions!$A$46) | B52: =IF($A52="","",IFERROR(VLOOKUP($A52,Assumptions!$A$8:$D$107,3,FALSE),"")) | C52: =IF(OR($A52="",$B$5="",$B52="",Assumptions!$B$5=""),"",IFERROR($B52*$B$5/Assumptions!$B$5,"")) | D52: =IF(OR($A52="",$B$3="",$B$4="",$B$4<$B$3),"",SUMIFS('Fuel Log'!$F$5:$F$104,'Fuel Log'!$A$5:$A$104,">="&$B$3,'Fuel Log'!$A$5:$A$104,"<="&$B$4,'Fuel Log'!$C$5:$C$104,$A52,'Fuel Log'!$L$5:$L$104,"Recorded")+SUMIFS('Fuel Log'!$F$5:$F$104,'Fuel Log'!$A$5:$A$104,">="&$B$3,'Fuel Log'!$A$5:$A$104,"<="&$B$4,'Fuel Log'!$C$5:$C$104,$A52,'Fuel Log'!$L$5:$L$104,"Reviewed")) | E52: =IF(OR($C52="",$D52=""),"",IFERROR($D52-$C52,"")) | F52: =IF(OR($A52="",$C52=""),"",IFERROR($C52*VLOOKUP($A52,Assumptions!$A$8:$D$107,4,FALSE),"")) | G52: =IF(OR($A52="",$B$3="",$B$4="",$B$4<$B$3),"",SUMIFS('Fuel Log'!$H$5:$H$104,'Fuel Log'!$A$5:$A$104,">="&$B$3,'Fuel Log'!$A$5:$A$104,"<="&$B$4,'Fuel Log'!$C$5:$C$104,$A52,'Fuel Log'!$L$5:$L$104,"Recorded")+SUMIFS('Fuel Log'!$H$5:$H$104,'Fuel Log'!$A$5:$A$104,">="&$B$3,'Fuel Log'!$A$5:$A$104,"<="&$B$4,'Fuel Log'!$C$5:$C$104,$A52,'Fuel Log'!$L$5:$L$104,"Reviewed")) | H52: =IF(OR($F52="",$G52=""),"",IFERROR($G52-$F52,""))
A53: =IF(Assumptions!$A$47="","",Assumptions!$A$47) | B53: =IF($A53="","",IFERROR(VLOOKUP($A53,Assumptions!$A$8:$D$107,3,FALSE),"")) | C53: =IF(OR($A53="",$B$5="",$B53="",Assumptions!$B$5=""),"",IFERROR($B53*$B$5/Assumptions!$B$5,"")) | D53: =IF(OR($A53="",$B$3="",$B$4="",$B$4<$B$3),"",SUMIFS('Fuel Log'!$F$5:$F$104,'Fuel Log'!$A$5:$A$104,">="&$B$3,'Fuel Log'!$A$5:$A$104,"<="&$B$4,'Fuel Log'!$C$5:$C$104,$A53,'Fuel Log'!$L$5:$L$104,"Recorded")+SUMIFS('Fuel Log'!$F$5:$F$104,'Fuel Log'!$A$5:$A$104,">="&$B$3,'Fuel Log'!$A$5:$A$104,"<="&$B$4,'Fuel Log'!$C$5:$C$104,$A53,'Fuel Log'!$L$5:$L$104,"Reviewed")) | E53: =IF(OR($C53="",$D53=""),"",IFERROR($D53-$C53,"")) | F53: =IF(OR($A53="",$C53=""),"",IFERROR($C53*VLOOKUP($A53,Assumptions!$A$8:$D$107,4,FALSE),"")) | G53: =IF(OR($A53="",$B$3="",$B$4="",$B$4<$B$3),"",SUMIFS('Fuel Log'!$H$5:$H$104,'Fuel Log'!$A$5:$A$104,">="&$B$3,'Fuel Log'!$A$5:$A$104,"<="&$B$4,'Fuel Log'!$C$5:$C$104,$A53,'Fuel Log'!$L$5:$L$104,"Recorded")+SUMIFS('Fuel Log'!$H$5:$H$104,'Fuel Log'!$A$5:$A$104,">="&$B$3,'Fuel Log'!$A$5:$A$104,"<="&$B$4,'Fuel Log'!$C$5:$C$104,$A53,'Fuel Log'!$L$5:$L$104,"Reviewed")) | H53: =IF(OR($F53="",$G53=""),"",IFERROR($G53-$F53,""))
A54: =IF(Assumptions!$A$48="","",Assumptions!$A$48) | B54: =IF($A54="","",IFERROR(VLOOKUP($A54,Assumptions!$A$8:$D$107,3,FALSE),"")) | C54: =IF(OR($A54="",$B$5="",$B54="",Assumptions!$B$5=""),"",IFERROR($B54*$B$5/Assumptions!$B$5,"")) | D54: =IF(OR($A54="",$B$3="",$B$4="",$B$4<$B$3),"",SUMIFS('Fuel Log'!$F$5:$F$104,'Fuel Log'!$A$5:$A$104,">="&$B$3,'Fuel Log'!$A$5:$A$104,"<="&$B$4,'Fuel Log'!$C$5:$C$104,$A54,'Fuel Log'!$L$5:$L$104,"Recorded")+SUMIFS('Fuel Log'!$F$5:$F$104,'Fuel Log'!$A$5:$A$104,">="&$B$3,'Fuel Log'!$A$5:$A$104,"<="&$B$4,'Fuel Log'!$C$5:$C$104,$A54,'Fuel Log'!$L$5:$L$104,"Reviewed")) | E54: =IF(OR($C54="",$D54=""),"",IFERROR($D54-$C54,"")) | F54: =IF(OR($A54="",$C54=""),"",IFERROR($C54*VLOOKUP($A54,Assumptions!$A$8:$D$107,4,FALSE),"")) | G54: =IF(OR($A54="",$B$3="",$B$4="",$B$4<$B$3),"",SUMIFS('Fuel Log'!$H$5:$H$104,'Fuel Log'!$A$5:$A$104,">="&$B$3,'Fuel Log'!$A$5:$A$104,"<="&$B$4,'Fuel Log'!$C$5:$C$104,$A54,'Fuel Log'!$L$5:$L$104,"Recorded")+SUMIFS('Fuel Log'!$H$5:$H$104,'Fuel Log'!$A$5:$A$104,">="&$B$3,'Fuel Log'!$A$5:$A$104,"<="&$B$4,'Fuel Log'!$C$5:$C$104,$A54,'Fuel Log'!$L$5:$L$104,"Reviewed")) | H54: =IF(OR($F54="",$G54=""),"",IFERROR($G54-$F54,""))
A55: =IF(Assumptions!$A$49="","",Assumptions!$A$49) | B55: =IF($A55="","",IFERROR(VLOOKUP($A55,Assumptions!$A$8:$D$107,3,FALSE),"")) | C55: =IF(OR($A55="",$B$5="",$B55="",Assumptions!$B$5=""),"",IFERROR($B55*$B$5/Assumptions!$B$5,"")) | D55: =IF(OR($A55="",$B$3="",$B$4="",$B$4<$B$3),"",SUMIFS('Fuel Log'!$F$5:$F$104,'Fuel Log'!$A$5:$A$104,">="&$B$3,'Fuel Log'!$A$5:$A$104,"<="&$B$4,'Fuel Log'!$C$5:$C$104,$A55,'Fuel Log'!$L$5:$L$104,"Recorded")+SUMIFS('Fuel Log'!$F$5:$F$104,'Fuel Log'!$A$5:$A$104,">="&$B$3,'Fuel Log'!$A$5:$A$104,"<="&$B$4,'Fuel Log'!$C$5:$C$104,$A55,'Fuel Log'!$L$5:$L$104,"Reviewed")) | E55: =IF(OR($C55="",$D55=""),"",IFERROR($D55-$C55,"")) | F55: =IF(OR($A55="",$C55=""),"",IFERROR($C55*VLOOKUP($A55,Assumptions!$A$8:$D$107,4,FALSE),"")) | G55: =IF(OR($A55="",$B$3="",$B$4="",$B$4<$B$3),"",SUMIFS('Fuel Log'!$H$5:$H$104,'Fuel Log'!$A$5:$A$104,">="&$B$3,'Fuel Log'!$A$5:$A$104,"<="&$B$4,'Fuel Log'!$C$5:$C$104,$A55,'Fuel Log'!$L$5:$L$104,"Recorded")+SUMIFS('Fuel Log'!$H$5:$H$104,'Fuel Log'!$A$5:$A$104,">="&$B$3,'Fuel Log'!$A$5:$A$104,"<="&$B$4,'Fuel Log'!$C$5:$C$104,$A55,'Fuel Log'!$L$5:$L$104,"Reviewed")) | H55: =IF(OR($F55="",$G55=""),"",IFERROR($G55-$F55,""))
A56: =IF(Assumptions!$A$50="","",Assumptions!$A$50) | B56: =IF($A56="","",IFERROR(VLOOKUP($A56,Assumptions!$A$8:$D$107,3,FALSE),"")) | C56: =IF(OR($A56="",$B$5="",$B56="",Assumptions!$B$5=""),"",IFERROR($B56*$B$5/Assumptions!$B$5,"")) | D56: =IF(OR($A56="",$B$3="",$B$4="",$B$4<$B$3),"",SUMIFS('Fuel Log'!$F$5:$F$104,'Fuel Log'!$A$5:$A$104,">="&$B$3,'Fuel Log'!$A$5:$A$104,"<="&$B$4,'Fuel Log'!$C$5:$C$104,$A56,'Fuel Log'!$L$5:$L$104,"Recorded")+SUMIFS('Fuel Log'!$F$5:$F$104,'Fuel Log'!$A$5:$A$104,">="&$B$3,'Fuel Log'!$A$5:$A$104,"<="&$B$4,'Fuel Log'!$C$5:$C$104,$A56,'Fuel Log'!$L$5:$L$104,"Reviewed")) | E56: =IF(OR($C56="",$D56=""),"",IFERROR($D56-$C56,"")) | F56: =IF(OR($A56="",$C56=""),"",IFERROR($C56*VLOOKUP($A56,Assumptions!$A$8:$D$107,4,FALSE),"")) | G56: =IF(OR($A56="",$B$3="",$B$4="",$B$4<$B$3),"",SUMIFS('Fuel Log'!$H$5:$H$104,'Fuel Log'!$A$5:$A$104,">="&$B$3,'Fuel Log'!$A$5:$A$104,"<="&$B$4,'Fuel Log'!$C$5:$C$104,$A56,'Fuel Log'!$L$5:$L$104,"Recorded")+SUMIFS('Fuel Log'!$H$5:$H$104,'Fuel Log'!$A$5:$A$104,">="&$B$3,'Fuel Log'!$A$5:$A$104,"<="&$B$4,'Fuel Log'!$C$5:$C$104,$A56,'Fuel Log'!$L$5:$L$104,"Reviewed")) | H56: =IF(OR($F56="",$G56=""),"",IFERROR($G56-$F56,""))
A57: =IF(Assumptions!$A$51="","",Assumptions!$A$51) | B57: =IF($A57="","",IFERROR(VLOOKUP($A57,Assumptions!$A$8:$D$107,3,FALSE),"")) | C57: =IF(OR($A57="",$B$5="",$B57="",Assumptions!$B$5=""),"",IFERROR($B57*$B$5/Assumptions!$B$5,"")) | D57: =IF(OR($A57="",$B$3="",$B$4="",$B$4<$B$3),"",SUMIFS('Fuel Log'!$F$5:$F$104,'Fuel Log'!$A$5:$A$104,">="&$B$3,'Fuel Log'!$A$5:$A$104,"<="&$B$4,'Fuel Log'!$C$5:$C$104,$A57,'Fuel Log'!$L$5:$L$104,"Recorded")+SUMIFS('Fuel Log'!$F$5:$F$104,'Fuel Log'!$A$5:$A$104,">="&$B$3,'Fuel Log'!$A$5:$A$104,"<="&$B$4,'Fuel Log'!$C$5:$C$104,$A57,'Fuel Log'!$L$5:$L$104,"Reviewed")) | E57: =IF(OR($C57="",$D57=""),"",IFERROR($D57-$C57,"")) | F57: =IF(OR($A57="",$C57=""),"",IFERROR($C57*VLOOKUP($A57,Assumptions!$A$8:$D$107,4,FALSE),"")) | G57: =IF(OR($A57="",$B$3="",$B$4="",$B$4<$B$3),"",SUMIFS('Fuel Log'!$H$5:$H$104,'Fuel Log'!$A$5:$A$104,">="&$B$3,'Fuel Log'!$A$5:$A$104,"<="&$B$4,'Fuel Log'!$C$5:$C$104,$A57,'Fuel Log'!$L$5:$L$104,"Recorded")+SUMIFS('Fuel Log'!$H$5:$H$104,'Fuel Log'!$A$5:$A$104,">="&$B$3,'Fuel Log'!$A$5:$A$104,"<="&$B$4,'Fuel Log'!$C$5:$C$104,$A57,'Fuel Log'!$L$5:$L$104,"Reviewed")) | H57: =IF(OR($F57="",$G57=""),"",IFERROR($G57-$F57,""))
A58: =IF(Assumptions!$A$52="","",Assumptions!$A$52) | B58: =IF($A58="","",IFERROR(VLOOKUP($A58,Assumptions!$A$8:$D$107,3,FALSE),"")) | C58: =IF(OR($A58="",$B$5="",$B58="",Assumptions!$B$5=""),"",IFERROR($B58*$B$5/Assumptions!$B$5,"")) | D58: =IF(OR($A58="",$B$3="",$B$4="",$B$4<$B$3),"",SUMIFS('Fuel Log'!$F$5:$F$104,'Fuel Log'!$A$5:$A$104,">="&$B$3,'Fuel Log'!$A$5:$A$104,"<="&$B$4,'Fuel Log'!$C$5:$C$104,$A58,'Fuel Log'!$L$5:$L$104,"Recorded")+SUMIFS('Fuel Log'!$F$5:$F$104,'Fuel Log'!$A$5:$A$104,">="&$B$3,'Fuel Log'!$A$5:$A$104,"<="&$B$4,'Fuel Log'!$C$5:$C$104,$A58,'Fuel Log'!$L$5:$L$104,"Reviewed")) | E58: =IF(OR($C58="",$D58=""),"",IFERROR($D58-$C58,"")) | F58: =IF(OR($A58="",$C58=""),"",IFERROR($C58*VLOOKUP($A58,Assumptions!$A$8:$D$107,4,FALSE),"")) | G58: =IF(OR($A58="",$B$3="",$B$4="",$B$4<$B$3),"",SUMIFS('Fuel Log'!$H$5:$H$104,'Fuel Log'!$A$5:$A$104,">="&$B$3,'Fuel Log'!$A$5:$A$104,"<="&$B$4,'Fuel Log'!$C$5:$C$104,$A58,'Fuel Log'!$L$5:$L$104,"Recorded")+SUMIFS('Fuel Log'!$H$5:$H$104,'Fuel Log'!$A$5:$A$104,">="&$B$3,'Fuel Log'!$A$5:$A$104,"<="&$B$4,'Fuel Log'!$C$5:$C$104,$A58,'Fuel Log'!$L$5:$L$104,"Reviewed")) | H58: =IF(OR($F58="",$G58=""),"",IFERROR($G58-$F58,""))
A59: =IF(Assumptions!$A$53="","",Assumptions!$A$53) | B59: =IF($A59="","",IFERROR(VLOOKUP($A59,Assumptions!$A$8:$D$107,3,FALSE),"")) | C59: =IF(OR($A59="",$B$5="",$B59="",Assumptions!$B$5=""),"",IFERROR($B59*$B$5/Assumptions!$B$5,"")) | D59: =IF(OR($A59="",$B$3="",$B$4="",$B$4<$B$3),"",SUMIFS('Fuel Log'!$F$5:$F$104,'Fuel Log'!$A$5:$A$104,">="&$B$3,'Fuel Log'!$A$5:$A$104,"<="&$B$4,'Fuel Log'!$C$5:$C$104,$A59,'Fuel Log'!$L$5:$L$104,"Recorded")+SUMIFS('Fuel Log'!$F$5:$F$104,'Fuel Log'!$A$5:$A$104,">="&$B$3,'Fuel Log'!$A$5:$A$104,"<="&$B$4,'Fuel Log'!$C$5:$C$104,$A59,'Fuel Log'!$L$5:$L$104,"Reviewed")) | E59: =IF(OR($C59="",$D59=""),"",IFERROR($D59-$C59,"")) | F59: =IF(OR($A59="",$C59=""),"",IFERROR($C59*VLOOKUP($A59,Assumptions!$A$8:$D$107,4,FALSE),"")) | G59: =IF(OR($A59="",$B$3="",$B$4="",$B$4<$B$3),"",SUMIFS('Fuel Log'!$H$5:$H$104,'Fuel Log'!$A$5:$A$104,">="&$B$3,'Fuel Log'!$A$5:$A$104,"<="&$B$4,'Fuel Log'!$C$5:$C$104,$A59,'Fuel Log'!$L$5:$L$104,"Recorded")+SUMIFS('Fuel Log'!$H$5:$H$104,'Fuel Log'!$A$5:$A$104,">="&$B$3,'Fuel Log'!$A$5:$A$104,"<="&$B$4,'Fuel Log'!$C$5:$C$104,$A59,'Fuel Log'!$L$5:$L$104,"Reviewed")) | H59: =IF(OR($F59="",$G59=""),"",IFERROR($G59-$F59,""))
A60: =IF(Assumptions!$A$54="","",Assumptions!$A$54) | B60: =IF($A60="","",IFERROR(VLOOKUP($A60,Assumptions!$A$8:$D$107,3,FALSE),"")) | C60: =IF(OR($A60="",$B$5="",$B60="",Assumptions!$B$5=""),"",IFERROR($B60*$B$5/Assumptions!$B$5,"")) | D60: =IF(OR($A60="",$B$3="",$B$4="",$B$4<$B$3),"",SUMIFS('Fuel Log'!$F$5:$F$104,'Fuel Log'!$A$5:$A$104,">="&$B$3,'Fuel Log'!$A$5:$A$104,"<="&$B$4,'Fuel Log'!$C$5:$C$104,$A60,'Fuel Log'!$L$5:$L$104,"Recorded")+SUMIFS('Fuel Log'!$F$5:$F$104,'Fuel Log'!$A$5:$A$104,">="&$B$3,'Fuel Log'!$A$5:$A$104,"<="&$B$4,'Fuel Log'!$C$5:$C$104,$A60,'Fuel Log'!$L$5:$L$104,"Reviewed")) | E60: =IF(OR($C60="",$D60=""),"",IFERROR($D60-$C60,"")) | F60: =IF(OR($A60="",$C60=""),"",IFERROR($C60*VLOOKUP($A60,Assumptions!$A$8:$D$107,4,FALSE),"")) | G60: =IF(OR($A60="",$B$3="",$B$4="",$B$4<$B$3),"",SUMIFS('Fuel Log'!$H$5:$H$104,'Fuel Log'!$A$5:$A$104,">="&$B$3,'Fuel Log'!$A$5:$A$104,"<="&$B$4,'Fuel Log'!$C$5:$C$104,$A60,'Fuel Log'!$L$5:$L$104,"Recorded")+SUMIFS('Fuel Log'!$H$5:$H$104,'Fuel Log'!$A$5:$A$104,">="&$B$3,'Fuel Log'!$A$5:$A$104,"<="&$B$4,'Fuel Log'!$C$5:$C$104,$A60,'Fuel Log'!$L$5:$L$104,"Reviewed")) | H60: =IF(OR($F60="",$G60=""),"",IFERROR($G60-$F60,""))
A61: =IF(Assumptions!$A$55="","",Assumptions!$A$55) | B61: =IF($A61="","",IFERROR(VLOOKUP($A61,Assumptions!$A$8:$D$107,3,FALSE),"")) | C61: =IF(OR($A61="",$B$5="",$B61="",Assumptions!$B$5=""),"",IFERROR($B61*$B$5/Assumptions!$B$5,"")) | D61: =IF(OR($A61="",$B$3="",$B$4="",$B$4<$B$3),"",SUMIFS('Fuel Log'!$F$5:$F$104,'Fuel Log'!$A$5:$A$104,">="&$B$3,'Fuel Log'!$A$5:$A$104,"<="&$B$4,'Fuel Log'!$C$5:$C$104,$A61,'Fuel Log'!$L$5:$L$104,"Recorded")+SUMIFS('Fuel Log'!$F$5:$F$104,'Fuel Log'!$A$5:$A$104,">="&$B$3,'Fuel Log'!$A$5:$A$104,"<="&$B$4,'Fuel Log'!$C$5:$C$104,$A61,'Fuel Log'!$L$5:$L$104,"Reviewed")) | E61: =IF(OR($C61="",$D61=""),"",IFERROR($D61-$C61,"")) | F61: =IF(OR($A61="",$C61=""),"",IFERROR($C61*VLOOKUP($A61,Assumptions!$A$8:$D$107,4,FALSE),"")) | G61: =IF(OR($A61="",$B$3="",$B$4="",$B$4<$B$3),"",SUMIFS('Fuel Log'!$H$5:$H$104,'Fuel Log'!$A$5:$A$104,">="&$B$3,'Fuel Log'!$A$5:$A$104,"<="&$B$4,'Fuel Log'!$C$5:$C$104,$A61,'Fuel Log'!$L$5:$L$104,"Recorded")+SUMIFS('Fuel Log'!$H$5:$H$104,'Fuel Log'!$A$5:$A$104,">="&$B$3,'Fuel Log'!$A$5:$A$104,"<="&$B$4,'Fuel Log'!$C$5:$C$104,$A61,'Fuel Log'!$L$5:$L$104,"Reviewed")) | H61: =IF(OR($F61="",$G61=""),"",IFERROR($G61-$F61,""))
A62: =IF(Assumptions!$A$56="","",Assumptions!$A$56) | B62: =IF($A62="","",IFERROR(VLOOKUP($A62,Assumptions!$A$8:$D$107,3,FALSE),"")) | C62: =IF(OR($A62="",$B$5="",$B62="",Assumptions!$B$5=""),"",IFERROR($B62*$B$5/Assumptions!$B$5,"")) | D62: =IF(OR($A62="",$B$3="",$B$4="",$B$4<$B$3),"",SUMIFS('Fuel Log'!$F$5:$F$104,'Fuel Log'!$A$5:$A$104,">="&$B$3,'Fuel Log'!$A$5:$A$104,"<="&$B$4,'Fuel Log'!$C$5:$C$104,$A62,'Fuel Log'!$L$5:$L$104,"Recorded")+SUMIFS('Fuel Log'!$F$5:$F$104,'Fuel Log'!$A$5:$A$104,">="&$B$3,'Fuel Log'!$A$5:$A$104,"<="&$B$4,'Fuel Log'!$C$5:$C$104,$A62,'Fuel Log'!$L$5:$L$104,"Reviewed")) | E62: =IF(OR($C62="",$D62=""),"",IFERROR($D62-$C62,"")) | F62: =IF(OR($A62="",$C62=""),"",IFERROR($C62*VLOOKUP($A62,Assumptions!$A$8:$D$107,4,FALSE),"")) | G62: =IF(OR($A62="",$B$3="",$B$4="",$B$4<$B$3),"",SUMIFS('Fuel Log'!$H$5:$H$104,'Fuel Log'!$A$5:$A$104,">="&$B$3,'Fuel Log'!$A$5:$A$104,"<="&$B$4,'Fuel Log'!$C$5:$C$104,$A62,'Fuel Log'!$L$5:$L$104,"Recorded")+SUMIFS('Fuel Log'!$H$5:$H$104,'Fuel Log'!$A$5:$A$104,">="&$B$3,'Fuel Log'!$A$5:$A$104,"<="&$B$4,'Fuel Log'!$C$5:$C$104,$A62,'Fuel Log'!$L$5:$L$104,"Reviewed")) | H62: =IF(OR($F62="",$G62=""),"",IFERROR($G62-$F62,""))
A63: =IF(Assumptions!$A$57="","",Assumptions!$A$57) | B63: =IF($A63="","",IFERROR(VLOOKUP($A63,Assumptions!$A$8:$D$107,3,FALSE),"")) | C63: =IF(OR($A63="",$B$5="",$B63="",Assumptions!$B$5=""),"",IFERROR($B63*$B$5/Assumptions!$B$5,"")) | D63: =IF(OR($A63="",$B$3="",$B$4="",$B$4<$B$3),"",SUMIFS('Fuel Log'!$F$5:$F$104,'Fuel Log'!$A$5:$A$104,">="&$B$3,'Fuel Log'!$A$5:$A$104,"<="&$B$4,'Fuel Log'!$C$5:$C$104,$A63,'Fuel Log'!$L$5:$L$104,"Recorded")+SUMIFS('Fuel Log'!$F$5:$F$104,'Fuel Log'!$A$5:$A$104,">="&$B$3,'Fuel Log'!$A$5:$A$104,"<="&$B$4,'Fuel Log'!$C$5:$C$104,$A63,'Fuel Log'!$L$5:$L$104,"Reviewed")) | E63: =IF(OR($C63="",$D63=""),"",IFERROR($D63-$C63,"")) | F63: =IF(OR($A63="",$C63=""),"",IFERROR($C63*VLOOKUP($A63,Assumptions!$A$8:$D$107,4,FALSE),"")) | G63: =IF(OR($A63="",$B$3="",$B$4="",$B$4<$B$3),"",SUMIFS('Fuel Log'!$H$5:$H$104,'Fuel Log'!$A$5:$A$104,">="&$B$3,'Fuel Log'!$A$5:$A$104,"<="&$B$4,'Fuel Log'!$C$5:$C$104,$A63,'Fuel Log'!$L$5:$L$104,"Recorded")+SUMIFS('Fuel Log'!$H$5:$H$104,'Fuel Log'!$A$5:$A$104,">="&$B$3,'Fuel Log'!$A$5:$A$104,"<="&$B$4,'Fuel Log'!$C$5:$C$104,$A63,'Fuel Log'!$L$5:$L$104,"Reviewed")) | H63: =IF(OR($F63="",$G63=""),"",IFERROR($G63-$F63,""))
A64: =IF(Assumptions!$A$58="","",Assumptions!$A$58) | B64: =IF($A64="","",IFERROR(VLOOKUP($A64,Assumptions!$A$8:$D$107,3,FALSE),"")) | C64: =IF(OR($A64="",$B$5="",$B64="",Assumptions!$B$5=""),"",IFERROR($B64*$B$5/Assumptions!$B$5,"")) | D64: =IF(OR($A64="",$B$3="",$B$4="",$B$4<$B$3),"",SUMIFS('Fuel Log'!$F$5:$F$104,'Fuel Log'!$A$5:$A$104,">="&$B$3,'Fuel Log'!$A$5:$A$104,"<="&$B$4,'Fuel Log'!$C$5:$C$104,$A64,'Fuel Log'!$L$5:$L$104,"Recorded")+SUMIFS('Fuel Log'!$F$5:$F$104,'Fuel Log'!$A$5:$A$104,">="&$B$3,'Fuel Log'!$A$5:$A$104,"<="&$B$4,'Fuel Log'!$C$5:$C$104,$A64,'Fuel Log'!$L$5:$L$104,"Reviewed")) | E64: =IF(OR($C64="",$D64=""),"",IFERROR($D64-$C64,"")) | F64: =IF(OR($A64="",$C64=""),"",IFERROR($C64*VLOOKUP($A64,Assumptions!$A$8:$D$107,4,FALSE),"")) | G64: =IF(OR($A64="",$B$3="",$B$4="",$B$4<$B$3),"",SUMIFS('Fuel Log'!$H$5:$H$104,'Fuel Log'!$A$5:$A$104,">="&$B$3,'Fuel Log'!$A$5:$A$104,"<="&$B$4,'Fuel Log'!$C$5:$C$104,$A64,'Fuel Log'!$L$5:$L$104,"Recorded")+SUMIFS('Fuel Log'!$H$5:$H$104,'Fuel Log'!$A$5:$A$104,">="&$B$3,'Fuel Log'!$A$5:$A$104,"<="&$B$4,'Fuel Log'!$C$5:$C$104,$A64,'Fuel Log'!$L$5:$L$104,"Reviewed")) | H64: =IF(OR($F64="",$G64=""),"",IFERROR($G64-$F64,""))
A65: =IF(Assumptions!$A$59="","",Assumptions!$A$59) | B65: =IF($A65="","",IFERROR(VLOOKUP($A65,Assumptions!$A$8:$D$107,3,FALSE),"")) | C65: =IF(OR($A65="",$B$5="",$B65="",Assumptions!$B$5=""),"",IFERROR($B65*$B$5/Assumptions!$B$5,"")) | D65: =IF(OR($A65="",$B$3="",$B$4="",$B$4<$B$3),"",SUMIFS('Fuel Log'!$F$5:$F$104,'Fuel Log'!$A$5:$A$104,">="&$B$3,'Fuel Log'!$A$5:$A$104,"<="&$B$4,'Fuel Log'!$C$5:$C$104,$A65,'Fuel Log'!$L$5:$L$104,"Recorded")+SUMIFS('Fuel Log'!$F$5:$F$104,'Fuel Log'!$A$5:$A$104,">="&$B$3,'Fuel Log'!$A$5:$A$104,"<="&$B$4,'Fuel Log'!$C$5:$C$104,$A65,'Fuel Log'!$L$5:$L$104,"Reviewed")) | E65: =IF(OR($C65="",$D65=""),"",IFERROR($D65-$C65,"")) | F65: =IF(OR($A65="",$C65=""),"",IFERROR($C65*VLOOKUP($A65,Assumptions!$A$8:$D$107,4,FALSE),"")) | G65: =IF(OR($A65="",$B$3="",$B$4="",$B$4<$B$3),"",SUMIFS('Fuel Log'!$H$5:$H$104,'Fuel Log'!$A$5:$A$104,">="&$B$3,'Fuel Log'!$A$5:$A$104,"<="&$B$4,'Fuel Log'!$C$5:$C$104,$A65,'Fuel Log'!$L$5:$L$104,"Recorded")+SUMIFS('Fuel Log'!$H$5:$H$104,'Fuel Log'!$A$5:$A$104,">="&$B$3,'Fuel Log'!$A$5:$A$104,"<="&$B$4,'Fuel Log'!$C$5:$C$104,$A65,'Fuel Log'!$L$5:$L$104,"Reviewed")) | H65: =IF(OR($F65="",$G65=""),"",IFERROR($G65-$F65,""))
A66: =IF(Assumptions!$A$60="","",Assumptions!$A$60) | B66: =IF($A66="","",IFERROR(VLOOKUP($A66,Assumptions!$A$8:$D$107,3,FALSE),"")) | C66: =IF(OR($A66="",$B$5="",$B66="",Assumptions!$B$5=""),"",IFERROR($B66*$B$5/Assumptions!$B$5,"")) | D66: =IF(OR($A66="",$B$3="",$B$4="",$B$4<$B$3),"",SUMIFS('Fuel Log'!$F$5:$F$104,'Fuel Log'!$A$5:$A$104,">="&$B$3,'Fuel Log'!$A$5:$A$104,"<="&$B$4,'Fuel Log'!$C$5:$C$104,$A66,'Fuel Log'!$L$5:$L$104,"Recorded")+SUMIFS('Fuel Log'!$F$5:$F$104,'Fuel Log'!$A$5:$A$104,">="&$B$3,'Fuel Log'!$A$5:$A$104,"<="&$B$4,'Fuel Log'!$C$5:$C$104,$A66,'Fuel Log'!$L$5:$L$104,"Reviewed")) | E66: =IF(OR($C66="",$D66=""),"",IFERROR($D66-$C66,"")) | F66: =IF(OR($A66="",$C66=""),"",IFERROR($C66*VLOOKUP($A66,Assumptions!$A$8:$D$107,4,FALSE),"")) | G66: =IF(OR($A66="",$B$3="",$B$4="",$B$4<$B$3),"",SUMIFS('Fuel Log'!$H$5:$H$104,'Fuel Log'!$A$5:$A$104,">="&$B$3,'Fuel Log'!$A$5:$A$104,"<="&$B$4,'Fuel Log'!$C$5:$C$104,$A66,'Fuel Log'!$L$5:$L$104,"Recorded")+SUMIFS('Fuel Log'!$H$5:$H$104,'Fuel Log'!$A$5:$A$104,">="&$B$3,'Fuel Log'!$A$5:$A$104,"<="&$B$4,'Fuel Log'!$C$5:$C$104,$A66,'Fuel Log'!$L$5:$L$104,"Reviewed")) | H66: =IF(OR($F66="",$G66=""),"",IFERROR($G66-$F66,""))
A67: =IF(Assumptions!$A$61="","",Assumptions!$A$61) | B67: =IF($A67="","",IFERROR(VLOOKUP($A67,Assumptions!$A$8:$D$107,3,FALSE),"")) | C67: =IF(OR($A67="",$B$5="",$B67="",Assumptions!$B$5=""),"",IFERROR($B67*$B$5/Assumptions!$B$5,"")) | D67: =IF(OR($A67="",$B$3="",$B$4="",$B$4<$B$3),"",SUMIFS('Fuel Log'!$F$5:$F$104,'Fuel Log'!$A$5:$A$104,">="&$B$3,'Fuel Log'!$A$5:$A$104,"<="&$B$4,'Fuel Log'!$C$5:$C$104,$A67,'Fuel Log'!$L$5:$L$104,"Recorded")+SUMIFS('Fuel Log'!$F$5:$F$104,'Fuel Log'!$A$5:$A$104,">="&$B$3,'Fuel Log'!$A$5:$A$104,"<="&$B$4,'Fuel Log'!$C$5:$C$104,$A67,'Fuel Log'!$L$5:$L$104,"Reviewed")) | E67: =IF(OR($C67="",$D67=""),"",IFERROR($D67-$C67,"")) | F67: =IF(OR($A67="",$C67=""),"",IFERROR($C67*VLOOKUP($A67,Assumptions!$A$8:$D$107,4,FALSE),"")) | G67: =IF(OR($A67="",$B$3="",$B$4="",$B$4<$B$3),"",SUMIFS('Fuel Log'!$H$5:$H$104,'Fuel Log'!$A$5:$A$104,">="&$B$3,'Fuel Log'!$A$5:$A$104,"<="&$B$4,'Fuel Log'!$C$5:$C$104,$A67,'Fuel Log'!$L$5:$L$104,"Recorded")+SUMIFS('Fuel Log'!$H$5:$H$104,'Fuel Log'!$A$5:$A$104,">="&$B$3,'Fuel Log'!$A$5:$A$104,"<="&$B$4,'Fuel Log'!$C$5:$C$104,$A67,'Fuel Log'!$L$5:$L$104,"Reviewed")) | H67: =IF(OR($F67="",$G67=""),"",IFERROR($G67-$F67,""))
A68: =IF(Assumptions!$A$62="","",Assumptions!$A$62) | B68: =IF($A68="","",IFERROR(VLOOKUP($A68,Assumptions!$A$8:$D$107,3,FALSE),"")) | C68: =IF(OR($A68="",$B$5="",$B68="",Assumptions!$B$5=""),"",IFERROR($B68*$B$5/Assumptions!$B$5,"")) | D68: =IF(OR($A68="",$B$3="",$B$4="",$B$4<$B$3),"",SUMIFS('Fuel Log'!$F$5:$F$104,'Fuel Log'!$A$5:$A$104,">="&$B$3,'Fuel Log'!$A$5:$A$104,"<="&$B$4,'Fuel Log'!$C$5:$C$104,$A68,'Fuel Log'!$L$5:$L$104,"Recorded")+SUMIFS('Fuel Log'!$F$5:$F$104,'Fuel Log'!$A$5:$A$104,">="&$B$3,'Fuel Log'!$A$5:$A$104,"<="&$B$4,'Fuel Log'!$C$5:$C$104,$A68,'Fuel Log'!$L$5:$L$104,"Reviewed")) | E68: =IF(OR($C68="",$D68=""),"",IFERROR($D68-$C68,"")) | F68: =IF(OR($A68="",$C68=""),"",IFERROR($C68*VLOOKUP($A68,Assumptions!$A$8:$D$107,4,FALSE),"")) | G68: =IF(OR($A68="",$B$3="",$B$4="",$B$4<$B$3),"",SUMIFS('Fuel Log'!$H$5:$H$104,'Fuel Log'!$A$5:$A$104,">="&$B$3,'Fuel Log'!$A$5:$A$104,"<="&$B$4,'Fuel Log'!$C$5:$C$104,$A68,'Fuel Log'!$L$5:$L$104,"Recorded")+SUMIFS('Fuel Log'!$H$5:$H$104,'Fuel Log'!$A$5:$A$104,">="&$B$3,'Fuel Log'!$A$5:$A$104,"<="&$B$4,'Fuel Log'!$C$5:$C$104,$A68,'Fuel Log'!$L$5:$L$104,"Reviewed")) | H68: =IF(OR($F68="",$G68=""),"",IFERROR($G68-$F68,""))
A69: =IF(Assumptions!$A$63="","",Assumptions!$A$63) | B69: =IF($A69="","",IFERROR(VLOOKUP($A69,Assumptions!$A$8:$D$107,3,FALSE),"")) | C69: =IF(OR($A69="",$B$5="",$B69="",Assumptions!$B$5=""),"",IFERROR($B69*$B$5/Assumptions!$B$5,"")) | D69: =IF(OR($A69="",$B$3="",$B$4="",$B$4<$B$3),"",SUMIFS('Fuel Log'!$F$5:$F$104,'Fuel Log'!$A$5:$A$104,">="&$B$3,'Fuel Log'!$A$5:$A$104,"<="&$B$4,'Fuel Log'!$C$5:$C$104,$A69,'Fuel Log'!$L$5:$L$104,"Recorded")+SUMIFS('Fuel Log'!$F$5:$F$104,'Fuel Log'!$A$5:$A$104,">="&$B$3,'Fuel Log'!$A$5:$A$104,"<="&$B$4,'Fuel Log'!$C$5:$C$104,$A69,'Fuel Log'!$L$5:$L$104,"Reviewed")) | E69: =IF(OR($C69="",$D69=""),"",IFERROR($D69-$C69,"")) | F69: =IF(OR($A69="",$C69=""),"",IFERROR($C69*VLOOKUP($A69,Assumptions!$A$8:$D$107,4,FALSE),"")) | G69: =IF(OR($A69="",$B$3="",$B$4="",$B$4<$B$3),"",SUMIFS('Fuel Log'!$H$5:$H$104,'Fuel Log'!$A$5:$A$104,">="&$B$3,'Fuel Log'!$A$5:$A$104,"<="&$B$4,'Fuel Log'!$C$5:$C$104,$A69,'Fuel Log'!$L$5:$L$104,"Recorded")+SUMIFS('Fuel Log'!$H$5:$H$104,'Fuel Log'!$A$5:$A$104,">="&$B$3,'Fuel Log'!$A$5:$A$104,"<="&$B$4,'Fuel Log'!$C$5:$C$104,$A69,'Fuel Log'!$L$5:$L$104,"Reviewed")) | H69: =IF(OR($F69="",$G69=""),"",IFERROR($G69-$F69,""))
A70: =IF(Assumptions!$A$64="","",Assumptions!$A$64) | B70: =IF($A70="","",IFERROR(VLOOKUP($A70,Assumptions!$A$8:$D$107,3,FALSE),"")) | C70: =IF(OR($A70="",$B$5="",$B70="",Assumptions!$B$5=""),"",IFERROR($B70*$B$5/Assumptions!$B$5,"")) | D70: =IF(OR($A70="",$B$3="",$B$4="",$B$4<$B$3),"",SUMIFS('Fuel Log'!$F$5:$F$104,'Fuel Log'!$A$5:$A$104,">="&$B$3,'Fuel Log'!$A$5:$A$104,"<="&$B$4,'Fuel Log'!$C$5:$C$104,$A70,'Fuel Log'!$L$5:$L$104,"Recorded")+SUMIFS('Fuel Log'!$F$5:$F$104,'Fuel Log'!$A$5:$A$104,">="&$B$3,'Fuel Log'!$A$5:$A$104,"<="&$B$4,'Fuel Log'!$C$5:$C$104,$A70,'Fuel Log'!$L$5:$L$104,"Reviewed")) | E70: =IF(OR($C70="",$D70=""),"",IFERROR($D70-$C70,"")) | F70: =IF(OR($A70="",$C70=""),"",IFERROR($C70*VLOOKUP($A70,Assumptions!$A$8:$D$107,4,FALSE),"")) | G70: =IF(OR($A70="",$B$3="",$B$4="",$B$4<$B$3),"",SUMIFS('Fuel Log'!$H$5:$H$104,'Fuel Log'!$A$5:$A$104,">="&$B$3,'Fuel Log'!$A$5:$A$104,"<="&$B$4,'Fuel Log'!$C$5:$C$104,$A70,'Fuel Log'!$L$5:$L$104,"Recorded")+SUMIFS('Fuel Log'!$H$5:$H$104,'Fuel Log'!$A$5:$A$104,">="&$B$3,'Fuel Log'!$A$5:$A$104,"<="&$B$4,'Fuel Log'!$C$5:$C$104,$A70,'Fuel Log'!$L$5:$L$104,"Reviewed")) | H70: =IF(OR($F70="",$G70=""),"",IFERROR($G70-$F70,""))
A71: =IF(Assumptions!$A$65="","",Assumptions!$A$65) | B71: =IF($A71="","",IFERROR(VLOOKUP($A71,Assumptions!$A$8:$D$107,3,FALSE),"")) | C71: =IF(OR($A71="",$B$5="",$B71="",Assumptions!$B$5=""),"",IFERROR($B71*$B$5/Assumptions!$B$5,"")) | D71: =IF(OR($A71="",$B$3="",$B$4="",$B$4<$B$3),"",SUMIFS('Fuel Log'!$F$5:$F$104,'Fuel Log'!$A$5:$A$104,">="&$B$3,'Fuel Log'!$A$5:$A$104,"<="&$B$4,'Fuel Log'!$C$5:$C$104,$A71,'Fuel Log'!$L$5:$L$104,"Recorded")+SUMIFS('Fuel Log'!$F$5:$F$104,'Fuel Log'!$A$5:$A$104,">="&$B$3,'Fuel Log'!$A$5:$A$104,"<="&$B$4,'Fuel Log'!$C$5:$C$104,$A71,'Fuel Log'!$L$5:$L$104,"Reviewed")) | E71: =IF(OR($C71="",$D71=""),"",IFERROR($D71-$C71,"")) | F71: =IF(OR($A71="",$C71=""),"",IFERROR($C71*VLOOKUP($A71,Assumptions!$A$8:$D$107,4,FALSE),"")) | G71: =IF(OR($A71="",$B$3="",$B$4="",$B$4<$B$3),"",SUMIFS('Fuel Log'!$H$5:$H$104,'Fuel Log'!$A$5:$A$104,">="&$B$3,'Fuel Log'!$A$5:$A$104,"<="&$B$4,'Fuel Log'!$C$5:$C$104,$A71,'Fuel Log'!$L$5:$L$104,"Recorded")+SUMIFS('Fuel Log'!$H$5:$H$104,'Fuel Log'!$A$5:$A$104,">="&$B$3,'Fuel Log'!$A$5:$A$104,"<="&$B$4,'Fuel Log'!$C$5:$C$104,$A71,'Fuel Log'!$L$5:$L$104,"Reviewed")) | H71: =IF(OR($F71="",$G71=""),"",IFERROR($G71-$F71,""))
A72: =IF(Assumptions!$A$66="","",Assumptions!$A$66) | B72: =IF($A72="","",IFERROR(VLOOKUP($A72,Assumptions!$A$8:$D$107,3,FALSE),"")) | C72: =IF(OR($A72="",$B$5="",$B72="",Assumptions!$B$5=""),"",IFERROR($B72*$B$5/Assumptions!$B$5,"")) | D72: =IF(OR($A72="",$B$3="",$B$4="",$B$4<$B$3),"",SUMIFS('Fuel Log'!$F$5:$F$104,'Fuel Log'!$A$5:$A$104,">="&$B$3,'Fuel Log'!$A$5:$A$104,"<="&$B$4,'Fuel Log'!$C$5:$C$104,$A72,'Fuel Log'!$L$5:$L$104,"Recorded")+SUMIFS('Fuel Log'!$F$5:$F$104,'Fuel Log'!$A$5:$A$104,">="&$B$3,'Fuel Log'!$A$5:$A$104,"<="&$B$4,'Fuel Log'!$C$5:$C$104,$A72,'Fuel Log'!$L$5:$L$104,"Reviewed")) | E72: =IF(OR($C72="",$D72=""),"",IFERROR($D72-$C72,"")) | F72: =IF(OR($A72="",$C72=""),"",IFERROR($C72*VLOOKUP($A72,Assumptions!$A$8:$D$107,4,FALSE),"")) | G72: =IF(OR($A72="",$B$3="",$B$4="",$B$4<$B$3),"",SUMIFS('Fuel Log'!$H$5:$H$104,'Fuel Log'!$A$5:$A$104,">="&$B$3,'Fuel Log'!$A$5:$A$104,"<="&$B$4,'Fuel Log'!$C$5:$C$104,$A72,'Fuel Log'!$L$5:$L$104,"Recorded")+SUMIFS('Fuel Log'!$H$5:$H$104,'Fuel Log'!$A$5:$A$104,">="&$B$3,'Fuel Log'!$A$5:$A$104,"<="&$B$4,'Fuel Log'!$C$5:$C$104,$A72,'Fuel Log'!$L$5:$L$104,"Reviewed")) | H72: =IF(OR($F72="",$G72=""),"",IFERROR($G72-$F72,""))
A73: =IF(Assumptions!$A$67="","",Assumptions!$A$67) | B73: =IF($A73="","",IFERROR(VLOOKUP($A73,Assumptions!$A$8:$D$107,3,FALSE),"")) | C73: =IF(OR($A73="",$B$5="",$B73="",Assumptions!$B$5=""),"",IFERROR($B73*$B$5/Assumptions!$B$5,"")) | D73: =IF(OR($A73="",$B$3="",$B$4="",$B$4<$B$3),"",SUMIFS('Fuel Log'!$F$5:$F$104,'Fuel Log'!$A$5:$A$104,">="&$B$3,'Fuel Log'!$A$5:$A$104,"<="&$B$4,'Fuel Log'!$C$5:$C$104,$A73,'Fuel Log'!$L$5:$L$104,"Recorded")+SUMIFS('Fuel Log'!$F$5:$F$104,'Fuel Log'!$A$5:$A$104,">="&$B$3,'Fuel Log'!$A$5:$A$104,"<="&$B$4,'Fuel Log'!$C$5:$C$104,$A73,'Fuel Log'!$L$5:$L$104,"Reviewed")) | E73: =IF(OR($C73="",$D73=""),"",IFERROR($D73-$C73,"")) | F73: =IF(OR($A73="",$C73=""),"",IFERROR($C73*VLOOKUP($A73,Assumptions!$A$8:$D$107,4,FALSE),"")) | G73: =IF(OR($A73="",$B$3="",$B$4="",$B$4<$B$3),"",SUMIFS('Fuel Log'!$H$5:$H$104,'Fuel Log'!$A$5:$A$104,">="&$B$3,'Fuel Log'!$A$5:$A$104,"<="&$B$4,'Fuel Log'!$C$5:$C$104,$A73,'Fuel Log'!$L$5:$L$104,"Recorded")+SUMIFS('Fuel Log'!$H$5:$H$104,'Fuel Log'!$A$5:$A$104,">="&$B$3,'Fuel Log'!$A$5:$A$104,"<="&$B$4,'Fuel Log'!$C$5:$C$104,$A73,'Fuel Log'!$L$5:$L$104,"Reviewed")) | H73: =IF(OR($F73="",$G73=""),"",IFERROR($G73-$F73,""))
A74: =IF(Assumptions!$A$68="","",Assumptions!$A$68) | B74: =IF($A74="","",IFERROR(VLOOKUP($A74,Assumptions!$A$8:$D$107,3,FALSE),"")) | C74: =IF(OR($A74="",$B$5="",$B74="",Assumptions!$B$5=""),"",IFERROR($B74*$B$5/Assumptions!$B$5,"")) | D74: =IF(OR($A74="",$B$3="",$B$4="",$B$4<$B$3),"",SUMIFS('Fuel Log'!$F$5:$F$104,'Fuel Log'!$A$5:$A$104,">="&$B$3,'Fuel Log'!$A$5:$A$104,"<="&$B$4,'Fuel Log'!$C$5:$C$104,$A74,'Fuel Log'!$L$5:$L$104,"Recorded")+SUMIFS('Fuel Log'!$F$5:$F$104,'Fuel Log'!$A$5:$A$104,">="&$B$3,'Fuel Log'!$A$5:$A$104,"<="&$B$4,'Fuel Log'!$C$5:$C$104,$A74,'Fuel Log'!$L$5:$L$104,"Reviewed")) | E74: =IF(OR($C74="",$D74=""),"",IFERROR($D74-$C74,"")) | F74: =IF(OR($A74="",$C74=""),"",IFERROR($C74*VLOOKUP($A74,Assumptions!$A$8:$D$107,4,FALSE),"")) | G74: =IF(OR($A74="",$B$3="",$B$4="",$B$4<$B$3),"",SUMIFS('Fuel Log'!$H$5:$H$104,'Fuel Log'!$A$5:$A$104,">="&$B$3,'Fuel Log'!$A$5:$A$104,"<="&$B$4,'Fuel Log'!$C$5:$C$104,$A74,'Fuel Log'!$L$5:$L$104,"Recorded")+SUMIFS('Fuel Log'!$H$5:$H$104,'Fuel Log'!$A$5:$A$104,">="&$B$3,'Fuel Log'!$A$5:$A$104,"<="&$B$4,'Fuel Log'!$C$5:$C$104,$A74,'Fuel Log'!$L$5:$L$104,"Reviewed")) | H74: =IF(OR($F74="",$G74=""),"",IFERROR($G74-$F74,""))
A75: =IF(Assumptions!$A$69="","",Assumptions!$A$69) | B75: =IF($A75="","",IFERROR(VLOOKUP($A75,Assumptions!$A$8:$D$107,3,FALSE),"")) | C75: =IF(OR($A75="",$B$5="",$B75="",Assumptions!$B$5=""),"",IFERROR($B75*$B$5/Assumptions!$B$5,"")) | D75: =IF(OR($A75="",$B$3="",$B$4="",$B$4<$B$3),"",SUMIFS('Fuel Log'!$F$5:$F$104,'Fuel Log'!$A$5:$A$104,">="&$B$3,'Fuel Log'!$A$5:$A$104,"<="&$B$4,'Fuel Log'!$C$5:$C$104,$A75,'Fuel Log'!$L$5:$L$104,"Recorded")+SUMIFS('Fuel Log'!$F$5:$F$104,'Fuel Log'!$A$5:$A$104,">="&$B$3,'Fuel Log'!$A$5:$A$104,"<="&$B$4,'Fuel Log'!$C$5:$C$104,$A75,'Fuel Log'!$L$5:$L$104,"Reviewed")) | E75: =IF(OR($C75="",$D75=""),"",IFERROR($D75-$C75,"")) | F75: =IF(OR($A75="",$C75=""),"",IFERROR($C75*VLOOKUP($A75,Assumptions!$A$8:$D$107,4,FALSE),"")) | G75: =IF(OR($A75="",$B$3="",$B$4="",$B$4<$B$3),"",SUMIFS('Fuel Log'!$H$5:$H$104,'Fuel Log'!$A$5:$A$104,">="&$B$3,'Fuel Log'!$A$5:$A$104,"<="&$B$4,'Fuel Log'!$C$5:$C$104,$A75,'Fuel Log'!$L$5:$L$104,"Recorded")+SUMIFS('Fuel Log'!$H$5:$H$104,'Fuel Log'!$A$5:$A$104,">="&$B$3,'Fuel Log'!$A$5:$A$104,"<="&$B$4,'Fuel Log'!$C$5:$C$104,$A75,'Fuel Log'!$L$5:$L$104,"Reviewed")) | H75: =IF(OR($F75="",$G75=""),"",IFERROR($G75-$F75,""))
A76: =IF(Assumptions!$A$70="","",Assumptions!$A$70) | B76: =IF($A76="","",IFERROR(VLOOKUP($A76,Assumptions!$A$8:$D$107,3,FALSE),"")) | C76: =IF(OR($A76="",$B$5="",$B76="",Assumptions!$B$5=""),"",IFERROR($B76*$B$5/Assumptions!$B$5,"")) | D76: =IF(OR($A76="",$B$3="",$B$4="",$B$4<$B$3),"",SUMIFS('Fuel Log'!$F$5:$F$104,'Fuel Log'!$A$5:$A$104,">="&$B$3,'Fuel Log'!$A$5:$A$104,"<="&$B$4,'Fuel Log'!$C$5:$C$104,$A76,'Fuel Log'!$L$5:$L$104,"Recorded")+SUMIFS('Fuel Log'!$F$5:$F$104,'Fuel Log'!$A$5:$A$104,">="&$B$3,'Fuel Log'!$A$5:$A$104,"<="&$B$4,'Fuel Log'!$C$5:$C$104,$A76,'Fuel Log'!$L$5:$L$104,"Reviewed")) | E76: =IF(OR($C76="",$D76=""),"",IFERROR($D76-$C76,"")) | F76: =IF(OR($A76="",$C76=""),"",IFERROR($C76*VLOOKUP($A76,Assumptions!$A$8:$D$107,4,FALSE),"")) | G76: =IF(OR($A76="",$B$3="",$B$4="",$B$4<$B$3),"",SUMIFS('Fuel Log'!$H$5:$H$104,'Fuel Log'!$A$5:$A$104,">="&$B$3,'Fuel Log'!$A$5:$A$104,"<="&$B$4,'Fuel Log'!$C$5:$C$104,$A76,'Fuel Log'!$L$5:$L$104,"Recorded")+SUMIFS('Fuel Log'!$H$5:$H$104,'Fuel Log'!$A$5:$A$104,">="&$B$3,'Fuel Log'!$A$5:$A$104,"<="&$B$4,'Fuel Log'!$C$5:$C$104,$A76,'Fuel Log'!$L$5:$L$104,"Reviewed")) | H76: =IF(OR($F76="",$G76=""),"",IFERROR($G76-$F76,""))
A77: =IF(Assumptions!$A$71="","",Assumptions!$A$71) | B77: =IF($A77="","",IFERROR(VLOOKUP($A77,Assumptions!$A$8:$D$107,3,FALSE),"")) | C77: =IF(OR($A77="",$B$5="",$B77="",Assumptions!$B$5=""),"",IFERROR($B77*$B$5/Assumptions!$B$5,"")) | D77: =IF(OR($A77="",$B$3="",$B$4="",$B$4<$B$3),"",SUMIFS('Fuel Log'!$F$5:$F$104,'Fuel Log'!$A$5:$A$104,">="&$B$3,'Fuel Log'!$A$5:$A$104,"<="&$B$4,'Fuel Log'!$C$5:$C$104,$A77,'Fuel Log'!$L$5:$L$104,"Recorded")+SUMIFS('Fuel Log'!$F$5:$F$104,'Fuel Log'!$A$5:$A$104,">="&$B$3,'Fuel Log'!$A$5:$A$104,"<="&$B$4,'Fuel Log'!$C$5:$C$104,$A77,'Fuel Log'!$L$5:$L$104,"Reviewed")) | E77: =IF(OR($C77="",$D77=""),"",IFERROR($D77-$C77,"")) | F77: =IF(OR($A77="",$C77=""),"",IFERROR($C77*VLOOKUP($A77,Assumptions!$A$8:$D$107,4,FALSE),"")) | G77: =IF(OR($A77="",$B$3="",$B$4="",$B$4<$B$3),"",SUMIFS('Fuel Log'!$H$5:$H$104,'Fuel Log'!$A$5:$A$104,">="&$B$3,'Fuel Log'!$A$5:$A$104,"<="&$B$4,'Fuel Log'!$C$5:$C$104,$A77,'Fuel Log'!$L$5:$L$104,"Recorded")+SUMIFS('Fuel Log'!$H$5:$H$104,'Fuel Log'!$A$5:$A$104,">="&$B$3,'Fuel Log'!$A$5:$A$104,"<="&$B$4,'Fuel Log'!$C$5:$C$104,$A77,'Fuel Log'!$L$5:$L$104,"Reviewed")) | H77: =IF(OR($F77="",$G77=""),"",IFERROR($G77-$F77,""))
A78: =IF(Assumptions!$A$72="","",Assumptions!$A$72) | B78: =IF($A78="","",IFERROR(VLOOKUP($A78,Assumptions!$A$8:$D$107,3,FALSE),"")) | C78: =IF(OR($A78="",$B$5="",$B78="",Assumptions!$B$5=""),"",IFERROR($B78*$B$5/Assumptions!$B$5,"")) | D78: =IF(OR($A78="",$B$3="",$B$4="",$B$4<$B$3),"",SUMIFS('Fuel Log'!$F$5:$F$104,'Fuel Log'!$A$5:$A$104,">="&$B$3,'Fuel Log'!$A$5:$A$104,"<="&$B$4,'Fuel Log'!$C$5:$C$104,$A78,'Fuel Log'!$L$5:$L$104,"Recorded")+SUMIFS('Fuel Log'!$F$5:$F$104,'Fuel Log'!$A$5:$A$104,">="&$B$3,'Fuel Log'!$A$5:$A$104,"<="&$B$4,'Fuel Log'!$C$5:$C$104,$A78,'Fuel Log'!$L$5:$L$104,"Reviewed")) | E78: =IF(OR($C78="",$D78=""),"",IFERROR($D78-$C78,"")) | F78: =IF(OR($A78="",$C78=""),"",IFERROR($C78*VLOOKUP($A78,Assumptions!$A$8:$D$107,4,FALSE),"")) | G78: =IF(OR($A78="",$B$3="",$B$4="",$B$4<$B$3),"",SUMIFS('Fuel Log'!$H$5:$H$104,'Fuel Log'!$A$5:$A$104,">="&$B$3,'Fuel Log'!$A$5:$A$104,"<="&$B$4,'Fuel Log'!$C$5:$C$104,$A78,'Fuel Log'!$L$5:$L$104,"Recorded")+SUMIFS('Fuel Log'!$H$5:$H$104,'Fuel Log'!$A$5:$A$104,">="&$B$3,'Fuel Log'!$A$5:$A$104,"<="&$B$4,'Fuel Log'!$C$5:$C$104,$A78,'Fuel Log'!$L$5:$L$104,"Reviewed")) | H78: =IF(OR($F78="",$G78=""),"",IFERROR($G78-$F78,""))
A79: =IF(Assumptions!$A$73="","",Assumptions!$A$73) | B79: =IF($A79="","",IFERROR(VLOOKUP($A79,Assumptions!$A$8:$D$107,3,FALSE),"")) | C79: =IF(OR($A79="",$B$5="",$B79="",Assumptions!$B$5=""),"",IFERROR($B79*$B$5/Assumptions!$B$5,"")) | D79: =IF(OR($A79="",$B$3="",$B$4="",$B$4<$B$3),"",SUMIFS('Fuel Log'!$F$5:$F$104,'Fuel Log'!$A$5:$A$104,">="&$B$3,'Fuel Log'!$A$5:$A$104,"<="&$B$4,'Fuel Log'!$C$5:$C$104,$A79,'Fuel Log'!$L$5:$L$104,"Recorded")+SUMIFS('Fuel Log'!$F$5:$F$104,'Fuel Log'!$A$5:$A$104,">="&$B$3,'Fuel Log'!$A$5:$A$104,"<="&$B$4,'Fuel Log'!$C$5:$C$104,$A79,'Fuel Log'!$L$5:$L$104,"Reviewed")) | E79: =IF(OR($C79="",$D79=""),"",IFERROR($D79-$C79,"")) | F79: =IF(OR($A79="",$C79=""),"",IFERROR($C79*VLOOKUP($A79,Assumptions!$A$8:$D$107,4,FALSE),"")) | G79: =IF(OR($A79="",$B$3="",$B$4="",$B$4<$B$3),"",SUMIFS('Fuel Log'!$H$5:$H$104,'Fuel Log'!$A$5:$A$104,">="&$B$3,'Fuel Log'!$A$5:$A$104,"<="&$B$4,'Fuel Log'!$C$5:$C$104,$A79,'Fuel Log'!$L$5:$L$104,"Recorded")+SUMIFS('Fuel Log'!$H$5:$H$104,'Fuel Log'!$A$5:$A$104,">="&$B$3,'Fuel Log'!$A$5:$A$104,"<="&$B$4,'Fuel Log'!$C$5:$C$104,$A79,'Fuel Log'!$L$5:$L$104,"Reviewed")) | H79: =IF(OR($F79="",$G79=""),"",IFERROR($G79-$F79,""))
A80: =IF(Assumptions!$A$74="","",Assumptions!$A$74) | B80: =IF($A80="","",IFERROR(VLOOKUP($A80,Assumptions!$A$8:$D$107,3,FALSE),"")) | C80: =IF(OR($A80="",$B$5="",$B80="",Assumptions!$B$5=""),"",IFERROR($B80*$B$5/Assumptions!$B$5,"")) | D80: =IF(OR($A80="",$B$3="",$B$4="",$B$4<$B$3),"",SUMIFS('Fuel Log'!$F$5:$F$104,'Fuel Log'!$A$5:$A$104,">="&$B$3,'Fuel Log'!$A$5:$A$104,"<="&$B$4,'Fuel Log'!$C$5:$C$104,$A80,'Fuel Log'!$L$5:$L$104,"Recorded")+SUMIFS('Fuel Log'!$F$5:$F$104,'Fuel Log'!$A$5:$A$104,">="&$B$3,'Fuel Log'!$A$5:$A$104,"<="&$B$4,'Fuel Log'!$C$5:$C$104,$A80,'Fuel Log'!$L$5:$L$104,"Reviewed")) | E80: =IF(OR($C80="",$D80=""),"",IFERROR($D80-$C80,"")) | F80: =IF(OR($A80="",$C80=""),"",IFERROR($C80*VLOOKUP($A80,Assumptions!$A$8:$D$107,4,FALSE),"")) | G80: =IF(OR($A80="",$B$3="",$B$4="",$B$4<$B$3),"",SUMIFS('Fuel Log'!$H$5:$H$104,'Fuel Log'!$A$5:$A$104,">="&$B$3,'Fuel Log'!$A$5:$A$104,"<="&$B$4,'Fuel Log'!$C$5:$C$104,$A80,'Fuel Log'!$L$5:$L$104,"Recorded")+SUMIFS('Fuel Log'!$H$5:$H$104,'Fuel Log'!$A$5:$A$104,">="&$B$3,'Fuel Log'!$A$5:$A$104,"<="&$B$4,'Fuel Log'!$C$5:$C$104,$A80,'Fuel Log'!$L$5:$L$104,"Reviewed")) | H80: =IF(OR($F80="",$G80=""),"",IFERROR($G80-$F80,""))
A81: =IF(Assumptions!$A$75="","",Assumptions!$A$75) | B81: =IF($A81="","",IFERROR(VLOOKUP($A81,Assumptions!$A$8:$D$107,3,FALSE),"")) | C81: =IF(OR($A81="",$B$5="",$B81="",Assumptions!$B$5=""),"",IFERROR($B81*$B$5/Assumptions!$B$5,"")) | D81: =IF(OR($A81="",$B$3="",$B$4="",$B$4<$B$3),"",SUMIFS('Fuel Log'!$F$5:$F$104,'Fuel Log'!$A$5:$A$104,">="&$B$3,'Fuel Log'!$A$5:$A$104,"<="&$B$4,'Fuel Log'!$C$5:$C$104,$A81,'Fuel Log'!$L$5:$L$104,"Recorded")+SUMIFS('Fuel Log'!$F$5:$F$104,'Fuel Log'!$A$5:$A$104,">="&$B$3,'Fuel Log'!$A$5:$A$104,"<="&$B$4,'Fuel Log'!$C$5:$C$104,$A81,'Fuel Log'!$L$5:$L$104,"Reviewed")) | E81: =IF(OR($C81="",$D81=""),"",IFERROR($D81-$C81,"")) | F81: =IF(OR($A81="",$C81=""),"",IFERROR($C81*VLOOKUP($A81,Assumptions!$A$8:$D$107,4,FALSE),"")) | G81: =IF(OR($A81="",$B$3="",$B$4="",$B$4<$B$3),"",SUMIFS('Fuel Log'!$H$5:$H$104,'Fuel Log'!$A$5:$A$104,">="&$B$3,'Fuel Log'!$A$5:$A$104,"<="&$B$4,'Fuel Log'!$C$5:$C$104,$A81,'Fuel Log'!$L$5:$L$104,"Recorded")+SUMIFS('Fuel Log'!$H$5:$H$104,'Fuel Log'!$A$5:$A$104,">="&$B$3,'Fuel Log'!$A$5:$A$104,"<="&$B$4,'Fuel Log'!$C$5:$C$104,$A81,'Fuel Log'!$L$5:$L$104,"Reviewed")) | H81: =IF(OR($F81="",$G81=""),"",IFERROR($G81-$F81,""))
A82: =IF(Assumptions!$A$76="","",Assumptions!$A$76) | B82: =IF($A82="","",IFERROR(VLOOKUP($A82,Assumptions!$A$8:$D$107,3,FALSE),"")) | C82: =IF(OR($A82="",$B$5="",$B82="",Assumptions!$B$5=""),"",IFERROR($B82*$B$5/Assumptions!$B$5,"")) | D82: =IF(OR($A82="",$B$3="",$B$4="",$B$4<$B$3),"",SUMIFS('Fuel Log'!$F$5:$F$104,'Fuel Log'!$A$5:$A$104,">="&$B$3,'Fuel Log'!$A$5:$A$104,"<="&$B$4,'Fuel Log'!$C$5:$C$104,$A82,'Fuel Log'!$L$5:$L$104,"Recorded")+SUMIFS('Fuel Log'!$F$5:$F$104,'Fuel Log'!$A$5:$A$104,">="&$B$3,'Fuel Log'!$A$5:$A$104,"<="&$B$4,'Fuel Log'!$C$5:$C$104,$A82,'Fuel Log'!$L$5:$L$104,"Reviewed")) | E82: =IF(OR($C82="",$D82=""),"",IFERROR($D82-$C82,"")) | F82: =IF(OR($A82="",$C82=""),"",IFERROR($C82*VLOOKUP($A82,Assumptions!$A$8:$D$107,4,FALSE),"")) | G82: =IF(OR($A82="",$B$3="",$B$4="",$B$4<$B$3),"",SUMIFS('Fuel Log'!$H$5:$H$104,'Fuel Log'!$A$5:$A$104,">="&$B$3,'Fuel Log'!$A$5:$A$104,"<="&$B$4,'Fuel Log'!$C$5:$C$104,$A82,'Fuel Log'!$L$5:$L$104,"Recorded")+SUMIFS('Fuel Log'!$H$5:$H$104,'Fuel Log'!$A$5:$A$104,">="&$B$3,'Fuel Log'!$A$5:$A$104,"<="&$B$4,'Fuel Log'!$C$5:$C$104,$A82,'Fuel Log'!$L$5:$L$104,"Reviewed")) | H82: =IF(OR($F82="",$G82=""),"",IFERROR($G82-$F82,""))
A83: =IF(Assumptions!$A$77="","",Assumptions!$A$77) | B83: =IF($A83="","",IFERROR(VLOOKUP($A83,Assumptions!$A$8:$D$107,3,FALSE),"")) | C83: =IF(OR($A83="",$B$5="",$B83="",Assumptions!$B$5=""),"",IFERROR($B83*$B$5/Assumptions!$B$5,"")) | D83: =IF(OR($A83="",$B$3="",$B$4="",$B$4<$B$3),"",SUMIFS('Fuel Log'!$F$5:$F$104,'Fuel Log'!$A$5:$A$104,">="&$B$3,'Fuel Log'!$A$5:$A$104,"<="&$B$4,'Fuel Log'!$C$5:$C$104,$A83,'Fuel Log'!$L$5:$L$104,"Recorded")+SUMIFS('Fuel Log'!$F$5:$F$104,'Fuel Log'!$A$5:$A$104,">="&$B$3,'Fuel Log'!$A$5:$A$104,"<="&$B$4,'Fuel Log'!$C$5:$C$104,$A83,'Fuel Log'!$L$5:$L$104,"Reviewed")) | E83: =IF(OR($C83="",$D83=""),"",IFERROR($D83-$C83,"")) | F83: =IF(OR($A83="",$C83=""),"",IFERROR($C83*VLOOKUP($A83,Assumptions!$A$8:$D$107,4,FALSE),"")) | G83: =IF(OR($A83="",$B$3="",$B$4="",$B$4<$B$3),"",SUMIFS('Fuel Log'!$H$5:$H$104,'Fuel Log'!$A$5:$A$104,">="&$B$3,'Fuel Log'!$A$5:$A$104,"<="&$B$4,'Fuel Log'!$C$5:$C$104,$A83,'Fuel Log'!$L$5:$L$104,"Recorded")+SUMIFS('Fuel Log'!$H$5:$H$104,'Fuel Log'!$A$5:$A$104,">="&$B$3,'Fuel Log'!$A$5:$A$104,"<="&$B$4,'Fuel Log'!$C$5:$C$104,$A83,'Fuel Log'!$L$5:$L$104,"Reviewed")) | H83: =IF(OR($F83="",$G83=""),"",IFERROR($G83-$F83,""))
A84: =IF(Assumptions!$A$78="","",Assumptions!$A$78) | B84: =IF($A84="","",IFERROR(VLOOKUP($A84,Assumptions!$A$8:$D$107,3,FALSE),"")) | C84: =IF(OR($A84="",$B$5="",$B84="",Assumptions!$B$5=""),"",IFERROR($B84*$B$5/Assumptions!$B$5,"")) | D84: =IF(OR($A84="",$B$3="",$B$4="",$B$4<$B$3),"",SUMIFS('Fuel Log'!$F$5:$F$104,'Fuel Log'!$A$5:$A$104,">="&$B$3,'Fuel Log'!$A$5:$A$104,"<="&$B$4,'Fuel Log'!$C$5:$C$104,$A84,'Fuel Log'!$L$5:$L$104,"Recorded")+SUMIFS('Fuel Log'!$F$5:$F$104,'Fuel Log'!$A$5:$A$104,">="&$B$3,'Fuel Log'!$A$5:$A$104,"<="&$B$4,'Fuel Log'!$C$5:$C$104,$A84,'Fuel Log'!$L$5:$L$104,"Reviewed")) | E84: =IF(OR($C84="",$D84=""),"",IFERROR($D84-$C84,"")) | F84: =IF(OR($A84="",$C84=""),"",IFERROR($C84*VLOOKUP($A84,Assumptions!$A$8:$D$107,4,FALSE),"")) | G84: =IF(OR($A84="",$B$3="",$B$4="",$B$4<$B$3),"",SUMIFS('Fuel Log'!$H$5:$H$104,'Fuel Log'!$A$5:$A$104,">="&$B$3,'Fuel Log'!$A$5:$A$104,"<="&$B$4,'Fuel Log'!$C$5:$C$104,$A84,'Fuel Log'!$L$5:$L$104,"Recorded")+SUMIFS('Fuel Log'!$H$5:$H$104,'Fuel Log'!$A$5:$A$104,">="&$B$3,'Fuel Log'!$A$5:$A$104,"<="&$B$4,'Fuel Log'!$C$5:$C$104,$A84,'Fuel Log'!$L$5:$L$104,"Reviewed")) | H84: =IF(OR($F84="",$G84=""),"",IFERROR($G84-$F84,""))
A85: =IF(Assumptions!$A$79="","",Assumptions!$A$79) | B85: =IF($A85="","",IFERROR(VLOOKUP($A85,Assumptions!$A$8:$D$107,3,FALSE),"")) | C85: =IF(OR($A85="",$B$5="",$B85="",Assumptions!$B$5=""),"",IFERROR($B85*$B$5/Assumptions!$B$5,"")) | D85: =IF(OR($A85="",$B$3="",$B$4="",$B$4<$B$3),"",SUMIFS('Fuel Log'!$F$5:$F$104,'Fuel Log'!$A$5:$A$104,">="&$B$3,'Fuel Log'!$A$5:$A$104,"<="&$B$4,'Fuel Log'!$C$5:$C$104,$A85,'Fuel Log'!$L$5:$L$104,"Recorded")+SUMIFS('Fuel Log'!$F$5:$F$104,'Fuel Log'!$A$5:$A$104,">="&$B$3,'Fuel Log'!$A$5:$A$104,"<="&$B$4,'Fuel Log'!$C$5:$C$104,$A85,'Fuel Log'!$L$5:$L$104,"Reviewed")) | E85: =IF(OR($C85="",$D85=""),"",IFERROR($D85-$C85,"")) | F85: =IF(OR($A85="",$C85=""),"",IFERROR($C85*VLOOKUP($A85,Assumptions!$A$8:$D$107,4,FALSE),"")) | G85: =IF(OR($A85="",$B$3="",$B$4="",$B$4<$B$3),"",SUMIFS('Fuel Log'!$H$5:$H$104,'Fuel Log'!$A$5:$A$104,">="&$B$3,'Fuel Log'!$A$5:$A$104,"<="&$B$4,'Fuel Log'!$C$5:$C$104,$A85,'Fuel Log'!$L$5:$L$104,"Recorded")+SUMIFS('Fuel Log'!$H$5:$H$104,'Fuel Log'!$A$5:$A$104,">="&$B$3,'Fuel Log'!$A$5:$A$104,"<="&$B$4,'Fuel Log'!$C$5:$C$104,$A85,'Fuel Log'!$L$5:$L$104,"Reviewed")) | H85: =IF(OR($F85="",$G85=""),"",IFERROR($G85-$F85,""))
A86: =IF(Assumptions!$A$80="","",Assumptions!$A$80) | B86: =IF($A86="","",IFERROR(VLOOKUP($A86,Assumptions!$A$8:$D$107,3,FALSE),"")) | C86: =IF(OR($A86="",$B$5="",$B86="",Assumptions!$B$5=""),"",IFERROR($B86*$B$5/Assumptions!$B$5,"")) | D86: =IF(OR($A86="",$B$3="",$B$4="",$B$4<$B$3),"",SUMIFS('Fuel Log'!$F$5:$F$104,'Fuel Log'!$A$5:$A$104,">="&$B$3,'Fuel Log'!$A$5:$A$104,"<="&$B$4,'Fuel Log'!$C$5:$C$104,$A86,'Fuel Log'!$L$5:$L$104,"Recorded")+SUMIFS('Fuel Log'!$F$5:$F$104,'Fuel Log'!$A$5:$A$104,">="&$B$3,'Fuel Log'!$A$5:$A$104,"<="&$B$4,'Fuel Log'!$C$5:$C$104,$A86,'Fuel Log'!$L$5:$L$104,"Reviewed")) | E86: =IF(OR($C86="",$D86=""),"",IFERROR($D86-$C86,"")) | F86: =IF(OR($A86="",$C86=""),"",IFERROR($C86*VLOOKUP($A86,Assumptions!$A$8:$D$107,4,FALSE),"")) | G86: =IF(OR($A86="",$B$3="",$B$4="",$B$4<$B$3),"",SUMIFS('Fuel Log'!$H$5:$H$104,'Fuel Log'!$A$5:$A$104,">="&$B$3,'Fuel Log'!$A$5:$A$104,"<="&$B$4,'Fuel Log'!$C$5:$C$104,$A86,'Fuel Log'!$L$5:$L$104,"Recorded")+SUMIFS('Fuel Log'!$H$5:$H$104,'Fuel Log'!$A$5:$A$104,">="&$B$3,'Fuel Log'!$A$5:$A$104,"<="&$B$4,'Fuel Log'!$C$5:$C$104,$A86,'Fuel Log'!$L$5:$L$104,"Reviewed")) | H86: =IF(OR($F86="",$G86=""),"",IFERROR($G86-$F86,""))
A87: =IF(Assumptions!$A$81="","",Assumptions!$A$81) | B87: =IF($A87="","",IFERROR(VLOOKUP($A87,Assumptions!$A$8:$D$107,3,FALSE),"")) | C87: =IF(OR($A87="",$B$5="",$B87="",Assumptions!$B$5=""),"",IFERROR($B87*$B$5/Assumptions!$B$5,"")) | D87: =IF(OR($A87="",$B$3="",$B$4="",$B$4<$B$3),"",SUMIFS('Fuel Log'!$F$5:$F$104,'Fuel Log'!$A$5:$A$104,">="&$B$3,'Fuel Log'!$A$5:$A$104,"<="&$B$4,'Fuel Log'!$C$5:$C$104,$A87,'Fuel Log'!$L$5:$L$104,"Recorded")+SUMIFS('Fuel Log'!$F$5:$F$104,'Fuel Log'!$A$5:$A$104,">="&$B$3,'Fuel Log'!$A$5:$A$104,"<="&$B$4,'Fuel Log'!$C$5:$C$104,$A87,'Fuel Log'!$L$5:$L$104,"Reviewed")) | E87: =IF(OR($C87="",$D87=""),"",IFERROR($D87-$C87,"")) | F87: =IF(OR($A87="",$C87=""),"",IFERROR($C87*VLOOKUP($A87,Assumptions!$A$8:$D$107,4,FALSE),"")) | G87: =IF(OR($A87="",$B$3="",$B$4="",$B$4<$B$3),"",SUMIFS('Fuel Log'!$H$5:$H$104,'Fuel Log'!$A$5:$A$104,">="&$B$3,'Fuel Log'!$A$5:$A$104,"<="&$B$4,'Fuel Log'!$C$5:$C$104,$A87,'Fuel Log'!$L$5:$L$104,"Recorded")+SUMIFS('Fuel Log'!$H$5:$H$104,'Fuel Log'!$A$5:$A$104,">="&$B$3,'Fuel Log'!$A$5:$A$104,"<="&$B$4,'Fuel Log'!$C$5:$C$104,$A87,'Fuel Log'!$L$5:$L$104,"Reviewed")) | H87: =IF(OR($F87="",$G87=""),"",IFERROR($G87-$F87,""))
A88: =IF(Assumptions!$A$82="","",Assumptions!$A$82) | B88: =IF($A88="","",IFERROR(VLOOKUP($A88,Assumptions!$A$8:$D$107,3,FALSE),"")) | C88: =IF(OR($A88="",$B$5="",$B88="",Assumptions!$B$5=""),"",IFERROR($B88*$B$5/Assumptions!$B$5,"")) | D88: =IF(OR($A88="",$B$3="",$B$4="",$B$4<$B$3),"",SUMIFS('Fuel Log'!$F$5:$F$104,'Fuel Log'!$A$5:$A$104,">="&$B$3,'Fuel Log'!$A$5:$A$104,"<="&$B$4,'Fuel Log'!$C$5:$C$104,$A88,'Fuel Log'!$L$5:$L$104,"Recorded")+SUMIFS('Fuel Log'!$F$5:$F$104,'Fuel Log'!$A$5:$A$104,">="&$B$3,'Fuel Log'!$A$5:$A$104,"<="&$B$4,'Fuel Log'!$C$5:$C$104,$A88,'Fuel Log'!$L$5:$L$104,"Reviewed")) | E88: =IF(OR($C88="",$D88=""),"",IFERROR($D88-$C88,"")) | F88: =IF(OR($A88="",$C88=""),"",IFERROR($C88*VLOOKUP($A88,Assumptions!$A$8:$D$107,4,FALSE),"")) | G88: =IF(OR($A88="",$B$3="",$B$4="",$B$4<$B$3),"",SUMIFS('Fuel Log'!$H$5:$H$104,'Fuel Log'!$A$5:$A$104,">="&$B$3,'Fuel Log'!$A$5:$A$104,"<="&$B$4,'Fuel Log'!$C$5:$C$104,$A88,'Fuel Log'!$L$5:$L$104,"Recorded")+SUMIFS('Fuel Log'!$H$5:$H$104,'Fuel Log'!$A$5:$A$104,">="&$B$3,'Fuel Log'!$A$5:$A$104,"<="&$B$4,'Fuel Log'!$C$5:$C$104,$A88,'Fuel Log'!$L$5:$L$104,"Reviewed")) | H88: =IF(OR($F88="",$G88=""),"",IFERROR($G88-$F88,""))
A89: =IF(Assumptions!$A$83="","",Assumptions!$A$83) | B89: =IF($A89="","",IFERROR(VLOOKUP($A89,Assumptions!$A$8:$D$107,3,FALSE),"")) | C89: =IF(OR($A89="",$B$5="",$B89="",Assumptions!$B$5=""),"",IFERROR($B89*$B$5/Assumptions!$B$5,"")) | D89: =IF(OR($A89="",$B$3="",$B$4="",$B$4<$B$3),"",SUMIFS('Fuel Log'!$F$5:$F$104,'Fuel Log'!$A$5:$A$104,">="&$B$3,'Fuel Log'!$A$5:$A$104,"<="&$B$4,'Fuel Log'!$C$5:$C$104,$A89,'Fuel Log'!$L$5:$L$104,"Recorded")+SUMIFS('Fuel Log'!$F$5:$F$104,'Fuel Log'!$A$5:$A$104,">="&$B$3,'Fuel Log'!$A$5:$A$104,"<="&$B$4,'Fuel Log'!$C$5:$C$104,$A89,'Fuel Log'!$L$5:$L$104,"Reviewed")) | E89: =IF(OR($C89="",$D89=""),"",IFERROR($D89-$C89,"")) | F89: =IF(OR($A89="",$C89=""),"",IFERROR($C89*VLOOKUP($A89,Assumptions!$A$8:$D$107,4,FALSE),"")) | G89: =IF(OR($A89="",$B$3="",$B$4="",$B$4<$B$3),"",SUMIFS('Fuel Log'!$H$5:$H$104,'Fuel Log'!$A$5:$A$104,">="&$B$3,'Fuel Log'!$A$5:$A$104,"<="&$B$4,'Fuel Log'!$C$5:$C$104,$A89,'Fuel Log'!$L$5:$L$104,"Recorded")+SUMIFS('Fuel Log'!$H$5:$H$104,'Fuel Log'!$A$5:$A$104,">="&$B$3,'Fuel Log'!$A$5:$A$104,"<="&$B$4,'Fuel Log'!$C$5:$C$104,$A89,'Fuel Log'!$L$5:$L$104,"Reviewed")) | H89: =IF(OR($F89="",$G89=""),"",IFERROR($G89-$F89,""))
A90: =IF(Assumptions!$A$84="","",Assumptions!$A$84) | B90: =IF($A90="","",IFERROR(VLOOKUP($A90,Assumptions!$A$8:$D$107,3,FALSE),"")) | C90: =IF(OR($A90="",$B$5="",$B90="",Assumptions!$B$5=""),"",IFERROR($B90*$B$5/Assumptions!$B$5,"")) | D90: =IF(OR($A90="",$B$3="",$B$4="",$B$4<$B$3),"",SUMIFS('Fuel Log'!$F$5:$F$104,'Fuel Log'!$A$5:$A$104,">="&$B$3,'Fuel Log'!$A$5:$A$104,"<="&$B$4,'Fuel Log'!$C$5:$C$104,$A90,'Fuel Log'!$L$5:$L$104,"Recorded")+SUMIFS('Fuel Log'!$F$5:$F$104,'Fuel Log'!$A$5:$A$104,">="&$B$3,'Fuel Log'!$A$5:$A$104,"<="&$B$4,'Fuel Log'!$C$5:$C$104,$A90,'Fuel Log'!$L$5:$L$104,"Reviewed")) | E90: =IF(OR($C90="",$D90=""),"",IFERROR($D90-$C90,"")) | F90: =IF(OR($A90="",$C90=""),"",IFERROR($C90*VLOOKUP($A90,Assumptions!$A$8:$D$107,4,FALSE),"")) | G90: =IF(OR($A90="",$B$3="",$B$4="",$B$4<$B$3),"",SUMIFS('Fuel Log'!$H$5:$H$104,'Fuel Log'!$A$5:$A$104,">="&$B$3,'Fuel Log'!$A$5:$A$104,"<="&$B$4,'Fuel Log'!$C$5:$C$104,$A90,'Fuel Log'!$L$5:$L$104,"Recorded")+SUMIFS('Fuel Log'!$H$5:$H$104,'Fuel Log'!$A$5:$A$104,">="&$B$3,'Fuel Log'!$A$5:$A$104,"<="&$B$4,'Fuel Log'!$C$5:$C$104,$A90,'Fuel Log'!$L$5:$L$104,"Reviewed")) | H90: =IF(OR($F90="",$G90=""),"",IFERROR($G90-$F90,""))
A91: =IF(Assumptions!$A$85="","",Assumptions!$A$85) | B91: =IF($A91="","",IFERROR(VLOOKUP($A91,Assumptions!$A$8:$D$107,3,FALSE),"")) | C91: =IF(OR($A91="",$B$5="",$B91="",Assumptions!$B$5=""),"",IFERROR($B91*$B$5/Assumptions!$B$5,"")) | D91: =IF(OR($A91="",$B$3="",$B$4="",$B$4<$B$3),"",SUMIFS('Fuel Log'!$F$5:$F$104,'Fuel Log'!$A$5:$A$104,">="&$B$3,'Fuel Log'!$A$5:$A$104,"<="&$B$4,'Fuel Log'!$C$5:$C$104,$A91,'Fuel Log'!$L$5:$L$104,"Recorded")+SUMIFS('Fuel Log'!$F$5:$F$104,'Fuel Log'!$A$5:$A$104,">="&$B$3,'Fuel Log'!$A$5:$A$104,"<="&$B$4,'Fuel Log'!$C$5:$C$104,$A91,'Fuel Log'!$L$5:$L$104,"Reviewed")) | E91: =IF(OR($C91="",$D91=""),"",IFERROR($D91-$C91,"")) | F91: =IF(OR($A91="",$C91=""),"",IFERROR($C91*VLOOKUP($A91,Assumptions!$A$8:$D$107,4,FALSE),"")) | G91: =IF(OR($A91="",$B$3="",$B$4="",$B$4<$B$3),"",SUMIFS('Fuel Log'!$H$5:$H$104,'Fuel Log'!$A$5:$A$104,">="&$B$3,'Fuel Log'!$A$5:$A$104,"<="&$B$4,'Fuel Log'!$C$5:$C$104,$A91,'Fuel Log'!$L$5:$L$104,"Recorded")+SUMIFS('Fuel Log'!$H$5:$H$104,'Fuel Log'!$A$5:$A$104,">="&$B$3,'Fuel Log'!$A$5:$A$104,"<="&$B$4,'Fuel Log'!$C$5:$C$104,$A91,'Fuel Log'!$L$5:$L$104,"Reviewed")) | H91: =IF(OR($F91="",$G91=""),"",IFERROR($G91-$F91,""))
A92: =IF(Assumptions!$A$86="","",Assumptions!$A$86) | B92: =IF($A92="","",IFERROR(VLOOKUP($A92,Assumptions!$A$8:$D$107,3,FALSE),"")) | C92: =IF(OR($A92="",$B$5="",$B92="",Assumptions!$B$5=""),"",IFERROR($B92*$B$5/Assumptions!$B$5,"")) | D92: =IF(OR($A92="",$B$3="",$B$4="",$B$4<$B$3),"",SUMIFS('Fuel Log'!$F$5:$F$104,'Fuel Log'!$A$5:$A$104,">="&$B$3,'Fuel Log'!$A$5:$A$104,"<="&$B$4,'Fuel Log'!$C$5:$C$104,$A92,'Fuel Log'!$L$5:$L$104,"Recorded")+SUMIFS('Fuel Log'!$F$5:$F$104,'Fuel Log'!$A$5:$A$104,">="&$B$3,'Fuel Log'!$A$5:$A$104,"<="&$B$4,'Fuel Log'!$C$5:$C$104,$A92,'Fuel Log'!$L$5:$L$104,"Reviewed")) | E92: =IF(OR($C92="",$D92=""),"",IFERROR($D92-$C92,"")) | F92: =IF(OR($A92="",$C92=""),"",IFERROR($C92*VLOOKUP($A92,Assumptions!$A$8:$D$107,4,FALSE),"")) | G92: =IF(OR($A92="",$B$3="",$B$4="",$B$4<$B$3),"",SUMIFS('Fuel Log'!$H$5:$H$104,'Fuel Log'!$A$5:$A$104,">="&$B$3,'Fuel Log'!$A$5:$A$104,"<="&$B$4,'Fuel Log'!$C$5:$C$104,$A92,'Fuel Log'!$L$5:$L$104,"Recorded")+SUMIFS('Fuel Log'!$H$5:$H$104,'Fuel Log'!$A$5:$A$104,">="&$B$3,'Fuel Log'!$A$5:$A$104,"<="&$B$4,'Fuel Log'!$C$5:$C$104,$A92,'Fuel Log'!$L$5:$L$104,"Reviewed")) | H92: =IF(OR($F92="",$G92=""),"",IFERROR($G92-$F92,""))
A93: =IF(Assumptions!$A$87="","",Assumptions!$A$87) | B93: =IF($A93="","",IFERROR(VLOOKUP($A93,Assumptions!$A$8:$D$107,3,FALSE),"")) | C93: =IF(OR($A93="",$B$5="",$B93="",Assumptions!$B$5=""),"",IFERROR($B93*$B$5/Assumptions!$B$5,"")) | D93: =IF(OR($A93="",$B$3="",$B$4="",$B$4<$B$3),"",SUMIFS('Fuel Log'!$F$5:$F$104,'Fuel Log'!$A$5:$A$104,">="&$B$3,'Fuel Log'!$A$5:$A$104,"<="&$B$4,'Fuel Log'!$C$5:$C$104,$A93,'Fuel Log'!$L$5:$L$104,"Recorded")+SUMIFS('Fuel Log'!$F$5:$F$104,'Fuel Log'!$A$5:$A$104,">="&$B$3,'Fuel Log'!$A$5:$A$104,"<="&$B$4,'Fuel Log'!$C$5:$C$104,$A93,'Fuel Log'!$L$5:$L$104,"Reviewed")) | E93: =IF(OR($C93="",$D93=""),"",IFERROR($D93-$C93,"")) | F93: =IF(OR($A93="",$C93=""),"",IFERROR($C93*VLOOKUP($A93,Assumptions!$A$8:$D$107,4,FALSE),"")) | G93: =IF(OR($A93="",$B$3="",$B$4="",$B$4<$B$3),"",SUMIFS('Fuel Log'!$H$5:$H$104,'Fuel Log'!$A$5:$A$104,">="&$B$3,'Fuel Log'!$A$5:$A$104,"<="&$B$4,'Fuel Log'!$C$5:$C$104,$A93,'Fuel Log'!$L$5:$L$104,"Recorded")+SUMIFS('Fuel Log'!$H$5:$H$104,'Fuel Log'!$A$5:$A$104,">="&$B$3,'Fuel Log'!$A$5:$A$104,"<="&$B$4,'Fuel Log'!$C$5:$C$104,$A93,'Fuel Log'!$L$5:$L$104,"Reviewed")) | H93: =IF(OR($F93="",$G93=""),"",IFERROR($G93-$F93,""))
A94: =IF(Assumptions!$A$88="","",Assumptions!$A$88) | B94: =IF($A94="","",IFERROR(VLOOKUP($A94,Assumptions!$A$8:$D$107,3,FALSE),"")) | C94: =IF(OR($A94="",$B$5="",$B94="",Assumptions!$B$5=""),"",IFERROR($B94*$B$5/Assumptions!$B$5,"")) | D94: =IF(OR($A94="",$B$3="",$B$4="",$B$4<$B$3),"",SUMIFS('Fuel Log'!$F$5:$F$104,'Fuel Log'!$A$5:$A$104,">="&$B$3,'Fuel Log'!$A$5:$A$104,"<="&$B$4,'Fuel Log'!$C$5:$C$104,$A94,'Fuel Log'!$L$5:$L$104,"Recorded")+SUMIFS('Fuel Log'!$F$5:$F$104,'Fuel Log'!$A$5:$A$104,">="&$B$3,'Fuel Log'!$A$5:$A$104,"<="&$B$4,'Fuel Log'!$C$5:$C$104,$A94,'Fuel Log'!$L$5:$L$104,"Reviewed")) | E94: =IF(OR($C94="",$D94=""),"",IFERROR($D94-$C94,"")) | F94: =IF(OR($A94="",$C94=""),"",IFERROR($C94*VLOOKUP($A94,Assumptions!$A$8:$D$107,4,FALSE),"")) | G94: =IF(OR($A94="",$B$3="",$B$4="",$B$4<$B$3),"",SUMIFS('Fuel Log'!$H$5:$H$104,'Fuel Log'!$A$5:$A$104,">="&$B$3,'Fuel Log'!$A$5:$A$104,"<="&$B$4,'Fuel Log'!$C$5:$C$104,$A94,'Fuel Log'!$L$5:$L$104,"Recorded")+SUMIFS('Fuel Log'!$H$5:$H$104,'Fuel Log'!$A$5:$A$104,">="&$B$3,'Fuel Log'!$A$5:$A$104,"<="&$B$4,'Fuel Log'!$C$5:$C$104,$A94,'Fuel Log'!$L$5:$L$104,"Reviewed")) | H94: =IF(OR($F94="",$G94=""),"",IFERROR($G94-$F94,""))
A95: =IF(Assumptions!$A$89="","",Assumptions!$A$89) | B95: =IF($A95="","",IFERROR(VLOOKUP($A95,Assumptions!$A$8:$D$107,3,FALSE),"")) | C95: =IF(OR($A95="",$B$5="",$B95="",Assumptions!$B$5=""),"",IFERROR($B95*$B$5/Assumptions!$B$5,"")) | D95: =IF(OR($A95="",$B$3="",$B$4="",$B$4<$B$3),"",SUMIFS('Fuel Log'!$F$5:$F$104,'Fuel Log'!$A$5:$A$104,">="&$B$3,'Fuel Log'!$A$5:$A$104,"<="&$B$4,'Fuel Log'!$C$5:$C$104,$A95,'Fuel Log'!$L$5:$L$104,"Recorded")+SUMIFS('Fuel Log'!$F$5:$F$104,'Fuel Log'!$A$5:$A$104,">="&$B$3,'Fuel Log'!$A$5:$A$104,"<="&$B$4,'Fuel Log'!$C$5:$C$104,$A95,'Fuel Log'!$L$5:$L$104,"Reviewed")) | E95: =IF(OR($C95="",$D95=""),"",IFERROR($D95-$C95,"")) | F95: =IF(OR($A95="",$C95=""),"",IFERROR($C95*VLOOKUP($A95,Assumptions!$A$8:$D$107,4,FALSE),"")) | G95: =IF(OR($A95="",$B$3="",$B$4="",$B$4<$B$3),"",SUMIFS('Fuel Log'!$H$5:$H$104,'Fuel Log'!$A$5:$A$104,">="&$B$3,'Fuel Log'!$A$5:$A$104,"<="&$B$4,'Fuel Log'!$C$5:$C$104,$A95,'Fuel Log'!$L$5:$L$104,"Recorded")+SUMIFS('Fuel Log'!$H$5:$H$104,'Fuel Log'!$A$5:$A$104,">="&$B$3,'Fuel Log'!$A$5:$A$104,"<="&$B$4,'Fuel Log'!$C$5:$C$104,$A95,'Fuel Log'!$L$5:$L$104,"Reviewed")) | H95: =IF(OR($F95="",$G95=""),"",IFERROR($G95-$F95,""))
A96: =IF(Assumptions!$A$90="","",Assumptions!$A$90) | B96: =IF($A96="","",IFERROR(VLOOKUP($A96,Assumptions!$A$8:$D$107,3,FALSE),"")) | C96: =IF(OR($A96="",$B$5="",$B96="",Assumptions!$B$5=""),"",IFERROR($B96*$B$5/Assumptions!$B$5,"")) | D96: =IF(OR($A96="",$B$3="",$B$4="",$B$4<$B$3),"",SUMIFS('Fuel Log'!$F$5:$F$104,'Fuel Log'!$A$5:$A$104,">="&$B$3,'Fuel Log'!$A$5:$A$104,"<="&$B$4,'Fuel Log'!$C$5:$C$104,$A96,'Fuel Log'!$L$5:$L$104,"Recorded")+SUMIFS('Fuel Log'!$F$5:$F$104,'Fuel Log'!$A$5:$A$104,">="&$B$3,'Fuel Log'!$A$5:$A$104,"<="&$B$4,'Fuel Log'!$C$5:$C$104,$A96,'Fuel Log'!$L$5:$L$104,"Reviewed")) | E96: =IF(OR($C96="",$D96=""),"",IFERROR($D96-$C96,"")) | F96: =IF(OR($A96="",$C96=""),"",IFERROR($C96*VLOOKUP($A96,Assumptions!$A$8:$D$107,4,FALSE),"")) | G96: =IF(OR($A96="",$B$3="",$B$4="",$B$4<$B$3),"",SUMIFS('Fuel Log'!$H$5:$H$104,'Fuel Log'!$A$5:$A$104,">="&$B$3,'Fuel Log'!$A$5:$A$104,"<="&$B$4,'Fuel Log'!$C$5:$C$104,$A96,'Fuel Log'!$L$5:$L$104,"Recorded")+SUMIFS('Fuel Log'!$H$5:$H$104,'Fuel Log'!$A$5:$A$104,">="&$B$3,'Fuel Log'!$A$5:$A$104,"<="&$B$4,'Fuel Log'!$C$5:$C$104,$A96,'Fuel Log'!$L$5:$L$104,"Reviewed")) | H96: =IF(OR($F96="",$G96=""),"",IFERROR($G96-$F96,""))
A97: =IF(Assumptions!$A$91="","",Assumptions!$A$91) | B97: =IF($A97="","",IFERROR(VLOOKUP($A97,Assumptions!$A$8:$D$107,3,FALSE),"")) | C97: =IF(OR($A97="",$B$5="",$B97="",Assumptions!$B$5=""),"",IFERROR($B97*$B$5/Assumptions!$B$5,"")) | D97: =IF(OR($A97="",$B$3="",$B$4="",$B$4<$B$3),"",SUMIFS('Fuel Log'!$F$5:$F$104,'Fuel Log'!$A$5:$A$104,">="&$B$3,'Fuel Log'!$A$5:$A$104,"<="&$B$4,'Fuel Log'!$C$5:$C$104,$A97,'Fuel Log'!$L$5:$L$104,"Recorded")+SUMIFS('Fuel Log'!$F$5:$F$104,'Fuel Log'!$A$5:$A$104,">="&$B$3,'Fuel Log'!$A$5:$A$104,"<="&$B$4,'Fuel Log'!$C$5:$C$104,$A97,'Fuel Log'!$L$5:$L$104,"Reviewed")) | E97: =IF(OR($C97="",$D97=""),"",IFERROR($D97-$C97,"")) | F97: =IF(OR($A97="",$C97=""),"",IFERROR($C97*VLOOKUP($A97,Assumptions!$A$8:$D$107,4,FALSE),"")) | G97: =IF(OR($A97="",$B$3="",$B$4="",$B$4<$B$3),"",SUMIFS('Fuel Log'!$H$5:$H$104,'Fuel Log'!$A$5:$A$104,">="&$B$3,'Fuel Log'!$A$5:$A$104,"<="&$B$4,'Fuel Log'!$C$5:$C$104,$A97,'Fuel Log'!$L$5:$L$104,"Recorded")+SUMIFS('Fuel Log'!$H$5:$H$104,'Fuel Log'!$A$5:$A$104,">="&$B$3,'Fuel Log'!$A$5:$A$104,"<="&$B$4,'Fuel Log'!$C$5:$C$104,$A97,'Fuel Log'!$L$5:$L$104,"Reviewed")) | H97: =IF(OR($F97="",$G97=""),"",IFERROR($G97-$F97,""))
A98: =IF(Assumptions!$A$92="","",Assumptions!$A$92) | B98: =IF($A98="","",IFERROR(VLOOKUP($A98,Assumptions!$A$8:$D$107,3,FALSE),"")) | C98: =IF(OR($A98="",$B$5="",$B98="",Assumptions!$B$5=""),"",IFERROR($B98*$B$5/Assumptions!$B$5,"")) | D98: =IF(OR($A98="",$B$3="",$B$4="",$B$4<$B$3),"",SUMIFS('Fuel Log'!$F$5:$F$104,'Fuel Log'!$A$5:$A$104,">="&$B$3,'Fuel Log'!$A$5:$A$104,"<="&$B$4,'Fuel Log'!$C$5:$C$104,$A98,'Fuel Log'!$L$5:$L$104,"Recorded")+SUMIFS('Fuel Log'!$F$5:$F$104,'Fuel Log'!$A$5:$A$104,">="&$B$3,'Fuel Log'!$A$5:$A$104,"<="&$B$4,'Fuel Log'!$C$5:$C$104,$A98,'Fuel Log'!$L$5:$L$104,"Reviewed")) | E98: =IF(OR($C98="",$D98=""),"",IFERROR($D98-$C98,"")) | F98: =IF(OR($A98="",$C98=""),"",IFERROR($C98*VLOOKUP($A98,Assumptions!$A$8:$D$107,4,FALSE),"")) | G98: =IF(OR($A98="",$B$3="",$B$4="",$B$4<$B$3),"",SUMIFS('Fuel Log'!$H$5:$H$104,'Fuel Log'!$A$5:$A$104,">="&$B$3,'Fuel Log'!$A$5:$A$104,"<="&$B$4,'Fuel Log'!$C$5:$C$104,$A98,'Fuel Log'!$L$5:$L$104,"Recorded")+SUMIFS('Fuel Log'!$H$5:$H$104,'Fuel Log'!$A$5:$A$104,">="&$B$3,'Fuel Log'!$A$5:$A$104,"<="&$B$4,'Fuel Log'!$C$5:$C$104,$A98,'Fuel Log'!$L$5:$L$104,"Reviewed")) | H98: =IF(OR($F98="",$G98=""),"",IFERROR($G98-$F98,""))
A99: =IF(Assumptions!$A$93="","",Assumptions!$A$93) | B99: =IF($A99="","",IFERROR(VLOOKUP($A99,Assumptions!$A$8:$D$107,3,FALSE),"")) | C99: =IF(OR($A99="",$B$5="",$B99="",Assumptions!$B$5=""),"",IFERROR($B99*$B$5/Assumptions!$B$5,"")) | D99: =IF(OR($A99="",$B$3="",$B$4="",$B$4<$B$3),"",SUMIFS('Fuel Log'!$F$5:$F$104,'Fuel Log'!$A$5:$A$104,">="&$B$3,'Fuel Log'!$A$5:$A$104,"<="&$B$4,'Fuel Log'!$C$5:$C$104,$A99,'Fuel Log'!$L$5:$L$104,"Recorded")+SUMIFS('Fuel Log'!$F$5:$F$104,'Fuel Log'!$A$5:$A$104,">="&$B$3,'Fuel Log'!$A$5:$A$104,"<="&$B$4,'Fuel Log'!$C$5:$C$104,$A99,'Fuel Log'!$L$5:$L$104,"Reviewed")) | E99: =IF(OR($C99="",$D99=""),"",IFERROR($D99-$C99,"")) | F99: =IF(OR($A99="",$C99=""),"",IFERROR($C99*VLOOKUP($A99,Assumptions!$A$8:$D$107,4,FALSE),"")) | G99: =IF(OR($A99="",$B$3="",$B$4="",$B$4<$B$3),"",SUMIFS('Fuel Log'!$H$5:$H$104,'Fuel Log'!$A$5:$A$104,">="&$B$3,'Fuel Log'!$A$5:$A$104,"<="&$B$4,'Fuel Log'!$C$5:$C$104,$A99,'Fuel Log'!$L$5:$L$104,"Recorded")+SUMIFS('Fuel Log'!$H$5:$H$104,'Fuel Log'!$A$5:$A$104,">="&$B$3,'Fuel Log'!$A$5:$A$104,"<="&$B$4,'Fuel Log'!$C$5:$C$104,$A99,'Fuel Log'!$L$5:$L$104,"Reviewed")) | H99: =IF(OR($F99="",$G99=""),"",IFERROR($G99-$F99,""))
A100: =IF(Assumptions!$A$94="","",Assumptions!$A$94) | B100: =IF($A100="","",IFERROR(VLOOKUP($A100,Assumptions!$A$8:$D$107,3,FALSE),"")) | C100: =IF(OR($A100="",$B$5="",$B100="",Assumptions!$B$5=""),"",IFERROR($B100*$B$5/Assumptions!$B$5,"")) | D100: =IF(OR($A100="",$B$3="",$B$4="",$B$4<$B$3),"",SUMIFS('Fuel Log'!$F$5:$F$104,'Fuel Log'!$A$5:$A$104,">="&$B$3,'Fuel Log'!$A$5:$A$104,"<="&$B$4,'Fuel Log'!$C$5:$C$104,$A100,'Fuel Log'!$L$5:$L$104,"Recorded")+SUMIFS('Fuel Log'!$F$5:$F$104,'Fuel Log'!$A$5:$A$104,">="&$B$3,'Fuel Log'!$A$5:$A$104,"<="&$B$4,'Fuel Log'!$C$5:$C$104,$A100,'Fuel Log'!$L$5:$L$104,"Reviewed")) | E100: =IF(OR($C100="",$D100=""),"",IFERROR($D100-$C100,"")) | F100: =IF(OR($A100="",$C100=""),"",IFERROR($C100*VLOOKUP($A100,Assumptions!$A$8:$D$107,4,FALSE),"")) | G100: =IF(OR($A100="",$B$3="",$B$4="",$B$4<$B$3),"",SUMIFS('Fuel Log'!$H$5:$H$104,'Fuel Log'!$A$5:$A$104,">="&$B$3,'Fuel Log'!$A$5:$A$104,"<="&$B$4,'Fuel Log'!$C$5:$C$104,$A100,'Fuel Log'!$L$5:$L$104,"Recorded")+SUMIFS('Fuel Log'!$H$5:$H$104,'Fuel Log'!$A$5:$A$104,">="&$B$3,'Fuel Log'!$A$5:$A$104,"<="&$B$4,'Fuel Log'!$C$5:$C$104,$A100,'Fuel Log'!$L$5:$L$104,"Reviewed")) | H100: =IF(OR($F100="",$G100=""),"",IFERROR($G100-$F100,""))
A101: =IF(Assumptions!$A$95="","",Assumptions!$A$95) | B101: =IF($A101="","",IFERROR(VLOOKUP($A101,Assumptions!$A$8:$D$107,3,FALSE),"")) | C101: =IF(OR($A101="",$B$5="",$B101="",Assumptions!$B$5=""),"",IFERROR($B101*$B$5/Assumptions!$B$5,"")) | D101: =IF(OR($A101="",$B$3="",$B$4="",$B$4<$B$3),"",SUMIFS('Fuel Log'!$F$5:$F$104,'Fuel Log'!$A$5:$A$104,">="&$B$3,'Fuel Log'!$A$5:$A$104,"<="&$B$4,'Fuel Log'!$C$5:$C$104,$A101,'Fuel Log'!$L$5:$L$104,"Recorded")+SUMIFS('Fuel Log'!$F$5:$F$104,'Fuel Log'!$A$5:$A$104,">="&$B$3,'Fuel Log'!$A$5:$A$104,"<="&$B$4,'Fuel Log'!$C$5:$C$104,$A101,'Fuel Log'!$L$5:$L$104,"Reviewed")) | E101: =IF(OR($C101="",$D101=""),"",IFERROR($D101-$C101,"")) | F101: =IF(OR($A101="",$C101=""),"",IFERROR($C101*VLOOKUP($A101,Assumptions!$A$8:$D$107,4,FALSE),"")) | G101: =IF(OR($A101="",$B$3="",$B$4="",$B$4<$B$3),"",SUMIFS('Fuel Log'!$H$5:$H$104,'Fuel Log'!$A$5:$A$104,">="&$B$3,'Fuel Log'!$A$5:$A$104,"<="&$B$4,'Fuel Log'!$C$5:$C$104,$A101,'Fuel Log'!$L$5:$L$104,"Recorded")+SUMIFS('Fuel Log'!$H$5:$H$104,'Fuel Log'!$A$5:$A$104,">="&$B$3,'Fuel Log'!$A$5:$A$104,"<="&$B$4,'Fuel Log'!$C$5:$C$104,$A101,'Fuel Log'!$L$5:$L$104,"Reviewed")) | H101: =IF(OR($F101="",$G101=""),"",IFERROR($G101-$F101,""))
A102: =IF(Assumptions!$A$96="","",Assumptions!$A$96) | B102: =IF($A102="","",IFERROR(VLOOKUP($A102,Assumptions!$A$8:$D$107,3,FALSE),"")) | C102: =IF(OR($A102="",$B$5="",$B102="",Assumptions!$B$5=""),"",IFERROR($B102*$B$5/Assumptions!$B$5,"")) | D102: =IF(OR($A102="",$B$3="",$B$4="",$B$4<$B$3),"",SUMIFS('Fuel Log'!$F$5:$F$104,'Fuel Log'!$A$5:$A$104,">="&$B$3,'Fuel Log'!$A$5:$A$104,"<="&$B$4,'Fuel Log'!$C$5:$C$104,$A102,'Fuel Log'!$L$5:$L$104,"Recorded")+SUMIFS('Fuel Log'!$F$5:$F$104,'Fuel Log'!$A$5:$A$104,">="&$B$3,'Fuel Log'!$A$5:$A$104,"<="&$B$4,'Fuel Log'!$C$5:$C$104,$A102,'Fuel Log'!$L$5:$L$104,"Reviewed")) | E102: =IF(OR($C102="",$D102=""),"",IFERROR($D102-$C102,"")) | F102: =IF(OR($A102="",$C102=""),"",IFERROR($C102*VLOOKUP($A102,Assumptions!$A$8:$D$107,4,FALSE),"")) | G102: =IF(OR($A102="",$B$3="",$B$4="",$B$4<$B$3),"",SUMIFS('Fuel Log'!$H$5:$H$104,'Fuel Log'!$A$5:$A$104,">="&$B$3,'Fuel Log'!$A$5:$A$104,"<="&$B$4,'Fuel Log'!$C$5:$C$104,$A102,'Fuel Log'!$L$5:$L$104,"Recorded")+SUMIFS('Fuel Log'!$H$5:$H$104,'Fuel Log'!$A$5:$A$104,">="&$B$3,'Fuel Log'!$A$5:$A$104,"<="&$B$4,'Fuel Log'!$C$5:$C$104,$A102,'Fuel Log'!$L$5:$L$104,"Reviewed")) | H102: =IF(OR($F102="",$G102=""),"",IFERROR($G102-$F102,""))
A103: =IF(Assumptions!$A$97="","",Assumptions!$A$97) | B103: =IF($A103="","",IFERROR(VLOOKUP($A103,Assumptions!$A$8:$D$107,3,FALSE),"")) | C103: =IF(OR($A103="",$B$5="",$B103="",Assumptions!$B$5=""),"",IFERROR($B103*$B$5/Assumptions!$B$5,"")) | D103: =IF(OR($A103="",$B$3="",$B$4="",$B$4<$B$3),"",SUMIFS('Fuel Log'!$F$5:$F$104,'Fuel Log'!$A$5:$A$104,">="&$B$3,'Fuel Log'!$A$5:$A$104,"<="&$B$4,'Fuel Log'!$C$5:$C$104,$A103,'Fuel Log'!$L$5:$L$104,"Recorded")+SUMIFS('Fuel Log'!$F$5:$F$104,'Fuel Log'!$A$5:$A$104,">="&$B$3,'Fuel Log'!$A$5:$A$104,"<="&$B$4,'Fuel Log'!$C$5:$C$104,$A103,'Fuel Log'!$L$5:$L$104,"Reviewed")) | E103: =IF(OR($C103="",$D103=""),"",IFERROR($D103-$C103,"")) | F103: =IF(OR($A103="",$C103=""),"",IFERROR($C103*VLOOKUP($A103,Assumptions!$A$8:$D$107,4,FALSE),"")) | G103: =IF(OR($A103="",$B$3="",$B$4="",$B$4<$B$3),"",SUMIFS('Fuel Log'!$H$5:$H$104,'Fuel Log'!$A$5:$A$104,">="&$B$3,'Fuel Log'!$A$5:$A$104,"<="&$B$4,'Fuel Log'!$C$5:$C$104,$A103,'Fuel Log'!$L$5:$L$104,"Recorded")+SUMIFS('Fuel Log'!$H$5:$H$104,'Fuel Log'!$A$5:$A$104,">="&$B$3,'Fuel Log'!$A$5:$A$104,"<="&$B$4,'Fuel Log'!$C$5:$C$104,$A103,'Fuel Log'!$L$5:$L$104,"Reviewed")) | H103: =IF(OR($F103="",$G103=""),"",IFERROR($G103-$F103,""))
...

Sheet Fuel Log
A1: Fictional Copper Acorn Landscaping — Fuel Log
A2: Yellow cells are editable. Recorded and Reviewed entries are included in Summary actuals; alerts prompt a manual check.
A4: Date | B4: Equipment ID | C4: Equipment Class | D4: Property or Job | E4: Fuel Type | F4: Gallons | G4: Price per Gallon | H4: Actual Cost | I4: Budget Price per Gallon | J4: Rate-Based Cost | K4: Rate Variance | L4: Entry Status | M4: Notes
A5: 46266 | B5: FIC-PU-01 | C5: Pickup Truck | D5: Fictional Cedar Kite Commons | E5: =IF($C5="","",IFERROR(VLOOKUP($C5,Assumptions!$A$8:$D$107,2,FALSE),"")) | F5: 18.4 | G5: 3.59 | H5: =IF(OR($F5="",$G5=""),"",IFERROR($F5*$G5,"")) | I5: =IF($C5="","",IFERROR(VLOOKUP($C5,Assumptions!$A$8:$D$107,4,FALSE),"")) | J5: =IF(OR($F5="",$I5=""),"",IFERROR($F5*$I5,"")) | K5: =IF(OR($H5="",$J5=""),"",IFERROR($H5-$J5,"")) | L5: Reviewed | M5: Manual receipt entry.
A6: 46267 | B6: FIC-ZM-01 | C6: Zero-Turn Mower | D6: Fictional Blue Pebble Residence | E6: =IF($C6="","",IFERROR(VLOOKUP($C6,Assumptions!$A$8:$D$107,2,FALSE),"")) | F6: 8.2 | G6: 3.49 | H6: =IF(OR($F6="",$G6=""),"",IFERROR($F6*$G6,"")) | I6: =IF($C6="","",IFERROR(VLOOKUP($C6,Assumptions!$A$8:$D$107,4,FALSE),"")) | J6: =IF(OR($F6="",$I6=""),"",IFERROR($F6*$I6,"")) | K6: =IF(OR($H6="",$J6=""),"",IFERROR($H6-$J6,"")) | L6: Reviewed
A7: 46268 | B7: FIC-SS-01 | C7: Skid Steer | D7: Fictional Willow Button Offices | E7: =IF($C7="","",IFERROR(VLOOKUP($C7,Assumptions!$A$8:$D$107,2,FALSE),"")) | F7: 14.7 | G7: 3.89 | H7: =IF(OR($F7="",$G7=""),"",IFERROR($F7*$G7,"")) | I7: =IF($C7="","",IFERROR(VLOOKUP($C7,Assumptions!$A$8:$D$107,4,FALSE),"")) | J7: =IF(OR($F7="",$I7=""),"",IFERROR($F7*$I7,"")) | K7: =IF(OR($H7="",$J7=""),"",IFERROR($H7-$J7,"")) | L7: Recorded | M7: Review fuel slip.
A8: 46269 | B8: FIC-LB-01 | C8: Leaf Blower | D8: Fictional Juniper Paper Plaza | E8: =IF($C8="","",IFERROR(VLOOKUP($C8,Assumptions!$A$8:$D$107,2,FALSE),"")) | F8: 2.1 | G8: 3.55 | H8: =IF(OR($F8="",$G8=""),"",IFERROR($F8*$G8,"")) | I8: =IF($C8="","",IFERROR(VLOOKUP($C8,Assumptions!$A$8:$D$107,4,FALSE),"")) | J8: =IF(OR($F8="",$I8=""),"",IFERROR($F8*$I8,"")) | K8: =IF(OR($H8="",$J8=""),"",IFERROR($H8-$J8,"")) | L8: Reviewed
A9: 46270 | B9: FIC-CT-01 | C9: Compact Tractor | D9: Fictional Meadow Lantern Park | E9: =IF($C9="","",IFERROR(VLOOKUP($C9,Assumptions!$A$8:$D$107,2,FALSE),"")) | F9: 11.3 | G9: 3.92 | H9: =IF(OR($F9="",$G9=""),"",IFERROR($F9*$G9,"")) | I9: =IF($C9="","",IFERROR(VLOOKUP($C9,Assumptions!$A$8:$D$107,4,FALSE),"")) | J9: =IF(OR($F9="",$I9=""),"",IFERROR($F9*$I9,"")) | K9: =IF(OR($H9="",$J9=""),"",IFERROR($H9-$J9,"")) | L9: Recorded | M9: Review fuel slip.
A10: 46271 | B10: FIC-ST-01 | C10: String Trimmer | D10: Fictional Copper Finch Courtyard | E10: =IF($C10="","",IFERROR(VLOOKUP($C10,Assumptions!$A$8:$D$107,2,FALSE),"")) | F10: 1.8 | G10: 3.61 | H10: =IF(OR($F10="",$G10=""),"",IFERROR($F10*$G10,"")) | I10: =IF($C10="","",IFERROR(VLOOKUP($C10,Assumptions!$A$8:$D$107,4,FALSE),"")) | J10: =IF(OR($F10="",$I10=""),"",IFERROR($F10*$I10,"")) | K10: =IF(OR($H10="",$J10=""),"",IFERROR($H10-$J10,"")) | L10: Reviewed
A11: 46272 | B11: FIC-WM-01 | C11: Walk-Behind Mower | D11: Fictional Silver Acorn Homes | E11: =IF($C11="","",IFERROR(VLOOKUP($C11,Assumptions!$A$8:$D$107,2,FALSE),"")) | F11: 3.6 | G11: 3.57 | H11: =IF(OR($F11="",$G11=""),"",IFERROR($F11*$G11,"")) | I11: =IF($C11="","",IFERROR(VLOOKUP($C11,Assumptions!$A$8:$D$107,4,FALSE),"")) | J11: =IF(OR($F11="",$I11=""),"",IFERROR($F11*$I11,"")) | K11: =IF(OR($H11="",$J11=""),"",IFERROR($H11-$J11,"")) | L11: Recorded | M11: Review fuel slip.
A12: 46273 | B12: FIC-UV-01 | C12: Utility Vehicle | D12: Fictional Red Kite Garden | E12: =IF($C12="","",IFERROR(VLOOKUP($C12,Assumptions!$A$8:$D$107,2,FALSE),"")) | F12: 6.4 | G12: 3.52 | H12: =IF(OR($F12="",$G12=""),"",IFERROR($F12*$G12,"")) | I12: =IF($C12="","",IFERROR(VLOOKUP($C12,Assumptions!$A$8:$D$107,4,FALSE),"")) | J12: =IF(OR($F12="",$I12=""),"",IFERROR($F12*$I12,"")) | K12: =IF(OR($H12="",$J12=""),"",IFERROR($H12-$J12,"")) | L12: Reviewed
A13: 46274 | B13: FIC-ZM-02 | C13: Zero-Turn Mower | D13: Fictional Pebble Clover Center | E13: =IF($C13="","",IFERROR(VLOOKUP($C13,Assumptions!$A$8:$D$107,2,FALSE),"")) | F13: 7.9 | G13: 3.63 | H13: =IF(OR($F13="",$G13=""),"",IFERROR($F13*$G13,"")) | I13: =IF($C13="","",IFERROR(VLOOKUP($C13,Assumptions!$A$8:$D$107,4,FALSE),"")) | J13: =IF(OR($F13="",$I13=""),"",IFERROR($F13*$I13,"")) | K13: =IF(OR($H13="",$J13=""),"",IFERROR($H13-$J13,"")) | L13: Recorded | M13: Review fuel slip.
A14: 46275 | B14: FIC-PU-02 | C14: Pickup Truck | D14: Fictional Maple Button Grounds | E14: =IF($C14="","",IFERROR(VLOOKUP($C14,Assumptions!$A$8:$D$107,2,FALSE),"")) | F14: 16.8 | G14: 3.67 | H14: =IF(OR($F14="",$G14=""),"",IFERROR($F14*$G14,"")) | I14: =IF($C14="","",IFERROR(VLOOKUP($C14,Assumptions!$A$8:$D$107,4,FALSE),"")) | J14: =IF(OR($F14="",$I14=""),"",IFERROR($F14*$I14,"")) | K14: =IF(OR($H14="",$J14=""),"",IFERROR($H14-$J14,"")) | L14: Recorded | M14: Review fuel slip.
E15: =IF($C15="","",IFERROR(VLOOKUP($C15,Assumptions!$A$8:$D$107,2,FALSE),"")) | H15: =IF(OR($F15="",$G15=""),"",IFERROR($F15*$G15,"")) | I15: =IF($C15="","",IFERROR(VLOOKUP($C15,Assumptions!$A$8:$D$107,4,FALSE),"")) | J15: =IF(OR($F15="",$I15=""),"",IFERROR($F15*$I15,"")) | K15: =IF(OR($H15="",$J15=""),"",IFERROR($H15-$J15,""))
E16: =IF($C16="","",IFERROR(VLOOKUP($C16,Assumptions!$A$8:$D$107,2,FALSE),"")) | H16: =IF(OR($F16="",$G16=""),"",IFERROR($F16*$G16,"")) | I16: =IF($C16="","",IFERROR(VLOOKUP($C16,Assumptions!$A$8:$D$107,4,FALSE),"")) | J16: =IF(OR($F16="",$I16=""),"",IFERROR($F16*$I16,"")) | K16: =IF(OR($H16="",$J16=""),"",IFERROR($H16-$J16,""))
E17: =IF($C17="","",IFERROR(VLOOKUP($C17,Assumptions!$A$8:$D$107,2,FALSE),"")) | H17: =IF(OR($F17="",$G17=""),"",IFERROR($F17*$G17,"")) | I17: =IF($C17="","",IFERROR(VLOOKUP($C17,Assumptions!$A$8:$D$107,4,FALSE),"")) | J17: =IF(OR($F17="",$I17=""),"",IFERROR($F17*$I17,"")) | K17: =IF(OR($H17="",$J17=""),"",IFERROR($H17-$J17,""))
E18: =IF($C18="","",IFERROR(VLOOKUP($C18,Assumptions!$A$8:$D$107,2,FALSE),"")) | H18: =IF(OR($F18="",$G18=""),"",IFERROR($F18*$G18,"")) | I18: =IF($C18="","",IFERROR(VLOOKUP($C18,Assumptions!$A$8:$D$107,4,FALSE),"")) | J18: =IF(OR($F18="",$I18=""),"",IFERROR($F18*$I18,"")) | K18: =IF(OR($H18="",$J18=""),"",IFERROR($H18-$J18,""))
E19: =IF($C19="","",IFERROR(VLOOKUP($C19,Assumptions!$A$8:$D$107,2,FALSE),"")) | H19: =IF(OR($F19="",$G19=""),"",IFERROR($F19*$G19,"")) | I19: =IF($C19="","",IFERROR(VLOOKUP($C19,Assumptions!$A$8:$D$107,4,FALSE),"")) | J19: =IF(OR($F19="",$I19=""),"",IFERROR($F19*$I19,"")) | K19: =IF(OR($H19="",$J19=""),"",IFERROR($H19-$J19,""))
E20: =IF($C20="","",IFERROR(VLOOKUP($C20,Assumptions!$A$8:$D$107,2,FALSE),"")) | H20: =IF(OR($F20="",$G20=""),"",IFERROR($F20*$G20,"")) | I20: =IF($C20="","",IFERROR(VLOOKUP($C20,Assumptions!$A$8:$D$107,4,FALSE),"")) | J20: =IF(OR($F20="",$I20=""),"",IFERROR($F20*$I20,"")) | K20: =IF(OR($H20="",$J20=""),"",IFERROR($H20-$J20,""))
E21: =IF($C21="","",IFERROR(VLOOKUP($C21,Assumptions!$A$8:$D$107,2,FALSE),"")) | H21: =IF(OR($F21="",$G21=""),"",IFERROR($F21*$G21,"")) | I21: =IF($C21="","",IFERROR(VLOOKUP($C21,Assumptions!$A$8:$D$107,4,FALSE),"")) | J21: =IF(OR($F21="",$I21=""),"",IFERROR($F21*$I21,"")) | K21: =IF(OR($H21="",$J21=""),"",IFERROR($H21-$J21,""))
E22: =IF($C22="","",IFERROR(VLOOKUP($C22,Assumptions!$A$8:$D$107,2,FALSE),"")) | H22: =IF(OR($F22="",$G22=""),"",IFERROR($F22*$G22,"")) | I22: =IF($C22="","",IFERROR(VLOOKUP($C22,Assumptions!$A$8:$D$107,4,FALSE),"")) | J22: =IF(OR($F22="",$I22=""),"",IFERROR($F22*$I22,"")) | K22: =IF(OR($H22="",$J22=""),"",IFERROR($H22-$J22,""))
E23: =IF($C23="","",IFERROR(VLOOKUP($C23,Assumptions!$A$8:$D$107,2,FALSE),"")) | H23: =IF(OR($F23="",$G23=""),"",IFERROR($F23*$G23,"")) | I23: =IF($C23="","",IFERROR(VLOOKUP($C23,Assumptions!$A$8:$D$107,4,FALSE),"")) | J23: =IF(OR($F23="",$I23=""),"",IFERROR($F23*$I23,"")) | K23: =IF(OR($H23="",$J23=""),"",IFERROR($H23-$J23,""))
E24: =IF($C24="","",IFERROR(VLOOKUP($C24,Assumptions!$A$8:$D$107,2,FALSE),"")) | H24: =IF(OR($F24="",$G24=""),"",IFERROR($F24*$G24,"")) | I24: =IF($C24="","",IFERROR(VLOOKUP($C24,Assumptions!$A$8:$D$107,4,FALSE),"")) | J24: =IF(OR($F24="",$I24=""),"",IFERROR($F24*$I24,"")) | K24: =IF(OR($H24="",$J24=""),"",IFERROR($H24-$J24,""))
E25: =IF($C25="","",IFERROR(VLOOKUP($C25,Assumptions!$A$8:$D$107,2,FALSE),"")) | H25: =IF(OR($F25="",$G25=""),"",IFERROR($F25*$G25,"")) | I25: =IF($C25="","",IFERROR(VLOOKUP($C25,Assumptions!$A$8:$D$107,4,FALSE),"")) | J25: =IF(OR($F25="",$I25=""),"",IFERROR($F25*$I25,"")) | K25: =IF(OR($H25="",$J25=""),"",IFERROR($H25-$J25,""))
E26: =IF($C26="","",IFERROR(VLOOKUP($C26,Assumptions!$A$8:$D$107,2,FALSE),"")) | H26: =IF(OR($F26="",$G26=""),"",IFERROR($F26*$G26,"")) | I26: =IF($C26="","",IFERROR(VLOOKUP($C26,Assumptions!$A$8:$D$107,4,FALSE),"")) | J26: =IF(OR($F26="",$I26=""),"",IFERROR($F26*$I26,"")) | K26: =IF(OR($H26="",$J26=""),"",IFERROR($H26-$J26,""))
... E104: =IF($C104="","",IFERROR(VLOOKUP($C104,Assumptions!$A$8:$D$107,2,FALSE),"")) | H104: =IF(OR($F104="",$G104=""),"",IFERROR($F104*$G104,"")) | I104: =IF($C104="","",IFERROR(VLOOKUP($C104,Assumptions!$A$8:$D$107,4,FALSE),"")) | J104: =IF(OR($F104="",$I104=""),"",IFERROR($F104*$I104,"")) | K104: =IF(OR($H104="",$J104=""),"",IFERROR($H104-$J104,""))

Sheet Assumptions
A1: Fictional Copper Acorn Landscaping — Fuel Budget Assumptions
A2: Edit the reporting period, average days per month, equipment classes, monthly gallon budgets, and planning prices.
A3: Reporting start date | B3: 46266
A4: Reporting end date | B4: 46275
A5: Average days per month | B5: 30.4375
A7: Equipment Class | B7: Default Fuel Type | C7: Monthly Budget Gallons | D7: Budget Price per Gallon
A8: Pickup Truck | B8: Gasoline | C8: 220 | D8: 3.65
A9: Zero-Turn Mower | B9: Gasoline | C9: 90 | D9: 3.58
A10: Walk-Behind Mower | B10: Gasoline | C10: 25 | D10: 3.58
A11: Skid Steer | B11: Diesel | C11: 110 | D11: 3.95
A12: Compact Tractor | B12: Diesel | C12: 75 | D12: 3.95
A13: Leaf Blower | B13: Gasoline | C13: 18 | D13: 3.62
A14: String Trimmer | B14: Gasoline | C14: 14 | D14: 3.62
A15: Utility Vehicle | B15: Gasoline | C15: 45 | D15: 3.6
