Workbook

Sheet Summary
A1: Landscaping Referral Source Tracker — Summary
A2: As of | B2: =TODAY()
A4: Total Leads | B4: =COUNTIF(Leads!$A$5:$A$154,"<>") | C4: Won Leads | D4: =COUNTIF(Leads!$I$5:$I$154,"Won") | E4: Closed Win Rate | F4: =IFERROR($D$4/($D$4+COUNTIF(Leads!$I$5:$I$154,"Lost")),"")
A5: Open Estimated Opportunity | B5: =SUMIFS(Leads!$H$5:$H$154,Leads!$A$5:$A$154,"<>",Leads!$I$5:$I$154,"<>Won",Leads!$I$5:$I$154,"<>Lost") | C5: Won Revenue | D5: =SUMIFS(Leads!$K$5:$K$154,Leads!$I$5:$I$154,"Won") | E5: Average Won Revenue | F5: =IFERROR($D$5/$D$4,"")
A6: Referral-Sourced Leads | B6: =SUMIF($B$9:$B$16,"Referral",$C$9:$C$16) | C6: Records to Review | D6: =COUNTIF(Leads!$M$5:$M$154,"Check*")+COUNTIF(Leads!$M$5:$M$154,"Add*")+COUNTIF(Leads!$M$5:$M$154,"Revenue*")+COUNTIF(Leads!$M$5:$M$154,"Outcome*")+COUNTIF(Leads!$M$5:$M$154,"Review*")
A8: Referral Source | B8: Source Group | C8: Leads | D8: Won Leads | E8: Closed Win Rate | F8: Open Est. Opportunity | G8: Won Revenue
A9: =IF(Assumptions!$A$6="","",Assumptions!$A$6) | B9: =IF($A9="","",Assumptions!$B$6) | C9: =IF($A9="","",COUNTIF(Leads!$F$5:$F$154,$A9)) | D9: =IF($A9="","",COUNTIFS(Leads!$F$5:$F$154,$A9,Leads!$I$5:$I$154,"Won")) | E9: =IF($A9="","",IFERROR($D9/($D9+COUNTIFS(Leads!$F$5:$F$154,$A9,Leads!$I$5:$I$154,"Lost")),"")) | F9: =IF($A9="","",SUMIFS(Leads!$H$5:$H$154,Leads!$F$5:$F$154,$A9,Leads!$I$5:$I$154,"<>Won",Leads!$I$5:$I$154,"<>Lost")) | G9: =IF($A9="","",SUMIFS(Leads!$K$5:$K$154,Leads!$F$5:$F$154,$A9,Leads!$I$5:$I$154,"Won"))
A10: =IF(Assumptions!$A$7="","",Assumptions!$A$7) | B10: =IF($A10="","",Assumptions!$B$7) | C10: =IF($A10="","",COUNTIF(Leads!$F$5:$F$154,$A10)) | D10: =IF($A10="","",COUNTIFS(Leads!$F$5:$F$154,$A10,Leads!$I$5:$I$154,"Won")) | E10: =IF($A10="","",IFERROR($D10/($D10+COUNTIFS(Leads!$F$5:$F$154,$A10,Leads!$I$5:$I$154,"Lost")),"")) | F10: =IF($A10="","",SUMIFS(Leads!$H$5:$H$154,Leads!$F$5:$F$154,$A10,Leads!$I$5:$I$154,"<>Won",Leads!$I$5:$I$154,"<>Lost")) | G10: =IF($A10="","",SUMIFS(Leads!$K$5:$K$154,Leads!$F$5:$F$154,$A10,Leads!$I$5:$I$154,"Won"))
A11: =IF(Assumptions!$A$8="","",Assumptions!$A$8) | B11: =IF($A11="","",Assumptions!$B$8) | C11: =IF($A11="","",COUNTIF(Leads!$F$5:$F$154,$A11)) | D11: =IF($A11="","",COUNTIFS(Leads!$F$5:$F$154,$A11,Leads!$I$5:$I$154,"Won")) | E11: =IF($A11="","",IFERROR($D11/($D11+COUNTIFS(Leads!$F$5:$F$154,$A11,Leads!$I$5:$I$154,"Lost")),"")) | F11: =IF($A11="","",SUMIFS(Leads!$H$5:$H$154,Leads!$F$5:$F$154,$A11,Leads!$I$5:$I$154,"<>Won",Leads!$I$5:$I$154,"<>Lost")) | G11: =IF($A11="","",SUMIFS(Leads!$K$5:$K$154,Leads!$F$5:$F$154,$A11,Leads!$I$5:$I$154,"Won"))
A12: =IF(Assumptions!$A$9="","",Assumptions!$A$9) | B12: =IF($A12="","",Assumptions!$B$9) | C12: =IF($A12="","",COUNTIF(Leads!$F$5:$F$154,$A12)) | D12: =IF($A12="","",COUNTIFS(Leads!$F$5:$F$154,$A12,Leads!$I$5:$I$154,"Won")) | E12: =IF($A12="","",IFERROR($D12/($D12+COUNTIFS(Leads!$F$5:$F$154,$A12,Leads!$I$5:$I$154,"Lost")),"")) | F12: =IF($A12="","",SUMIFS(Leads!$H$5:$H$154,Leads!$F$5:$F$154,$A12,Leads!$I$5:$I$154,"<>Won",Leads!$I$5:$I$154,"<>Lost")) | G12: =IF($A12="","",SUMIFS(Leads!$K$5:$K$154,Leads!$F$5:$F$154,$A12,Leads!$I$5:$I$154,"Won"))
A13: =IF(Assumptions!$A$10="","",Assumptions!$A$10) | B13: =IF($A13="","",Assumptions!$B$10) | C13: =IF($A13="","",COUNTIF(Leads!$F$5:$F$154,$A13)) | D13: =IF($A13="","",COUNTIFS(Leads!$F$5:$F$154,$A13,Leads!$I$5:$I$154,"Won")) | E13: =IF($A13="","",IFERROR($D13/($D13+COUNTIFS(Leads!$F$5:$F$154,$A13,Leads!$I$5:$I$154,"Lost")),"")) | F13: =IF($A13="","",SUMIFS(Leads!$H$5:$H$154,Leads!$F$5:$F$154,$A13,Leads!$I$5:$I$154,"<>Won",Leads!$I$5:$I$154,"<>Lost")) | G13: =IF($A13="","",SUMIFS(Leads!$K$5:$K$154,Leads!$F$5:$F$154,$A13,Leads!$I$5:$I$154,"Won"))
A14: =IF(Assumptions!$A$11="","",Assumptions!$A$11) | B14: =IF($A14="","",Assumptions!$B$11) | C14: =IF($A14="","",COUNTIF(Leads!$F$5:$F$154,$A14)) | D14: =IF($A14="","",COUNTIFS(Leads!$F$5:$F$154,$A14,Leads!$I$5:$I$154,"Won")) | E14: =IF($A14="","",IFERROR($D14/($D14+COUNTIFS(Leads!$F$5:$F$154,$A14,Leads!$I$5:$I$154,"Lost")),"")) | F14: =IF($A14="","",SUMIFS(Leads!$H$5:$H$154,Leads!$F$5:$F$154,$A14,Leads!$I$5:$I$154,"<>Won",Leads!$I$5:$I$154,"<>Lost")) | G14: =IF($A14="","",SUMIFS(Leads!$K$5:$K$154,Leads!$F$5:$F$154,$A14,Leads!$I$5:$I$154,"Won"))
A15: =IF(Assumptions!$A$12="","",Assumptions!$A$12) | B15: =IF($A15="","",Assumptions!$B$12) | C15: =IF($A15="","",COUNTIF(Leads!$F$5:$F$154,$A15)) | D15: =IF($A15="","",COUNTIFS(Leads!$F$5:$F$154,$A15,Leads!$I$5:$I$154,"Won")) | E15: =IF($A15="","",IFERROR($D15/($D15+COUNTIFS(Leads!$F$5:$F$154,$A15,Leads!$I$5:$I$154,"Lost")),"")) | F15: =IF($A15="","",SUMIFS(Leads!$H$5:$H$154,Leads!$F$5:$F$154,$A15,Leads!$I$5:$I$154,"<>Won",Leads!$I$5:$I$154,"<>Lost")) | G15: =IF($A15="","",SUMIFS(Leads!$K$5:$K$154,Leads!$F$5:$F$154,$A15,Leads!$I$5:$I$154,"Won"))
A16: =IF(Assumptions!$A$13="","",Assumptions!$A$13) | B16: =IF($A16="","",Assumptions!$B$13) | C16: =IF($A16="","",COUNTIF(Leads!$F$5:$F$154,$A16)) | D16: =IF($A16="","",COUNTIFS(Leads!$F$5:$F$154,$A16,Leads!$I$5:$I$154,"Won")) | E16: =IF($A16="","",IFERROR($D16/($D16+COUNTIFS(Leads!$F$5:$F$154,$A16,Leads!$I$5:$I$154,"Lost")),"")) | F16: =IF($A16="","",SUMIFS(Leads!$H$5:$H$154,Leads!$F$5:$F$154,$A16,Leads!$I$5:$I$154,"<>Won",Leads!$I$5:$I$154,"<>Lost")) | G16: =IF($A16="","",SUMIFS(Leads!$K$5:$K$154,Leads!$F$5:$F$154,$A16,Leads!$I$5:$I$154,"Won"))

Sheet Leads
A1: Landscaping Referral Source Tracker — Lead Records
A2: Yellow cells are editable. Red review prompts identify records that need a human check.
A4: Lead ID | B4: Inquiry Date | C4: Prospect | D4: Property or Project | E4: Service | F4: Referral Source | G4: Referrer or Campaign | H4: Estimated Opportunity | I4: Lead Status | J4: Outcome Date | K4: Won Revenue | L4: Days to Outcome or Age | M4: Record Review
A5: FIC-26001 | B5: 46176 | C5: Fictional Alder Household | D5: Fictional Alder Residence | E5: Planting & Bed Installation | F5: Customer Referral | G5: Fictional Rivera Neighbor — Requested a front planting bed refresh. | H5: 4800 | I5: Won | J5: 46188 | K5: 4650 | L5: =IF($A5="","",IF($B5="","",IF(OR($I5="Won",$I5="Lost"),IF($J5="","",MAX(0,$J5-$B5)),MAX(0,TODAY()-$B5)))) | M5: =IF($A5="","",IF(COUNTIF($A$5:$A$154,$A5)>1,"Check duplicate lead ID",IF($B5="","Check inquiry date",IF($F5="","Check referral source",IF($I5="","Check lead status",IF(AND(OR($I5="Won",$I5="Lost"),$J5=""),"Add outcome date",IF(AND($J5<>"",$B5<>"",$J5<$B5),"Outcome before inquiry",IF(AND($I5<>"Won",$I5<>"Lost",$J5<>""),"Outcome date for open lead",IF(AND($I5="Won",OR($K5="",$K5<=0)),"Check won revenue",IF(AND($I5<>"Won",$K5<>""),"Revenue entered for non-won lead",IF(AND($I5<>"Won",$I5<>"Lost",$L5>=Assumptions!$J$9),"Review aging lead","OK")))))))))))
A6: FIC-26002 | B6: 46191 | C6: Fictional Bluebird Household | D6: Fictional Bluebird Residence | E6: Landscape Design | F6: Website | G6: Fictional Spring Portfolio Page — Considering a backyard layout update. | H6: 8200 | I6: Estimate Sent | L6: =IF($A6="","",IF($B6="","",IF(OR($I6="Won",$I6="Lost"),IF($J6="","",MAX(0,$J6-$B6)),MAX(0,TODAY()-$B6)))) | M6: =IF($A6="","",IF(COUNTIF($A$5:$A$154,$A6)>1,"Check duplicate lead ID",IF($B6="","Check inquiry date",IF($F6="","Check referral source",IF($I6="","Check lead status",IF(AND(OR($I6="Won",$I6="Lost"),$J6=""),"Add outcome date",IF(AND($J6<>"",$B6<>"",$J6<$B6),"Outcome before inquiry",IF(AND($I6<>"Won",$I6<>"Lost",$J6<>""),"Outcome date for open lead",IF(AND($I6="Won",OR($K6="",$K6<=0)),"Check won revenue",IF(AND($I6<>"Won",$K6<>""),"Revenue entered for non-won lead",IF(AND($I6<>"Won",$I6<>"Lost",$L6>=Assumptions!$J$9),"Review aging lead","OK")))))))))))
A7: FIC-26003 | B7: 46205 | C7: Fictional Cedar Household | D7: Fictional Cedar Residence | E7: Hardscape Installation | F7: Partner Referral | G7: Fictional Cedar Masonry Partner — Project timing did not align. | H7: 3500 | I7: Lost | J7: 46213 | L7: =IF($A7="","",IF($B7="","",IF(OR($I7="Won",$I7="Lost"),IF($J7="","",MAX(0,$J7-$B7)),MAX(0,TODAY()-$B7)))) | M7: =IF($A7="","",IF(COUNTIF($A$5:$A$154,$A7)>1,"Check duplicate lead ID",IF($B7="","Check inquiry date",IF($F7="","Check referral source",IF($I7="","Check lead status",IF(AND(OR($I7="Won",$I7="Lost"),$J7=""),"Add outcome date",IF(AND($J7<>"",$B7<>"",$J7<$B7),"Outcome before inquiry",IF(AND($I7<>"Won",$I7<>"Lost",$J7<>""),"Outcome date for open lead",IF(AND($I7="Won",OR($K7="",$K7<=0)),"Check won revenue",IF(AND($I7<>"Won",$K7<>""),"Revenue entered for non-won lead",IF(AND($I7<>"Won",$I7<>"Lost",$L7>=Assumptions!$J$9),"Review aging lead","OK")))))))))))
A8: FIC-26004 | B8: 46214 | C8: Fictional Dogwood Household | D8: Fictional Dogwood Residence | E8: Irrigation Repair | F8: Google Business Profile | G8: Fictional Map Listing Search — Approved repair work after inspection. | H8: 2100 | I8: Won | J8: 46226 | K8: 2250 | L8: =IF($A8="","",IF($B8="","",IF(OR($I8="Won",$I8="Lost"),IF($J8="","",MAX(0,$J8-$B8)),MAX(0,TODAY()-$B8)))) | M8: =IF($A8="","",IF(COUNTIF($A$5:$A$154,$A8)>1,"Check duplicate lead ID",IF($B8="","Check inquiry date",IF($F8="","Check referral source",IF($I8="","Check lead status",IF(AND(OR($I8="Won",$I8="Lost"),$J8=""),"Add outcome date",IF(AND($J8<>"",$B8<>"",$J8<$B8),"Outcome before inquiry",IF(AND($I8<>"Won",$I8<>"Lost",$J8<>""),"Outcome date for open lead",IF(AND($I8="Won",OR($K8="",$K8<=0)),"Check won revenue",IF(AND($I8<>"Won",$K8<>""),"Revenue entered for non-won lead",IF(AND($I8<>"Won",$I8<>"Lost",$L8>=Assumptions!$J$9),"Review aging lead","OK")))))))))))
A9: FIC-26005 | B9: 46232 | C9: Fictional Evergreen Household | D9: Fictional Evergreen Residence | E9: Mulch Installation | F9: Yard Sign | G9: Fictional Oakview Yard Sign — Asked for pricing on front and side beds. | H9: 1200 | I9: Contacted | L9: =IF($A9="","",IF($B9="","",IF(OR($I9="Won",$I9="Lost"),IF($J9="","",MAX(0,$J9-$B9)),MAX(0,TODAY()-$B9)))) | M9: =IF($A9="","",IF(COUNTIF($A$5:$A$154,$A9)>1,"Check duplicate lead ID",IF($B9="","Check inquiry date",IF($F9="","Check referral source",IF($I9="","Check lead status",IF(AND(OR($I9="Won",$I9="Lost"),$J9=""),"Add outcome date",IF(AND($J9<>"",$B9<>"",$J9<$B9),"Outcome before inquiry",IF(AND($I9<>"Won",$I9<>"Lost",$J9<>""),"Outcome date for open lead",IF(AND($I9="Won",OR($K9="",$K9<=0)),"Check won revenue",IF(AND($I9<>"Won",$K9<>""),"Revenue entered for non-won lead",IF(AND($I9<>"Won",$I9<>"Lost",$L9>=Assumptions!$J$9),"Review aging lead","OK")))))))))))
A10: FIC-26006 | B10: 46239 | C10: Fictional Fern Household | D10: Fictional Fern Residence | E10: Sod Installation | F10: Employee Referral | G10: Fictional Morgan Team Referral — Selected sod replacement for the rear lawn. | H10: 6900 | I10: Won | J10: 46254 | K10: 6800 | L10: =IF($A10="","",IF($B10="","",IF(OR($I10="Won",$I10="Lost"),IF($J10="","",MAX(0,$J10-$B10)),MAX(0,TODAY()-$B10)))) | M10: =IF($A10="","",IF(COUNTIF($A$5:$A$154,$A10)>1,"Check duplicate lead ID",IF($B10="","Check inquiry date",IF($F10="","Check referral source",IF($I10="","Check lead status",IF(AND(OR($I10="Won",$I10="Lost"),$J10=""),"Add outcome date",IF(AND($J10<>"",$B10<>"",$J10<$B10),"Outcome before inquiry",IF(AND($I10<>"Won",$I10<>"Lost",$J10<>""),"Outcome date for open lead",IF(AND($I10="Won",OR($K10="",$K10<=0)),"Check won revenue",IF(AND($I10<>"Won",$K10<>""),"Revenue entered for non-won lead",IF(AND($I10<>"Won",$I10<>"Lost",$L10>=Assumptions!$J$9),"Review aging lead","OK")))))))))))
A11: FIC-26007 | B11: 46248 | C11: Fictional Gardenia Household | D11: Fictional Gardenia Residence | E11: Drainage Improvement | F11: Social Media | G11: Fictional Patio Makeover Post — Waiting for the prospect to confirm timing. | H11: 5500 | I11: On Hold | L11: =IF($A11="","",IF($B11="","",IF(OR($I11="Won",$I11="Lost"),IF($J11="","",MAX(0,$J11-$B11)),MAX(0,TODAY()-$B11)))) | M11: =IF($A11="","",IF(COUNTIF($A$5:$A$154,$A11)>1,"Check duplicate lead ID",IF($B11="","Check inquiry date",IF($F11="","Check referral source",IF($I11="","Check lead status",IF(AND(OR($I11="Won",$I11="Lost"),$J11=""),"Add outcome date",IF(AND($J11<>"",$B11<>"",$J11<$B11),"Outcome before inquiry",IF(AND($I11<>"Won",$I11<>"Lost",$J11<>""),"Outcome date for open lead",IF(AND($I11="Won",OR($K11="",$K11<=0)),"Check won revenue",IF(AND($I11<>"Won",$K11<>""),"Revenue entered for non-won lead",IF(AND($I11<>"Won",$I11<>"Lost",$L11>=Assumptions!$J$9),"Review aging lead","OK")))))))))))
A12: FIC-26008 | B12: 46259 | C12: Fictional Hawthorn Household | D12: Fictional Hawthorn Residence | E12: Seasonal Cleanup | F12: Community Event | G12: Fictional Brookside Expo Booth — Requested a fall cleanup estimate. | H12: 3000 | I12: Estimate Scheduled | L12: =IF($A12="","",IF($B12="","",IF(OR($I12="Won",$I12="Lost"),IF($J12="","",MAX(0,$J12-$B12)),MAX(0,TODAY()-$B12)))) | M12: =IF($A12="","",IF(COUNTIF($A$5:$A$154,$A12)>1,"Check duplicate lead ID",IF($B12="","Check inquiry date",IF($F12="","Check referral source",IF($I12="","Check lead status",IF(AND(OR($I12="Won",$I12="Lost"),$J12=""),"Add outcome date",IF(AND($J12<>"",$B12<>"",$J12<$B12),"Outcome before inquiry",IF(AND($I12<>"Won",$I12<>"Lost",$J12<>""),"Outcome date for open lead",IF(AND($I12="Won",OR($K12="",$K12<=0)),"Check won revenue",IF(AND($I12<>"Won",$K12<>""),"Revenue entered for non-won lead",IF(AND($I12<>"Won",$I12<>"Lost",$L12>=Assumptions!$J$9),"Review aging lead","OK")))))))))))
A13: FIC-26009 | B13: 46266 | C13: Fictional Iris Household | D13: Fictional Iris Residence | E13: Lawn Maintenance | F13: Customer Referral | G13: Fictional Bennett Neighbor — Scope and service frequency are not yet confirmed. | H13: 0 | I13: New | L13: =IF($A13="","",IF($B13="","",IF(OR($I13="Won",$I13="Lost"),IF($J13="","",MAX(0,$J13-$B13)),MAX(0,TODAY()-$B13)))) | M13: =IF($A13="","",IF(COUNTIF($A$5:$A$154,$A13)>1,"Check duplicate lead ID",IF($B13="","Check inquiry date",IF($F13="","Check referral source",IF($I13="","Check lead status",IF(AND(OR($I13="Won",$I13="Lost"),$J13=""),"Add outcome date",IF(AND($J13<>"",$B13<>"",$J13<$B13),"Outcome before inquiry",IF(AND($I13<>"Won",$I13<>"Lost",$J13<>""),"Outcome date for open lead",IF(AND($I13="Won",OR($K13="",$K13<=0)),"Check won revenue",IF(AND($I13<>"Won",$K13<>""),"Revenue entered for non-won lead",IF(AND($I13<>"Won",$I13<>"Lost",$L13>=Assumptions!$J$9),"Review aging lead","OK")))))))))))
A14: FIC-26010 | B14: 46272 | C14: Fictional Juniper Household | D14: Fictional Juniper Residence | E14: Tree & Shrub Care | F14: Website | G14: Fictional Outdoor Ideas Page — Reviewing a phased ornamental care proposal. | H14: 12500 | I14: Estimate Sent | L14: =IF($A14="","",IF($B14="","",IF(OR($I14="Won",$I14="Lost"),IF($J14="","",MAX(0,$J14-$B14)),MAX(0,TODAY()-$B14)))) | M14: =IF($A14="","",IF(COUNTIF($A$5:$A$154,$A14)>1,"Check duplicate lead ID",IF($B14="","Check inquiry date",IF($F14="","Check referral source",IF($I14="","Check lead status",IF(AND(OR($I14="Won",$I14="Lost"),$J14=""),"Add outcome date",IF(AND($J14<>"",$B14<>"",$J14<$B14),"Outcome before inquiry",IF(AND($I14<>"Won",$I14<>"Lost",$J14<>""),"Outcome date for open lead",IF(AND($I14="Won",OR($K14="",$K14<=0)),"Check won revenue",IF(AND($I14<>"Won",$K14<>""),"Revenue entered for non-won lead",IF(AND($I14<>"Won",$I14<>"Lost",$L14>=Assumptions!$J$9),"Review aging lead","OK")))))))))))
L15: =IF($A15="","",IF($B15="","",IF(OR($I15="Won",$I15="Lost"),IF($J15="","",MAX(0,$J15-$B15)),MAX(0,TODAY()-$B15)))) | M15: =IF($A15="","",IF(COUNTIF($A$5:$A$154,$A15)>1,"Check duplicate lead ID",IF($B15="","Check inquiry date",IF($F15="","Check referral source",IF($I15="","Check lead status",IF(AND(OR($I15="Won",$I15="Lost"),$J15=""),"Add outcome date",IF(AND($J15<>"",$B15<>"",$J15<$B15),"Outcome before inquiry",IF(AND($I15<>"Won",$I15<>"Lost",$J15<>""),"Outcome date for open lead",IF(AND($I15="Won",OR($K15="",$K15<=0)),"Check won revenue",IF(AND($I15<>"Won",$K15<>""),"Revenue entered for non-won lead",IF(AND($I15<>"Won",$I15<>"Lost",$L15>=Assumptions!$J$9),"Review aging lead","OK")))))))))))
L16: =IF($A16="","",IF($B16="","",IF(OR($I16="Won",$I16="Lost"),IF($J16="","",MAX(0,$J16-$B16)),MAX(0,TODAY()-$B16)))) | M16: =IF($A16="","",IF(COUNTIF($A$5:$A$154,$A16)>1,"Check duplicate lead ID",IF($B16="","Check inquiry date",IF($F16="","Check referral source",IF($I16="","Check lead status",IF(AND(OR($I16="Won",$I16="Lost"),$J16=""),"Add outcome date",IF(AND($J16<>"",$B16<>"",$J16<$B16),"Outcome before inquiry",IF(AND($I16<>"Won",$I16<>"Lost",$J16<>""),"Outcome date for open lead",IF(AND($I16="Won",OR($K16="",$K16<=0)),"Check won revenue",IF(AND($I16<>"Won",$K16<>""),"Revenue entered for non-won lead",IF(AND($I16<>"Won",$I16<>"Lost",$L16>=Assumptions!$J$9),"Review aging lead","OK")))))))))))
L17: =IF($A17="","",IF($B17="","",IF(OR($I17="Won",$I17="Lost"),IF($J17="","",MAX(0,$J17-$B17)),MAX(0,TODAY()-$B17)))) | M17: =IF($A17="","",IF(COUNTIF($A$5:$A$154,$A17)>1,"Check duplicate lead ID",IF($B17="","Check inquiry date",IF($F17="","Check referral source",IF($I17="","Check lead status",IF(AND(OR($I17="Won",$I17="Lost"),$J17=""),"Add outcome date",IF(AND($J17<>"",$B17<>"",$J17<$B17),"Outcome before inquiry",IF(AND($I17<>"Won",$I17<>"Lost",$J17<>""),"Outcome date for open lead",IF(AND($I17="Won",OR($K17="",$K17<=0)),"Check won revenue",IF(AND($I17<>"Won",$K17<>""),"Revenue entered for non-won lead",IF(AND($I17<>"Won",$I17<>"Lost",$L17>=Assumptions!$J$9),"Review aging lead","OK")))))))))))
L18: =IF($A18="","",IF($B18="","",IF(OR($I18="Won",$I18="Lost"),IF($J18="","",MAX(0,$J18-$B18)),MAX(0,TODAY()-$B18)))) | M18: =IF($A18="","",IF(COUNTIF($A$5:$A$154,$A18)>1,"Check duplicate lead ID",IF($B18="","Check inquiry date",IF($F18="","Check referral source",IF($I18="","Check lead status",IF(AND(OR($I18="Won",$I18="Lost"),$J18=""),"Add outcome date",IF(AND($J18<>"",$B18<>"",$J18<$B18),"Outcome before inquiry",IF(AND($I18<>"Won",$I18<>"Lost",$J18<>""),"Outcome date for open lead",IF(AND($I18="Won",OR($K18="",$K18<=0)),"Check won revenue",IF(AND($I18<>"Won",$K18<>""),"Revenue entered for non-won lead",IF(AND($I18<>"Won",$I18<>"Lost",$L18>=Assumptions!$J$9),"Review aging lead","OK")))))))))))
L19: =IF($A19="","",IF($B19="","",IF(OR($I19="Won",$I19="Lost"),IF($J19="","",MAX(0,$J19-$B19)),MAX(0,TODAY()-$B19)))) | M19: =IF($A19="","",IF(COUNTIF($A$5:$A$154,$A19)>1,"Check duplicate lead ID",IF($B19="","Check inquiry date",IF($F19="","Check referral source",IF($I19="","Check lead status",IF(AND(OR($I19="Won",$I19="Lost"),$J19=""),"Add outcome date",IF(AND($J19<>"",$B19<>"",$J19<$B19),"Outcome before inquiry",IF(AND($I19<>"Won",$I19<>"Lost",$J19<>""),"Outcome date for open lead",IF(AND($I19="Won",OR($K19="",$K19<=0)),"Check won revenue",IF(AND($I19<>"Won",$K19<>""),"Revenue entered for non-won lead",IF(AND($I19<>"Won",$I19<>"Lost",$L19>=Assumptions!$J$9),"Review aging lead","OK")))))))))))
L20: =IF($A20="","",IF($B20="","",IF(OR($I20="Won",$I20="Lost"),IF($J20="","",MAX(0,$J20-$B20)),MAX(0,TODAY()-$B20)))) | M20: =IF($A20="","",IF(COUNTIF($A$5:$A$154,$A20)>1,"Check duplicate lead ID",IF($B20="","Check inquiry date",IF($F20="","Check referral source",IF($I20="","Check lead status",IF(AND(OR($I20="Won",$I20="Lost"),$J20=""),"Add outcome date",IF(AND($J20<>"",$B20<>"",$J20<$B20),"Outcome before inquiry",IF(AND($I20<>"Won",$I20<>"Lost",$J20<>""),"Outcome date for open lead",IF(AND($I20="Won",OR($K20="",$K20<=0)),"Check won revenue",IF(AND($I20<>"Won",$K20<>""),"Revenue entered for non-won lead",IF(AND($I20<>"Won",$I20<>"Lost",$L20>=Assumptions!$J$9),"Review aging lead","OK")))))))))))
L21: =IF($A21="","",IF($B21="","",IF(OR($I21="Won",$I21="Lost"),IF($J21="","",MAX(0,$J21-$B21)),MAX(0,TODAY()-$B21)))) | M21: =IF($A21="","",IF(COUNTIF($A$5:$A$154,$A21)>1,"Check duplicate lead ID",IF($B21="","Check inquiry date",IF($F21="","Check referral source",IF($I21="","Check lead status",IF(AND(OR($I21="Won",$I21="Lost"),$J21=""),"Add outcome date",IF(AND($J21<>"",$B21<>"",$J21<$B21),"Outcome before inquiry",IF(AND($I21<>"Won",$I21<>"Lost",$J21<>""),"Outcome date for open lead",IF(AND($I21="Won",OR($K21="",$K21<=0)),"Check won revenue",IF(AND($I21<>"Won",$K21<>""),"Revenue entered for non-won lead",IF(AND($I21<>"Won",$I21<>"Lost",$L21>=Assumptions!$J$9),"Review aging lead","OK")))))))))))
L22: =IF($A22="","",IF($B22="","",IF(OR($I22="Won",$I22="Lost"),IF($J22="","",MAX(0,$J22-$B22)),MAX(0,TODAY()-$B22)))) | M22: =IF($A22="","",IF(COUNTIF($A$5:$A$154,$A22)>1,"Check duplicate lead ID",IF($B22="","Check inquiry date",IF($F22="","Check referral source",IF($I22="","Check lead status",IF(AND(OR($I22="Won",$I22="Lost"),$J22=""),"Add outcome date",IF(AND($J22<>"",$B22<>"",$J22<$B22),"Outcome before inquiry",IF(AND($I22<>"Won",$I22<>"Lost",$J22<>""),"Outcome date for open lead",IF(AND($I22="Won",OR($K22="",$K22<=0)),"Check won revenue",IF(AND($I22<>"Won",$K22<>""),"Revenue entered for non-won lead",IF(AND($I22<>"Won",$I22<>"Lost",$L22>=Assumptions!$J$9),"Review aging lead","OK")))))))))))
L23: =IF($A23="","",IF($B23="","",IF(OR($I23="Won",$I23="Lost"),IF($J23="","",MAX(0,$J23-$B23)),MAX(0,TODAY()-$B23)))) | M23: =IF($A23="","",IF(COUNTIF($A$5:$A$154,$A23)>1,"Check duplicate lead ID",IF($B23="","Check inquiry date",IF($F23="","Check referral source",IF($I23="","Check lead status",IF(AND(OR($I23="Won",$I23="Lost"),$J23=""),"Add outcome date",IF(AND($J23<>"",$B23<>"",$J23<$B23),"Outcome before inquiry",IF(AND($I23<>"Won",$I23<>"Lost",$J23<>""),"Outcome date for open lead",IF(AND($I23="Won",OR($K23="",$K23<=0)),"Check won revenue",IF(AND($I23<>"Won",$K23<>""),"Revenue entered for non-won lead",IF(AND($I23<>"Won",$I23<>"Lost",$L23>=Assumptions!$J$9),"Review aging lead","OK")))))))))))
L24: =IF($A24="","",IF($B24="","",IF(OR($I24="Won",$I24="Lost"),IF($J24="","",MAX(0,$J24-$B24)),MAX(0,TODAY()-$B24)))) | M24: =IF($A24="","",IF(COUNTIF($A$5:$A$154,$A24)>1,"Check duplicate lead ID",IF($B24="","Check inquiry date",IF($F24="","Check referral source",IF($I24="","Check lead status",IF(AND(OR($I24="Won",$I24="Lost"),$J24=""),"Add outcome date",IF(AND($J24<>"",$B24<>"",$J24<$B24),"Outcome before inquiry",IF(AND($I24<>"Won",$I24<>"Lost",$J24<>""),"Outcome date for open lead",IF(AND($I24="Won",OR($K24="",$K24<=0)),"Check won revenue",IF(AND($I24<>"Won",$K24<>""),"Revenue entered for non-won lead",IF(AND($I24<>"Won",$I24<>"Lost",$L24>=Assumptions!$J$9),"Review aging lead","OK")))))))))))
L25: =IF($A25="","",IF($B25="","",IF(OR($I25="Won",$I25="Lost"),IF($J25="","",MAX(0,$J25-$B25)),MAX(0,TODAY()-$B25)))) | M25: =IF($A25="","",IF(COUNTIF($A$5:$A$154,$A25)>1,"Check duplicate lead ID",IF($B25="","Check inquiry date",IF($F25="","Check referral source",IF($I25="","Check lead status",IF(AND(OR($I25="Won",$I25="Lost"),$J25=""),"Add outcome date",IF(AND($J25<>"",$B25<>"",$J25<$B25),"Outcome before inquiry",IF(AND($I25<>"Won",$I25<>"Lost",$J25<>""),"Outcome date for open lead",IF(AND($I25="Won",OR($K25="",$K25<=0)),"Check won revenue",IF(AND($I25<>"Won",$K25<>""),"Revenue entered for non-won lead",IF(AND($I25<>"Won",$I25<>"Lost",$L25>=Assumptions!$J$9),"Review aging lead","OK")))))))))))
L26: =IF($A26="","",IF($B26="","",IF(OR($I26="Won",$I26="Lost"),IF($J26="","",MAX(0,$J26-$B26)),MAX(0,TODAY()-$B26)))) | M26: =IF($A26="","",IF(COUNTIF($A$5:$A$154,$A26)>1,"Check duplicate lead ID",IF($B26="","Check inquiry date",IF($F26="","Check referral source",IF($I26="","Check lead status",IF(AND(OR($I26="Won",$I26="Lost"),$J26=""),"Add outcome date",IF(AND($J26<>"",$B26<>"",$J26<$B26),"Outcome before inquiry",IF(AND($I26<>"Won",$I26<>"Lost",$J26<>""),"Outcome date for open lead",IF(AND($I26="Won",OR($K26="",$K26<=0)),"Check won revenue",IF(AND($I26<>"Won",$K26<>""),"Revenue entered for non-won lead",IF(AND($I26<>"Won",$I26<>"Lost",$L26>=Assumptions!$J$9),"Review aging lead","OK")))))))))))
... L154: =IF($A154="","",IF($B154="","",IF(OR($I154="Won",$I154="Lost"),IF($J154="","",MAX(0,$J154-$B154)),MAX(0,TODAY()-$B154)))) | M154: =IF($A154="","",IF(COUNTIF($A$5:$A$154,$A154)>1,"Check duplicate lead ID",IF($B154="","Check inquiry date",IF($F154="","Check referral source",IF($I154="","Check lead status",IF(AND(OR($I154="Won",$I154="Lost"),$J154=""),"Add outcome date",IF(AND($J154<>"",$B154<>"",$J154<$B154),"Outcome before inquiry",IF(AND($I154<>"Won",$I154<>"Lost",$J154<>""),"Outcome date for open lead",IF(AND($I154="Won",OR($K154="",$K154<=0)),"Check won revenue",IF(AND($I154<>"Won",$K154<>""),"Revenue entered for non-won lead",IF(AND($I154<>"Won",$I154<>"Lost",$L154>=Assumptions!$J$9),"Review aging lead","OK")))))))))))

Sheet Assumptions
A1: Landscaping Referral Source Tracker — Assumptions
A2: Edit yellow choices and limits carefully. These settings control dropdowns, input limits, and review prompts.
A5: Referral Source | B5: Source Group | D5: Lead Status | F5: Service | I5: Input Limit | J5: Value
A6: Customer Referral | B6: Referral | D6: New | F6: Landscape Design | I6: Earliest entry date | J6: 45292
A7: Partner Referral | B7: Referral | D7: Contacted | F7: Planting & Bed Installation | I7: Latest entry date | J7: 46276
A8: Employee Referral | B8: Referral | D8: Estimate Scheduled | F8: Mulch Installation | I8: Maximum lead amount | J8: 1000000
A9: Website | B9: Marketing | D9: Estimate Sent | F9: Sod Installation | I9: Review age in days | J9: 30
A10: Google Business Profile | B10: Marketing | D10: Won | F10: Hardscape Installation
A11: Social Media | B11: Marketing | D11: Lost | F11: Irrigation Repair
A12: Yard Sign | B12: Marketing | D12: On Hold | F12: Lawn Maintenance
A13: Community Event | B13: Marketing | F13: Seasonal Cleanup
F14: Tree & Shrub Care
F15: Drainage Improvement
