Workbook

Sheet Summary
A1: Landscaping Sales Tax Tracker — Summary
A2: Administrative tracker for fictional examples. Confirm tax treatment, rates, filing periods, and reporting obligations independently.
A4: Report Start Date | B4: 46023
A5: Report End Date | B5: 46387
A6: Filing Year | B6: 2026
A8: Reporting Indicator | B8: Value
A9: Posted Gross Sales | B9: =IF(OR($B$4="",$B$5=""),"",IFERROR(SUMIFS(Sales!$H$6:$H$105,Sales!$A$6:$A$105,">="&$B$4,Sales!$A$6:$A$105,"<="&$B$5,Sales!$O$6:$O$105,Assumptions!$I$6),0))
A10: Posted Taxable Sales | B10: =IF(OR($B$4="",$B$5=""),"",IFERROR(SUMIFS(Sales!$J$6:$J$105,Sales!$A$6:$A$105,">="&$B$4,Sales!$A$6:$A$105,"<="&$B$5,Sales!$O$6:$O$105,Assumptions!$I$6),0))
A11: Posted Calculated Tax | B11: =IF(OR($B$4="",$B$5=""),"",IFERROR(SUMIFS(Sales!$K$6:$K$105,Sales!$A$6:$A$105,">="&$B$4,Sales!$A$6:$A$105,"<="&$B$5,Sales!$O$6:$O$105,Assumptions!$I$6),0))
A12: Posted Tax Collected | B12: =IF(OR($B$4="",$B$5=""),"",IFERROR(SUMIFS(Sales!$L$6:$L$105,Sales!$A$6:$A$105,">="&$B$4,Sales!$A$6:$A$105,"<="&$B$5,Sales!$O$6:$O$105,Assumptions!$I$6),0))
A13: Posted Tax Difference | B13: =IF(OR($B$11="",$B$12=""),"",IFERROR($B$12-$B$11,""))
A14: Records to Check | B14: =IF(OR($B$4="",$B$5=""),"",IFERROR(COUNTIFS(Sales!$A$6:$A$105,">="&$B$4,Sales!$A$6:$A$105,"<="&$B$5,Sales!$P$6:$P$105,"<>OK",Sales!$P$6:$P$105,"<>Voided—excluded",Sales!$P$6:$P$105,"<>"),0))
A15: Included Posted Sales | B15: =IF(OR($B$4="",$B$5=""),"",IFERROR(COUNTIFS(Sales!$A$6:$A$105,">="&$B$4,Sales!$A$6:$A$105,"<="&$B$5,Sales!$O$6:$O$105,Assumptions!$I$6),0))
A18: Filing Period | B18: Posted Gross Sales | C18: Taxable Sales | D18: Calculated Tax | E18: Tax Collected | F18: Difference | G18: Checks
A19: =DATE($B$6,1,1) | B19: =IF($A19="","",IFERROR(SUMIFS(Sales!$H$6:$H$105,Sales!$A$6:$A$105,">="&$A19,Sales!$A$6:$A$105,"<"&DATE(YEAR($A19),MONTH($A19)+1,1),Sales!$O$6:$O$105,Assumptions!$I$6),0)) | C19: =IF($A19="","",IFERROR(SUMIFS(Sales!$J$6:$J$105,Sales!$A$6:$A$105,">="&$A19,Sales!$A$6:$A$105,"<"&DATE(YEAR($A19),MONTH($A19)+1,1),Sales!$O$6:$O$105,Assumptions!$I$6),0)) | D19: =IF($A19="","",IFERROR(SUMIFS(Sales!$K$6:$K$105,Sales!$A$6:$A$105,">="&$A19,Sales!$A$6:$A$105,"<"&DATE(YEAR($A19),MONTH($A19)+1,1),Sales!$O$6:$O$105,Assumptions!$I$6),0)) | E19: =IF($A19="","",IFERROR(SUMIFS(Sales!$L$6:$L$105,Sales!$A$6:$A$105,">="&$A19,Sales!$A$6:$A$105,"<"&DATE(YEAR($A19),MONTH($A19)+1,1),Sales!$O$6:$O$105,Assumptions!$I$6),0)) | F19: =IF(OR($D19="",$E19=""),"",IFERROR($E19-$D19,"")) | G19: =IF($A19="","",IFERROR(COUNTIFS(Sales!$A$6:$A$105,">="&$A19,Sales!$A$6:$A$105,"<"&DATE(YEAR($A19),MONTH($A19)+1,1),Sales!$P$6:$P$105,"<>OK",Sales!$P$6:$P$105,"<>Voided—excluded",Sales!$P$6:$P$105,"<>"),0))
A20: =DATE($B$6,2,1) | B20: =IF($A20="","",IFERROR(SUMIFS(Sales!$H$6:$H$105,Sales!$A$6:$A$105,">="&$A20,Sales!$A$6:$A$105,"<"&DATE(YEAR($A20),MONTH($A20)+1,1),Sales!$O$6:$O$105,Assumptions!$I$6),0)) | C20: =IF($A20="","",IFERROR(SUMIFS(Sales!$J$6:$J$105,Sales!$A$6:$A$105,">="&$A20,Sales!$A$6:$A$105,"<"&DATE(YEAR($A20),MONTH($A20)+1,1),Sales!$O$6:$O$105,Assumptions!$I$6),0)) | D20: =IF($A20="","",IFERROR(SUMIFS(Sales!$K$6:$K$105,Sales!$A$6:$A$105,">="&$A20,Sales!$A$6:$A$105,"<"&DATE(YEAR($A20),MONTH($A20)+1,1),Sales!$O$6:$O$105,Assumptions!$I$6),0)) | E20: =IF($A20="","",IFERROR(SUMIFS(Sales!$L$6:$L$105,Sales!$A$6:$A$105,">="&$A20,Sales!$A$6:$A$105,"<"&DATE(YEAR($A20),MONTH($A20)+1,1),Sales!$O$6:$O$105,Assumptions!$I$6),0)) | F20: =IF(OR($D20="",$E20=""),"",IFERROR($E20-$D20,"")) | G20: =IF($A20="","",IFERROR(COUNTIFS(Sales!$A$6:$A$105,">="&$A20,Sales!$A$6:$A$105,"<"&DATE(YEAR($A20),MONTH($A20)+1,1),Sales!$P$6:$P$105,"<>OK",Sales!$P$6:$P$105,"<>Voided—excluded",Sales!$P$6:$P$105,"<>"),0))
A21: =DATE($B$6,3,1) | B21: =IF($A21="","",IFERROR(SUMIFS(Sales!$H$6:$H$105,Sales!$A$6:$A$105,">="&$A21,Sales!$A$6:$A$105,"<"&DATE(YEAR($A21),MONTH($A21)+1,1),Sales!$O$6:$O$105,Assumptions!$I$6),0)) | C21: =IF($A21="","",IFERROR(SUMIFS(Sales!$J$6:$J$105,Sales!$A$6:$A$105,">="&$A21,Sales!$A$6:$A$105,"<"&DATE(YEAR($A21),MONTH($A21)+1,1),Sales!$O$6:$O$105,Assumptions!$I$6),0)) | D21: =IF($A21="","",IFERROR(SUMIFS(Sales!$K$6:$K$105,Sales!$A$6:$A$105,">="&$A21,Sales!$A$6:$A$105,"<"&DATE(YEAR($A21),MONTH($A21)+1,1),Sales!$O$6:$O$105,Assumptions!$I$6),0)) | E21: =IF($A21="","",IFERROR(SUMIFS(Sales!$L$6:$L$105,Sales!$A$6:$A$105,">="&$A21,Sales!$A$6:$A$105,"<"&DATE(YEAR($A21),MONTH($A21)+1,1),Sales!$O$6:$O$105,Assumptions!$I$6),0)) | F21: =IF(OR($D21="",$E21=""),"",IFERROR($E21-$D21,"")) | G21: =IF($A21="","",IFERROR(COUNTIFS(Sales!$A$6:$A$105,">="&$A21,Sales!$A$6:$A$105,"<"&DATE(YEAR($A21),MONTH($A21)+1,1),Sales!$P$6:$P$105,"<>OK",Sales!$P$6:$P$105,"<>Voided—excluded",Sales!$P$6:$P$105,"<>"),0))
A22: =DATE($B$6,4,1) | B22: =IF($A22="","",IFERROR(SUMIFS(Sales!$H$6:$H$105,Sales!$A$6:$A$105,">="&$A22,Sales!$A$6:$A$105,"<"&DATE(YEAR($A22),MONTH($A22)+1,1),Sales!$O$6:$O$105,Assumptions!$I$6),0)) | C22: =IF($A22="","",IFERROR(SUMIFS(Sales!$J$6:$J$105,Sales!$A$6:$A$105,">="&$A22,Sales!$A$6:$A$105,"<"&DATE(YEAR($A22),MONTH($A22)+1,1),Sales!$O$6:$O$105,Assumptions!$I$6),0)) | D22: =IF($A22="","",IFERROR(SUMIFS(Sales!$K$6:$K$105,Sales!$A$6:$A$105,">="&$A22,Sales!$A$6:$A$105,"<"&DATE(YEAR($A22),MONTH($A22)+1,1),Sales!$O$6:$O$105,Assumptions!$I$6),0)) | E22: =IF($A22="","",IFERROR(SUMIFS(Sales!$L$6:$L$105,Sales!$A$6:$A$105,">="&$A22,Sales!$A$6:$A$105,"<"&DATE(YEAR($A22),MONTH($A22)+1,1),Sales!$O$6:$O$105,Assumptions!$I$6),0)) | F22: =IF(OR($D22="",$E22=""),"",IFERROR($E22-$D22,"")) | G22: =IF($A22="","",IFERROR(COUNTIFS(Sales!$A$6:$A$105,">="&$A22,Sales!$A$6:$A$105,"<"&DATE(YEAR($A22),MONTH($A22)+1,1),Sales!$P$6:$P$105,"<>OK",Sales!$P$6:$P$105,"<>Voided—excluded",Sales!$P$6:$P$105,"<>"),0))
A23: =DATE($B$6,5,1) | B23: =IF($A23="","",IFERROR(SUMIFS(Sales!$H$6:$H$105,Sales!$A$6:$A$105,">="&$A23,Sales!$A$6:$A$105,"<"&DATE(YEAR($A23),MONTH($A23)+1,1),Sales!$O$6:$O$105,Assumptions!$I$6),0)) | C23: =IF($A23="","",IFERROR(SUMIFS(Sales!$J$6:$J$105,Sales!$A$6:$A$105,">="&$A23,Sales!$A$6:$A$105,"<"&DATE(YEAR($A23),MONTH($A23)+1,1),Sales!$O$6:$O$105,Assumptions!$I$6),0)) | D23: =IF($A23="","",IFERROR(SUMIFS(Sales!$K$6:$K$105,Sales!$A$6:$A$105,">="&$A23,Sales!$A$6:$A$105,"<"&DATE(YEAR($A23),MONTH($A23)+1,1),Sales!$O$6:$O$105,Assumptions!$I$6),0)) | E23: =IF($A23="","",IFERROR(SUMIFS(Sales!$L$6:$L$105,Sales!$A$6:$A$105,">="&$A23,Sales!$A$6:$A$105,"<"&DATE(YEAR($A23),MONTH($A23)+1,1),Sales!$O$6:$O$105,Assumptions!$I$6),0)) | F23: =IF(OR($D23="",$E23=""),"",IFERROR($E23-$D23,"")) | G23: =IF($A23="","",IFERROR(COUNTIFS(Sales!$A$6:$A$105,">="&$A23,Sales!$A$6:$A$105,"<"&DATE(YEAR($A23),MONTH($A23)+1,1),Sales!$P$6:$P$105,"<>OK",Sales!$P$6:$P$105,"<>Voided—excluded",Sales!$P$6:$P$105,"<>"),0))
A24: =DATE($B$6,6,1) | B24: =IF($A24="","",IFERROR(SUMIFS(Sales!$H$6:$H$105,Sales!$A$6:$A$105,">="&$A24,Sales!$A$6:$A$105,"<"&DATE(YEAR($A24),MONTH($A24)+1,1),Sales!$O$6:$O$105,Assumptions!$I$6),0)) | C24: =IF($A24="","",IFERROR(SUMIFS(Sales!$J$6:$J$105,Sales!$A$6:$A$105,">="&$A24,Sales!$A$6:$A$105,"<"&DATE(YEAR($A24),MONTH($A24)+1,1),Sales!$O$6:$O$105,Assumptions!$I$6),0)) | D24: =IF($A24="","",IFERROR(SUMIFS(Sales!$K$6:$K$105,Sales!$A$6:$A$105,">="&$A24,Sales!$A$6:$A$105,"<"&DATE(YEAR($A24),MONTH($A24)+1,1),Sales!$O$6:$O$105,Assumptions!$I$6),0)) | E24: =IF($A24="","",IFERROR(SUMIFS(Sales!$L$6:$L$105,Sales!$A$6:$A$105,">="&$A24,Sales!$A$6:$A$105,"<"&DATE(YEAR($A24),MONTH($A24)+1,1),Sales!$O$6:$O$105,Assumptions!$I$6),0)) | F24: =IF(OR($D24="",$E24=""),"",IFERROR($E24-$D24,"")) | G24: =IF($A24="","",IFERROR(COUNTIFS(Sales!$A$6:$A$105,">="&$A24,Sales!$A$6:$A$105,"<"&DATE(YEAR($A24),MONTH($A24)+1,1),Sales!$P$6:$P$105,"<>OK",Sales!$P$6:$P$105,"<>Voided—excluded",Sales!$P$6:$P$105,"<>"),0))
A25: =DATE($B$6,7,1) | B25: =IF($A25="","",IFERROR(SUMIFS(Sales!$H$6:$H$105,Sales!$A$6:$A$105,">="&$A25,Sales!$A$6:$A$105,"<"&DATE(YEAR($A25),MONTH($A25)+1,1),Sales!$O$6:$O$105,Assumptions!$I$6),0)) | C25: =IF($A25="","",IFERROR(SUMIFS(Sales!$J$6:$J$105,Sales!$A$6:$A$105,">="&$A25,Sales!$A$6:$A$105,"<"&DATE(YEAR($A25),MONTH($A25)+1,1),Sales!$O$6:$O$105,Assumptions!$I$6),0)) | D25: =IF($A25="","",IFERROR(SUMIFS(Sales!$K$6:$K$105,Sales!$A$6:$A$105,">="&$A25,Sales!$A$6:$A$105,"<"&DATE(YEAR($A25),MONTH($A25)+1,1),Sales!$O$6:$O$105,Assumptions!$I$6),0)) | E25: =IF($A25="","",IFERROR(SUMIFS(Sales!$L$6:$L$105,Sales!$A$6:$A$105,">="&$A25,Sales!$A$6:$A$105,"<"&DATE(YEAR($A25),MONTH($A25)+1,1),Sales!$O$6:$O$105,Assumptions!$I$6),0)) | F25: =IF(OR($D25="",$E25=""),"",IFERROR($E25-$D25,"")) | G25: =IF($A25="","",IFERROR(COUNTIFS(Sales!$A$6:$A$105,">="&$A25,Sales!$A$6:$A$105,"<"&DATE(YEAR($A25),MONTH($A25)+1,1),Sales!$P$6:$P$105,"<>OK",Sales!$P$6:$P$105,"<>Voided—excluded",Sales!$P$6:$P$105,"<>"),0))
A26: =DATE($B$6,8,1) | B26: =IF($A26="","",IFERROR(SUMIFS(Sales!$H$6:$H$105,Sales!$A$6:$A$105,">="&$A26,Sales!$A$6:$A$105,"<"&DATE(YEAR($A26),MONTH($A26)+1,1),Sales!$O$6:$O$105,Assumptions!$I$6),0)) | C26: =IF($A26="","",IFERROR(SUMIFS(Sales!$J$6:$J$105,Sales!$A$6:$A$105,">="&$A26,Sales!$A$6:$A$105,"<"&DATE(YEAR($A26),MONTH($A26)+1,1),Sales!$O$6:$O$105,Assumptions!$I$6),0)) | D26: =IF($A26="","",IFERROR(SUMIFS(Sales!$K$6:$K$105,Sales!$A$6:$A$105,">="&$A26,Sales!$A$6:$A$105,"<"&DATE(YEAR($A26),MONTH($A26)+1,1),Sales!$O$6:$O$105,Assumptions!$I$6),0)) | E26: =IF($A26="","",IFERROR(SUMIFS(Sales!$L$6:$L$105,Sales!$A$6:$A$105,">="&$A26,Sales!$A$6:$A$105,"<"&DATE(YEAR($A26),MONTH($A26)+1,1),Sales!$O$6:$O$105,Assumptions!$I$6),0)) | F26: =IF(OR($D26="",$E26=""),"",IFERROR($E26-$D26,"")) | G26: =IF($A26="","",IFERROR(COUNTIFS(Sales!$A$6:$A$105,">="&$A26,Sales!$A$6:$A$105,"<"&DATE(YEAR($A26),MONTH($A26)+1,1),Sales!$P$6:$P$105,"<>OK",Sales!$P$6:$P$105,"<>Voided—excluded",Sales!$P$6:$P$105,"<>"),0))
A27: =DATE($B$6,9,1) | B27: =IF($A27="","",IFERROR(SUMIFS(Sales!$H$6:$H$105,Sales!$A$6:$A$105,">="&$A27,Sales!$A$6:$A$105,"<"&DATE(YEAR($A27),MONTH($A27)+1,1),Sales!$O$6:$O$105,Assumptions!$I$6),0)) | C27: =IF($A27="","",IFERROR(SUMIFS(Sales!$J$6:$J$105,Sales!$A$6:$A$105,">="&$A27,Sales!$A$6:$A$105,"<"&DATE(YEAR($A27),MONTH($A27)+1,1),Sales!$O$6:$O$105,Assumptions!$I$6),0)) | D27: =IF($A27="","",IFERROR(SUMIFS(Sales!$K$6:$K$105,Sales!$A$6:$A$105,">="&$A27,Sales!$A$6:$A$105,"<"&DATE(YEAR($A27),MONTH($A27)+1,1),Sales!$O$6:$O$105,Assumptions!$I$6),0)) | E27: =IF($A27="","",IFERROR(SUMIFS(Sales!$L$6:$L$105,Sales!$A$6:$A$105,">="&$A27,Sales!$A$6:$A$105,"<"&DATE(YEAR($A27),MONTH($A27)+1,1),Sales!$O$6:$O$105,Assumptions!$I$6),0)) | F27: =IF(OR($D27="",$E27=""),"",IFERROR($E27-$D27,"")) | G27: =IF($A27="","",IFERROR(COUNTIFS(Sales!$A$6:$A$105,">="&$A27,Sales!$A$6:$A$105,"<"&DATE(YEAR($A27),MONTH($A27)+1,1),Sales!$P$6:$P$105,"<>OK",Sales!$P$6:$P$105,"<>Voided—excluded",Sales!$P$6:$P$105,"<>"),0))
A28: =DATE($B$6,10,1) | B28: =IF($A28="","",IFERROR(SUMIFS(Sales!$H$6:$H$105,Sales!$A$6:$A$105,">="&$A28,Sales!$A$6:$A$105,"<"&DATE(YEAR($A28),MONTH($A28)+1,1),Sales!$O$6:$O$105,Assumptions!$I$6),0)) | C28: =IF($A28="","",IFERROR(SUMIFS(Sales!$J$6:$J$105,Sales!$A$6:$A$105,">="&$A28,Sales!$A$6:$A$105,"<"&DATE(YEAR($A28),MONTH($A28)+1,1),Sales!$O$6:$O$105,Assumptions!$I$6),0)) | D28: =IF($A28="","",IFERROR(SUMIFS(Sales!$K$6:$K$105,Sales!$A$6:$A$105,">="&$A28,Sales!$A$6:$A$105,"<"&DATE(YEAR($A28),MONTH($A28)+1,1),Sales!$O$6:$O$105,Assumptions!$I$6),0)) | E28: =IF($A28="","",IFERROR(SUMIFS(Sales!$L$6:$L$105,Sales!$A$6:$A$105,">="&$A28,Sales!$A$6:$A$105,"<"&DATE(YEAR($A28),MONTH($A28)+1,1),Sales!$O$6:$O$105,Assumptions!$I$6),0)) | F28: =IF(OR($D28="",$E28=""),"",IFERROR($E28-$D28,"")) | G28: =IF($A28="","",IFERROR(COUNTIFS(Sales!$A$6:$A$105,">="&$A28,Sales!$A$6:$A$105,"<"&DATE(YEAR($A28),MONTH($A28)+1,1),Sales!$P$6:$P$105,"<>OK",Sales!$P$6:$P$105,"<>Voided—excluded",Sales!$P$6:$P$105,"<>"),0))
A29: =DATE($B$6,11,1) | B29: =IF($A29="","",IFERROR(SUMIFS(Sales!$H$6:$H$105,Sales!$A$6:$A$105,">="&$A29,Sales!$A$6:$A$105,"<"&DATE(YEAR($A29),MONTH($A29)+1,1),Sales!$O$6:$O$105,Assumptions!$I$6),0)) | C29: =IF($A29="","",IFERROR(SUMIFS(Sales!$J$6:$J$105,Sales!$A$6:$A$105,">="&$A29,Sales!$A$6:$A$105,"<"&DATE(YEAR($A29),MONTH($A29)+1,1),Sales!$O$6:$O$105,Assumptions!$I$6),0)) | D29: =IF($A29="","",IFERROR(SUMIFS(Sales!$K$6:$K$105,Sales!$A$6:$A$105,">="&$A29,Sales!$A$6:$A$105,"<"&DATE(YEAR($A29),MONTH($A29)+1,1),Sales!$O$6:$O$105,Assumptions!$I$6),0)) | E29: =IF($A29="","",IFERROR(SUMIFS(Sales!$L$6:$L$105,Sales!$A$6:$A$105,">="&$A29,Sales!$A$6:$A$105,"<"&DATE(YEAR($A29),MONTH($A29)+1,1),Sales!$O$6:$O$105,Assumptions!$I$6),0)) | F29: =IF(OR($D29="",$E29=""),"",IFERROR($E29-$D29,"")) | G29: =IF($A29="","",IFERROR(COUNTIFS(Sales!$A$6:$A$105,">="&$A29,Sales!$A$6:$A$105,"<"&DATE(YEAR($A29),MONTH($A29)+1,1),Sales!$P$6:$P$105,"<>OK",Sales!$P$6:$P$105,"<>Voided—excluded",Sales!$P$6:$P$105,"<>"),0))
A30: =DATE($B$6,12,1) | B30: =IF($A30="","",IFERROR(SUMIFS(Sales!$H$6:$H$105,Sales!$A$6:$A$105,">="&$A30,Sales!$A$6:$A$105,"<"&DATE(YEAR($A30),MONTH($A30)+1,1),Sales!$O$6:$O$105,Assumptions!$I$6),0)) | C30: =IF($A30="","",IFERROR(SUMIFS(Sales!$J$6:$J$105,Sales!$A$6:$A$105,">="&$A30,Sales!$A$6:$A$105,"<"&DATE(YEAR($A30),MONTH($A30)+1,1),Sales!$O$6:$O$105,Assumptions!$I$6),0)) | D30: =IF($A30="","",IFERROR(SUMIFS(Sales!$K$6:$K$105,Sales!$A$6:$A$105,">="&$A30,Sales!$A$6:$A$105,"<"&DATE(YEAR($A30),MONTH($A30)+1,1),Sales!$O$6:$O$105,Assumptions!$I$6),0)) | E30: =IF($A30="","",IFERROR(SUMIFS(Sales!$L$6:$L$105,Sales!$A$6:$A$105,">="&$A30,Sales!$A$6:$A$105,"<"&DATE(YEAR($A30),MONTH($A30)+1,1),Sales!$O$6:$O$105,Assumptions!$I$6),0)) | F30: =IF(OR($D30="",$E30=""),"",IFERROR($E30-$D30,"")) | G30: =IF($A30="","",IFERROR(COUNTIFS(Sales!$A$6:$A$105,">="&$A30,Sales!$A$6:$A$105,"<"&DATE(YEAR($A30),MONTH($A30)+1,1),Sales!$P$6:$P$105,"<>OK",Sales!$P$6:$P$105,"<>Voided—excluded",Sales!$P$6:$P$105,"<>"),0))
A32: Tax difference equals collected tax minus calculated tax.

Sheet Sales
A1: Landscaping Sales Tax Tracker — Sales
A2: Yellow cells are editable. All sample transactions, customers, properties, and tax areas are fictional. Alerts require human review.
A5: Sale Date | B5: Invoice Number | C5: Customer | D5: Property | E5: Service Category | F5: Jurisdiction Code | G5: Tax Treatment | H5: Sale Amount | I5: Applied Tax Rate | J5: Taxable Sales | K5: Calculated Tax | L5: Tax Collected | M5: Difference | N5: Filing Period | O5: Record Status | P5: Check Note
A6: 46030 | B6: FX-26001 | C6: Fictional Customer — Blue Acorn Co. | D6: Fictional Property — Lantern Court | E6: Lawn mowing | F6: FIC-A | G6: Taxable | H6: 480 | I6: =IF(OR($A6="",$F6=""),"",IFERROR(VLOOKUP($F6,Assumptions!$A$5:$C$104,3,FALSE),"")) | J6: =IF($A6="","",IF($O6="Voided",0,IF($G6="Taxable",$H6,IF($G6="Exempt",0,"")))) | K6: =IF($A6="","",IF($O6="Voided",0,IF($G6="Taxable",IF(OR($J6="",$I6=""),"",IFERROR($J6*$I6,"")),IF($G6="Exempt",0,"")))) | L6: 31.2 | M6: =IF($A6="","",IF($O6="Voided",0,IF($L6="","",IF($K6="","",IFERROR($L6-$K6,""))))) | N6: =IF($A6="","",DATE(YEAR($A6),MONTH($A6),1)) | O6: Posted | P6: =IF($A6="","",IF($B6="","Enter invoice number",IF($O6="Voided","Voided—excluded",IF($O6="","Choose status",IF($G6="","Choose tax treatment",IF($H6="","Enter sale amount",IF($G6="Review","Review tax treatment",IF($F6="","Check jurisdiction",IF($I6="","Check jurisdiction rate",IF(AND($G6="Taxable",$L6=""),"Enter collected tax",IF(AND($G6="Exempt",$L6<>0,$L6<>""),"Check exempt tax",IF(AND($G6="Taxable",$M6<>"",ABS($M6)>Assumptions!$I$5),"Check tax amount","OK"))))))))))))
A7: 46043 | B7: FX-26002 | C7: Fictional Customer — Copper Leaf LLC | D7: Fictional Property — Paper Birch Walk | E7: Landscape installation | F7: FIC-B | G7: Taxable | H7: 1250 | I7: =IF(OR($A7="",$F7=""),"",IFERROR(VLOOKUP($F7,Assumptions!$A$5:$C$104,3,FALSE),"")) | J7: =IF($A7="","",IF($O7="Voided",0,IF($G7="Taxable",$H7,IF($G7="Exempt",0,"")))) | K7: =IF($A7="","",IF($O7="Voided",0,IF($G7="Taxable",IF(OR($J7="",$I7=""),"",IFERROR($J7*$I7,"")),IF($G7="Exempt",0,"")))) | L7: 90.63 | M7: =IF($A7="","",IF($O7="Voided",0,IF($L7="","",IF($K7="","",IFERROR($L7-$K7,""))))) | N7: =IF($A7="","",DATE(YEAR($A7),MONTH($A7),1)) | O7: Posted | P7: =IF($A7="","",IF($B7="","Enter invoice number",IF($O7="Voided","Voided—excluded",IF($O7="","Choose status",IF($G7="","Choose tax treatment",IF($H7="","Enter sale amount",IF($G7="Review","Review tax treatment",IF($F7="","Check jurisdiction",IF($I7="","Check jurisdiction rate",IF(AND($G7="Taxable",$L7=""),"Enter collected tax",IF(AND($G7="Exempt",$L7<>0,$L7<>""),"Check exempt tax",IF(AND($G7="Taxable",$M7<>"",ABS($M7)>Assumptions!$I$5),"Check tax amount","OK"))))))))))))
A8: 46058 | B8: FX-26003 | C8: Fictional Customer — Juniper Kite Group | D8: Fictional Property — Silver Pebble Commons | E8: Shrub pruning | F8: FIC-C | G8: Exempt | H8: 900 | I8: =IF(OR($A8="",$F8=""),"",IFERROR(VLOOKUP($F8,Assumptions!$A$5:$C$104,3,FALSE),"")) | J8: =IF($A8="","",IF($O8="Voided",0,IF($G8="Taxable",$H8,IF($G8="Exempt",0,"")))) | K8: =IF($A8="","",IF($O8="Voided",0,IF($G8="Taxable",IF(OR($J8="",$I8=""),"",IFERROR($J8*$I8,"")),IF($G8="Exempt",0,"")))) | L8: 0 | M8: =IF($A8="","",IF($O8="Voided",0,IF($L8="","",IF($K8="","",IFERROR($L8-$K8,""))))) | N8: =IF($A8="","",DATE(YEAR($A8),MONTH($A8),1)) | O8: Posted | P8: =IF($A8="","",IF($B8="","Enter invoice number",IF($O8="Voided","Voided—excluded",IF($O8="","Choose status",IF($G8="","Choose tax treatment",IF($H8="","Enter sale amount",IF($G8="Review","Review tax treatment",IF($F8="","Check jurisdiction",IF($I8="","Check jurisdiction rate",IF(AND($G8="Taxable",$L8=""),"Enter collected tax",IF(AND($G8="Exempt",$L8<>0,$L8<>""),"Check exempt tax",IF(AND($G8="Taxable",$M8<>"",ABS($M8)>Assumptions!$I$5),"Check tax amount","OK"))))))))))))
A9: 46071 | B9: FX-26004 | C9: Fictional Customer — Mossy Compass Studio | D9: Fictional Property — Amber Gate Yard | E9: Mulch installation | F9: FIC-D | G9: Taxable | H9: 1200 | I9: =IF(OR($A9="",$F9=""),"",IFERROR(VLOOKUP($F9,Assumptions!$A$5:$C$104,3,FALSE),"")) | J9: =IF($A9="","",IF($O9="Voided",0,IF($G9="Taxable",$H9,IF($G9="Exempt",0,"")))) | K9: =IF($A9="","",IF($O9="Voided",0,IF($G9="Taxable",IF(OR($J9="",$I9=""),"",IFERROR($J9*$I9,"")),IF($G9="Exempt",0,"")))) | L9: 95.5 | M9: =IF($A9="","",IF($O9="Voided",0,IF($L9="","",IF($K9="","",IFERROR($L9-$K9,""))))) | N9: =IF($A9="","",DATE(YEAR($A9),MONTH($A9),1)) | O9: Posted | P9: =IF($A9="","",IF($B9="","Enter invoice number",IF($O9="Voided","Voided—excluded",IF($O9="","Choose status",IF($G9="","Choose tax treatment",IF($H9="","Enter sale amount",IF($G9="Review","Review tax treatment",IF($F9="","Check jurisdiction",IF($I9="","Check jurisdiction rate",IF(AND($G9="Taxable",$L9=""),"Enter collected tax",IF(AND($G9="Exempt",$L9<>0,$L9<>""),"Check exempt tax",IF(AND($G9="Taxable",$M9<>"",ABS($M9)>Assumptions!$I$5),"Check tax amount","OK"))))))))))))
A10: 46084 | B10: FX-26005 | C10: Fictional Customer — Red Fern Workshop | D10: Fictional Property — Storybook Terrace | E10: Seasonal cleanup | F10: FIC-A | G10: Taxable | H10: 675 | I10: =IF(OR($A10="",$F10=""),"",IFERROR(VLOOKUP($F10,Assumptions!$A$5:$C$104,3,FALSE),"")) | J10: =IF($A10="","",IF($O10="Voided",0,IF($G10="Taxable",$H10,IF($G10="Exempt",0,"")))) | K10: =IF($A10="","",IF($O10="Voided",0,IF($G10="Taxable",IF(OR($J10="",$I10=""),"",IFERROR($J10*$I10,"")),IF($G10="Exempt",0,"")))) | L10: 43.88 | M10: =IF($A10="","",IF($O10="Voided",0,IF($L10="","",IF($K10="","",IFERROR($L10-$K10,""))))) | N10: =IF($A10="","",DATE(YEAR($A10),MONTH($A10),1)) | O10: Posted | P10: =IF($A10="","",IF($B10="","Enter invoice number",IF($O10="Voided","Voided—excluded",IF($O10="","Choose status",IF($G10="","Choose tax treatment",IF($H10="","Enter sale amount",IF($G10="Review","Review tax treatment",IF($F10="","Check jurisdiction",IF($I10="","Check jurisdiction rate",IF(AND($G10="Taxable",$L10=""),"Enter collected tax",IF(AND($G10="Exempt",$L10<>0,$L10<>""),"Check exempt tax",IF(AND($G10="Taxable",$M10<>"",ABS($M10)>Assumptions!$I$5),"Check tax amount","OK"))))))))))))
A11: 46106 | B11: FX-26006 | C11: Fictional Customer — Golden Rake Partners | D11: Fictional Property — Crescent Hedge Place | E11: Irrigation repair | F11: FIC-E | G11: Taxable | H11: 2100 | I11: =IF(OR($A11="",$F11=""),"",IFERROR(VLOOKUP($F11,Assumptions!$A$5:$C$104,3,FALSE),"")) | J11: =IF($A11="","",IF($O11="Voided",0,IF($G11="Taxable",$H11,IF($G11="Exempt",0,"")))) | K11: =IF($A11="","",IF($O11="Voided",0,IF($G11="Taxable",IF(OR($J11="",$I11=""),"",IFERROR($J11*$I11,"")),IF($G11="Exempt",0,"")))) | M11: =IF($A11="","",IF($O11="Voided",0,IF($L11="","",IF($K11="","",IFERROR($L11-$K11,""))))) | N11: =IF($A11="","",DATE(YEAR($A11),MONTH($A11),1)) | O11: Draft | P11: =IF($A11="","",IF($B11="","Enter invoice number",IF($O11="Voided","Voided—excluded",IF($O11="","Choose status",IF($G11="","Choose tax treatment",IF($H11="","Enter sale amount",IF($G11="Review","Review tax treatment",IF($F11="","Check jurisdiction",IF($I11="","Check jurisdiction rate",IF(AND($G11="Taxable",$L11=""),"Enter collected tax",IF(AND($G11="Exempt",$L11<>0,$L11<>""),"Check exempt tax",IF(AND($G11="Taxable",$M11<>"",ABS($M11)>Assumptions!$I$5),"Check tax amount","OK"))))))))))))
A12: 46122 | B12: FX-26007 | C12: Fictional Customer — Quiet Spruce Co. | D12: Fictional Property — Painted Clover Court | E12: Seasonal color | F12: FIC-F | G12: Taxable | H12: 1600 | I12: =IF(OR($A12="",$F12=""),"",IFERROR(VLOOKUP($F12,Assumptions!$A$5:$C$104,3,FALSE),"")) | J12: =IF($A12="","",IF($O12="Voided",0,IF($G12="Taxable",$H12,IF($G12="Exempt",0,"")))) | K12: =IF($A12="","",IF($O12="Voided",0,IF($G12="Taxable",IF(OR($J12="",$I12=""),"",IFERROR($J12*$I12,"")),IF($G12="Exempt",0,"")))) | L12: 110 | M12: =IF($A12="","",IF($O12="Voided",0,IF($L12="","",IF($K12="","",IFERROR($L12-$K12,""))))) | N12: =IF($A12="","",DATE(YEAR($A12),MONTH($A12),1)) | O12: Posted | P12: =IF($A12="","",IF($B12="","Enter invoice number",IF($O12="Voided","Voided—excluded",IF($O12="","Choose status",IF($G12="","Choose tax treatment",IF($H12="","Enter sale amount",IF($G12="Review","Review tax treatment",IF($F12="","Check jurisdiction",IF($I12="","Check jurisdiction rate",IF(AND($G12="Taxable",$L12=""),"Enter collected tax",IF(AND($G12="Exempt",$L12<>0,$L12<>""),"Check exempt tax",IF(AND($G12="Taxable",$M12<>"",ABS($M12)>Assumptions!$I$5),"Check tax amount","OK"))))))))))))
A13: 46140 | B13: FX-26008 | C13: Fictional Customer — Willow Lantern LLC | D13: Fictional Property — Imaginary Brook Plaza | E13: Landscape design | F13: FIC-B | G13: Review | H13: 2200 | I13: =IF(OR($A13="",$F13=""),"",IFERROR(VLOOKUP($F13,Assumptions!$A$5:$C$104,3,FALSE),"")) | J13: =IF($A13="","",IF($O13="Voided",0,IF($G13="Taxable",$H13,IF($G13="Exempt",0,"")))) | K13: =IF($A13="","",IF($O13="Voided",0,IF($G13="Taxable",IF(OR($J13="",$I13=""),"",IFERROR($J13*$I13,"")),IF($G13="Exempt",0,"")))) | M13: =IF($A13="","",IF($O13="Voided",0,IF($L13="","",IF($K13="","",IFERROR($L13-$K13,""))))) | N13: =IF($A13="","",DATE(YEAR($A13),MONTH($A13),1)) | O13: Posted | P13: =IF($A13="","",IF($B13="","Enter invoice number",IF($O13="Voided","Voided—excluded",IF($O13="","Choose status",IF($G13="","Choose tax treatment",IF($H13="","Enter sale amount",IF($G13="Review","Review tax treatment",IF($F13="","Check jurisdiction",IF($I13="","Check jurisdiction rate",IF(AND($G13="Taxable",$L13=""),"Enter collected tax",IF(AND($G13="Exempt",$L13<>0,$L13<>""),"Check exempt tax",IF(AND($G13="Taxable",$M13<>"",ABS($M13)>Assumptions!$I$5),"Check tax amount","OK"))))))))))))
A14: 46156 | B14: FX-26009 | C14: Fictional Customer — Meadow Clock Co. | D14: Fictional Property — Sapphire Mulch Lane | E14: Lawn mowing | F14: FIC-B | G14: Taxable | H14: 525 | I14: =IF(OR($A14="",$F14=""),"",IFERROR(VLOOKUP($F14,Assumptions!$A$5:$C$104,3,FALSE),"")) | J14: =IF($A14="","",IF($O14="Voided",0,IF($G14="Taxable",$H14,IF($G14="Exempt",0,"")))) | K14: =IF($A14="","",IF($O14="Voided",0,IF($G14="Taxable",IF(OR($J14="",$I14=""),"",IFERROR($J14*$I14,"")),IF($G14="Exempt",0,"")))) | L14: 38.06 | M14: =IF($A14="","",IF($O14="Voided",0,IF($L14="","",IF($K14="","",IFERROR($L14-$K14,""))))) | N14: =IF($A14="","",DATE(YEAR($A14),MONTH($A14),1)) | O14: Posted | P14: =IF($A14="","",IF($B14="","Enter invoice number",IF($O14="Voided","Voided—excluded",IF($O14="","Choose status",IF($G14="","Choose tax treatment",IF($H14="","Enter sale amount",IF($G14="Review","Review tax treatment",IF($F14="","Check jurisdiction",IF($I14="","Check jurisdiction rate",IF(AND($G14="Taxable",$L14=""),"Enter collected tax",IF(AND($G14="Exempt",$L14<>0,$L14<>""),"Check exempt tax",IF(AND($G14="Taxable",$M14<>"",ABS($M14)>Assumptions!$I$5),"Check tax amount","OK"))))))))))))
A15: 46175 | B15: FX-26010 | C15: Fictional Customer — Pebble Finch Group | D15: Fictional Property — Velvet Oak Grounds | E15: Tree care | F15: FIC-C | G15: Exempt | H15: 1450 | I15: =IF(OR($A15="",$F15=""),"",IFERROR(VLOOKUP($F15,Assumptions!$A$5:$C$104,3,FALSE),"")) | J15: =IF($A15="","",IF($O15="Voided",0,IF($G15="Taxable",$H15,IF($G15="Exempt",0,"")))) | K15: =IF($A15="","",IF($O15="Voided",0,IF($G15="Taxable",IF(OR($J15="",$I15=""),"",IFERROR($J15*$I15,"")),IF($G15="Exempt",0,"")))) | L15: 12 | M15: =IF($A15="","",IF($O15="Voided",0,IF($L15="","",IF($K15="","",IFERROR($L15-$K15,""))))) | N15: =IF($A15="","",DATE(YEAR($A15),MONTH($A15),1)) | O15: Posted | P15: =IF($A15="","",IF($B15="","Enter invoice number",IF($O15="Voided","Voided—excluded",IF($O15="","Choose status",IF($G15="","Choose tax treatment",IF($H15="","Enter sale amount",IF($G15="Review","Review tax treatment",IF($F15="","Check jurisdiction",IF($I15="","Check jurisdiction rate",IF(AND($G15="Taxable",$L15=""),"Enter collected tax",IF(AND($G15="Exempt",$L15<>0,$L15<>""),"Check exempt tax",IF(AND($G15="Taxable",$M15<>"",ABS($M15)>Assumptions!$I$5),"Check tax amount","OK"))))))))))))
A16: 46191 | B16: FX-26011 | C16: Fictional Customer — Cedar Moon Studio | D16: Fictional Property — Puzzle Stone Garden | E16: Hardscape repair | F16: FIC-D | G16: Taxable | H16: 3000 | I16: =IF(OR($A16="",$F16=""),"",IFERROR(VLOOKUP($F16,Assumptions!$A$5:$C$104,3,FALSE),"")) | J16: =IF($A16="","",IF($O16="Voided",0,IF($G16="Taxable",$H16,IF($G16="Exempt",0,"")))) | K16: =IF($A16="","",IF($O16="Voided",0,IF($G16="Taxable",IF(OR($J16="",$I16=""),"",IFERROR($J16*$I16,"")),IF($G16="Exempt",0,"")))) | L16: 0 | M16: =IF($A16="","",IF($O16="Voided",0,IF($L16="","",IF($K16="","",IFERROR($L16-$K16,""))))) | N16: =IF($A16="","",DATE(YEAR($A16),MONTH($A16),1)) | O16: Voided | P16: =IF($A16="","",IF($B16="","Enter invoice number",IF($O16="Voided","Voided—excluded",IF($O16="","Choose status",IF($G16="","Choose tax treatment",IF($H16="","Enter sale amount",IF($G16="Review","Review tax treatment",IF($F16="","Check jurisdiction",IF($I16="","Check jurisdiction rate",IF(AND($G16="Taxable",$L16=""),"Enter collected tax",IF(AND($G16="Exempt",$L16<>0,$L16<>""),"Check exempt tax",IF(AND($G16="Taxable",$M16<>"",ABS($M16)>Assumptions!$I$5),"Check tax amount","OK"))))))))))))
A17: 46210 | B17: FX-26012 | C17: Fictional Customer — Green Teacup Works | D17: Fictional Property — Make-Believe Elm Court | E17: Bed maintenance | F17: FIC-Z | G17: Taxable | H17: 350 | I17: =IF(OR($A17="",$F17=""),"",IFERROR(VLOOKUP($F17,Assumptions!$A$5:$C$104,3,FALSE),"")) | J17: =IF($A17="","",IF($O17="Voided",0,IF($G17="Taxable",$H17,IF($G17="Exempt",0,"")))) | K17: =IF($A17="","",IF($O17="Voided",0,IF($G17="Taxable",IF(OR($J17="",$I17=""),"",IFERROR($J17*$I17,"")),IF($G17="Exempt",0,"")))) | L17: 0 | M17: =IF($A17="","",IF($O17="Voided",0,IF($L17="","",IF($K17="","",IFERROR($L17-$K17,""))))) | N17: =IF($A17="","",DATE(YEAR($A17),MONTH($A17),1)) | O17: Posted | P17: =IF($A17="","",IF($B17="","Enter invoice number",IF($O17="Voided","Voided—excluded",IF($O17="","Choose status",IF($G17="","Choose tax treatment",IF($H17="","Enter sale amount",IF($G17="Review","Review tax treatment",IF($F17="","Check jurisdiction",IF($I17="","Check jurisdiction rate",IF(AND($G17="Taxable",$L17=""),"Enter collected tax",IF(AND($G17="Exempt",$L17<>0,$L17<>""),"Check exempt tax",IF(AND($G17="Taxable",$M17<>"",ABS($M17)>Assumptions!$I$5),"Check tax amount","OK"))))))))))))
I18: =IF(OR($A18="",$F18=""),"",IFERROR(VLOOKUP($F18,Assumptions!$A$5:$C$104,3,FALSE),"")) | J18: =IF($A18="","",IF($O18="Voided",0,IF($G18="Taxable",$H18,IF($G18="Exempt",0,"")))) | K18: =IF($A18="","",IF($O18="Voided",0,IF($G18="Taxable",IF(OR($J18="",$I18=""),"",IFERROR($J18*$I18,"")),IF($G18="Exempt",0,"")))) | M18: =IF($A18="","",IF($O18="Voided",0,IF($L18="","",IF($K18="","",IFERROR($L18-$K18,""))))) | N18: =IF($A18="","",DATE(YEAR($A18),MONTH($A18),1)) | P18: =IF($A18="","",IF($B18="","Enter invoice number",IF($O18="Voided","Voided—excluded",IF($O18="","Choose status",IF($G18="","Choose tax treatment",IF($H18="","Enter sale amount",IF($G18="Review","Review tax treatment",IF($F18="","Check jurisdiction",IF($I18="","Check jurisdiction rate",IF(AND($G18="Taxable",$L18=""),"Enter collected tax",IF(AND($G18="Exempt",$L18<>0,$L18<>""),"Check exempt tax",IF(AND($G18="Taxable",$M18<>"",ABS($M18)>Assumptions!$I$5),"Check tax amount","OK"))))))))))))
I19: =IF(OR($A19="",$F19=""),"",IFERROR(VLOOKUP($F19,Assumptions!$A$5:$C$104,3,FALSE),"")) | J19: =IF($A19="","",IF($O19="Voided",0,IF($G19="Taxable",$H19,IF($G19="Exempt",0,"")))) | K19: =IF($A19="","",IF($O19="Voided",0,IF($G19="Taxable",IF(OR($J19="",$I19=""),"",IFERROR($J19*$I19,"")),IF($G19="Exempt",0,"")))) | M19: =IF($A19="","",IF($O19="Voided",0,IF($L19="","",IF($K19="","",IFERROR($L19-$K19,""))))) | N19: =IF($A19="","",DATE(YEAR($A19),MONTH($A19),1)) | P19: =IF($A19="","",IF($B19="","Enter invoice number",IF($O19="Voided","Voided—excluded",IF($O19="","Choose status",IF($G19="","Choose tax treatment",IF($H19="","Enter sale amount",IF($G19="Review","Review tax treatment",IF($F19="","Check jurisdiction",IF($I19="","Check jurisdiction rate",IF(AND($G19="Taxable",$L19=""),"Enter collected tax",IF(AND($G19="Exempt",$L19<>0,$L19<>""),"Check exempt tax",IF(AND($G19="Taxable",$M19<>"",ABS($M19)>Assumptions!$I$5),"Check tax amount","OK"))))))))))))
I20: =IF(OR($A20="",$F20=""),"",IFERROR(VLOOKUP($F20,Assumptions!$A$5:$C$104,3,FALSE),"")) | J20: =IF($A20="","",IF($O20="Voided",0,IF($G20="Taxable",$H20,IF($G20="Exempt",0,"")))) | K20: =IF($A20="","",IF($O20="Voided",0,IF($G20="Taxable",IF(OR($J20="",$I20=""),"",IFERROR($J20*$I20,"")),IF($G20="Exempt",0,"")))) | M20: =IF($A20="","",IF($O20="Voided",0,IF($L20="","",IF($K20="","",IFERROR($L20-$K20,""))))) | N20: =IF($A20="","",DATE(YEAR($A20),MONTH($A20),1)) | P20: =IF($A20="","",IF($B20="","Enter invoice number",IF($O20="Voided","Voided—excluded",IF($O20="","Choose status",IF($G20="","Choose tax treatment",IF($H20="","Enter sale amount",IF($G20="Review","Review tax treatment",IF($F20="","Check jurisdiction",IF($I20="","Check jurisdiction rate",IF(AND($G20="Taxable",$L20=""),"Enter collected tax",IF(AND($G20="Exempt",$L20<>0,$L20<>""),"Check exempt tax",IF(AND($G20="Taxable",$M20<>"",ABS($M20)>Assumptions!$I$5),"Check tax amount","OK"))))))))))))
I21: =IF(OR($A21="",$F21=""),"",IFERROR(VLOOKUP($F21,Assumptions!$A$5:$C$104,3,FALSE),"")) | J21: =IF($A21="","",IF($O21="Voided",0,IF($G21="Taxable",$H21,IF($G21="Exempt",0,"")))) | K21: =IF($A21="","",IF($O21="Voided",0,IF($G21="Taxable",IF(OR($J21="",$I21=""),"",IFERROR($J21*$I21,"")),IF($G21="Exempt",0,"")))) | M21: =IF($A21="","",IF($O21="Voided",0,IF($L21="","",IF($K21="","",IFERROR($L21-$K21,""))))) | N21: =IF($A21="","",DATE(YEAR($A21),MONTH($A21),1)) | P21: =IF($A21="","",IF($B21="","Enter invoice number",IF($O21="Voided","Voided—excluded",IF($O21="","Choose status",IF($G21="","Choose tax treatment",IF($H21="","Enter sale amount",IF($G21="Review","Review tax treatment",IF($F21="","Check jurisdiction",IF($I21="","Check jurisdiction rate",IF(AND($G21="Taxable",$L21=""),"Enter collected tax",IF(AND($G21="Exempt",$L21<>0,$L21<>""),"Check exempt tax",IF(AND($G21="Taxable",$M21<>"",ABS($M21)>Assumptions!$I$5),"Check tax amount","OK"))))))))))))
I22: =IF(OR($A22="",$F22=""),"",IFERROR(VLOOKUP($F22,Assumptions!$A$5:$C$104,3,FALSE),"")) | J22: =IF($A22="","",IF($O22="Voided",0,IF($G22="Taxable",$H22,IF($G22="Exempt",0,"")))) | K22: =IF($A22="","",IF($O22="Voided",0,IF($G22="Taxable",IF(OR($J22="",$I22=""),"",IFERROR($J22*$I22,"")),IF($G22="Exempt",0,"")))) | M22: =IF($A22="","",IF($O22="Voided",0,IF($L22="","",IF($K22="","",IFERROR($L22-$K22,""))))) | N22: =IF($A22="","",DATE(YEAR($A22),MONTH($A22),1)) | P22: =IF($A22="","",IF($B22="","Enter invoice number",IF($O22="Voided","Voided—excluded",IF($O22="","Choose status",IF($G22="","Choose tax treatment",IF($H22="","Enter sale amount",IF($G22="Review","Review tax treatment",IF($F22="","Check jurisdiction",IF($I22="","Check jurisdiction rate",IF(AND($G22="Taxable",$L22=""),"Enter collected tax",IF(AND($G22="Exempt",$L22<>0,$L22<>""),"Check exempt tax",IF(AND($G22="Taxable",$M22<>"",ABS($M22)>Assumptions!$I$5),"Check tax amount","OK"))))))))))))
I23: =IF(OR($A23="",$F23=""),"",IFERROR(VLOOKUP($F23,Assumptions!$A$5:$C$104,3,FALSE),"")) | J23: =IF($A23="","",IF($O23="Voided",0,IF($G23="Taxable",$H23,IF($G23="Exempt",0,"")))) | K23: =IF($A23="","",IF($O23="Voided",0,IF($G23="Taxable",IF(OR($J23="",$I23=""),"",IFERROR($J23*$I23,"")),IF($G23="Exempt",0,"")))) | M23: =IF($A23="","",IF($O23="Voided",0,IF($L23="","",IF($K23="","",IFERROR($L23-$K23,""))))) | N23: =IF($A23="","",DATE(YEAR($A23),MONTH($A23),1)) | P23: =IF($A23="","",IF($B23="","Enter invoice number",IF($O23="Voided","Voided—excluded",IF($O23="","Choose status",IF($G23="","Choose tax treatment",IF($H23="","Enter sale amount",IF($G23="Review","Review tax treatment",IF($F23="","Check jurisdiction",IF($I23="","Check jurisdiction rate",IF(AND($G23="Taxable",$L23=""),"Enter collected tax",IF(AND($G23="Exempt",$L23<>0,$L23<>""),"Check exempt tax",IF(AND($G23="Taxable",$M23<>"",ABS($M23)>Assumptions!$I$5),"Check tax amount","OK"))))))))))))
I24: =IF(OR($A24="",$F24=""),"",IFERROR(VLOOKUP($F24,Assumptions!$A$5:$C$104,3,FALSE),"")) | J24: =IF($A24="","",IF($O24="Voided",0,IF($G24="Taxable",$H24,IF($G24="Exempt",0,"")))) | K24: =IF($A24="","",IF($O24="Voided",0,IF($G24="Taxable",IF(OR($J24="",$I24=""),"",IFERROR($J24*$I24,"")),IF($G24="Exempt",0,"")))) | M24: =IF($A24="","",IF($O24="Voided",0,IF($L24="","",IF($K24="","",IFERROR($L24-$K24,""))))) | N24: =IF($A24="","",DATE(YEAR($A24),MONTH($A24),1)) | P24: =IF($A24="","",IF($B24="","Enter invoice number",IF($O24="Voided","Voided—excluded",IF($O24="","Choose status",IF($G24="","Choose tax treatment",IF($H24="","Enter sale amount",IF($G24="Review","Review tax treatment",IF($F24="","Check jurisdiction",IF($I24="","Check jurisdiction rate",IF(AND($G24="Taxable",$L24=""),"Enter collected tax",IF(AND($G24="Exempt",$L24<>0,$L24<>""),"Check exempt tax",IF(AND($G24="Taxable",$M24<>"",ABS($M24)>Assumptions!$I$5),"Check tax amount","OK"))))))))))))
I25: =IF(OR($A25="",$F25=""),"",IFERROR(VLOOKUP($F25,Assumptions!$A$5:$C$104,3,FALSE),"")) | J25: =IF($A25="","",IF($O25="Voided",0,IF($G25="Taxable",$H25,IF($G25="Exempt",0,"")))) | K25: =IF($A25="","",IF($O25="Voided",0,IF($G25="Taxable",IF(OR($J25="",$I25=""),"",IFERROR($J25*$I25,"")),IF($G25="Exempt",0,"")))) | M25: =IF($A25="","",IF($O25="Voided",0,IF($L25="","",IF($K25="","",IFERROR($L25-$K25,""))))) | N25: =IF($A25="","",DATE(YEAR($A25),MONTH($A25),1)) | P25: =IF($A25="","",IF($B25="","Enter invoice number",IF($O25="Voided","Voided—excluded",IF($O25="","Choose status",IF($G25="","Choose tax treatment",IF($H25="","Enter sale amount",IF($G25="Review","Review tax treatment",IF($F25="","Check jurisdiction",IF($I25="","Check jurisdiction rate",IF(AND($G25="Taxable",$L25=""),"Enter collected tax",IF(AND($G25="Exempt",$L25<>0,$L25<>""),"Check exempt tax",IF(AND($G25="Taxable",$M25<>"",ABS($M25)>Assumptions!$I$5),"Check tax amount","OK"))))))))))))
I26: =IF(OR($A26="",$F26=""),"",IFERROR(VLOOKUP($F26,Assumptions!$A$5:$C$104,3,FALSE),"")) | J26: =IF($A26="","",IF($O26="Voided",0,IF($G26="Taxable",$H26,IF($G26="Exempt",0,"")))) | K26: =IF($A26="","",IF($O26="Voided",0,IF($G26="Taxable",IF(OR($J26="",$I26=""),"",IFERROR($J26*$I26,"")),IF($G26="Exempt",0,"")))) | M26: =IF($A26="","",IF($O26="Voided",0,IF($L26="","",IF($K26="","",IFERROR($L26-$K26,""))))) | N26: =IF($A26="","",DATE(YEAR($A26),MONTH($A26),1)) | P26: =IF($A26="","",IF($B26="","Enter invoice number",IF($O26="Voided","Voided—excluded",IF($O26="","Choose status",IF($G26="","Choose tax treatment",IF($H26="","Enter sale amount",IF($G26="Review","Review tax treatment",IF($F26="","Check jurisdiction",IF($I26="","Check jurisdiction rate",IF(AND($G26="Taxable",$L26=""),"Enter collected tax",IF(AND($G26="Exempt",$L26<>0,$L26<>""),"Check exempt tax",IF(AND($G26="Taxable",$M26<>"",ABS($M26)>Assumptions!$I$5),"Check tax amount","OK"))))))))))))
I27: =IF(OR($A27="",$F27=""),"",IFERROR(VLOOKUP($F27,Assumptions!$A$5:$C$104,3,FALSE),"")) | J27: =IF($A27="","",IF($O27="Voided",0,IF($G27="Taxable",$H27,IF($G27="Exempt",0,"")))) | K27: =IF($A27="","",IF($O27="Voided",0,IF($G27="Taxable",IF(OR($J27="",$I27=""),"",IFERROR($J27*$I27,"")),IF($G27="Exempt",0,"")))) | M27: =IF($A27="","",IF($O27="Voided",0,IF($L27="","",IF($K27="","",IFERROR($L27-$K27,""))))) | N27: =IF($A27="","",DATE(YEAR($A27),MONTH($A27),1)) | P27: =IF($A27="","",IF($B27="","Enter invoice number",IF($O27="Voided","Voided—excluded",IF($O27="","Choose status",IF($G27="","Choose tax treatment",IF($H27="","Enter sale amount",IF($G27="Review","Review tax treatment",IF($F27="","Check jurisdiction",IF($I27="","Check jurisdiction rate",IF(AND($G27="Taxable",$L27=""),"Enter collected tax",IF(AND($G27="Exempt",$L27<>0,$L27<>""),"Check exempt tax",IF(AND($G27="Taxable",$M27<>"",ABS($M27)>Assumptions!$I$5),"Check tax amount","OK"))))))))))))
I28: =IF(OR($A28="",$F28=""),"",IFERROR(VLOOKUP($F28,Assumptions!$A$5:$C$104,3,FALSE),"")) | J28: =IF($A28="","",IF($O28="Voided",0,IF($G28="Taxable",$H28,IF($G28="Exempt",0,"")))) | K28: =IF($A28="","",IF($O28="Voided",0,IF($G28="Taxable",IF(OR($J28="",$I28=""),"",IFERROR($J28*$I28,"")),IF($G28="Exempt",0,"")))) | M28: =IF($A28="","",IF($O28="Voided",0,IF($L28="","",IF($K28="","",IFERROR($L28-$K28,""))))) | N28: =IF($A28="","",DATE(YEAR($A28),MONTH($A28),1)) | P28: =IF($A28="","",IF($B28="","Enter invoice number",IF($O28="Voided","Voided—excluded",IF($O28="","Choose status",IF($G28="","Choose tax treatment",IF($H28="","Enter sale amount",IF($G28="Review","Review tax treatment",IF($F28="","Check jurisdiction",IF($I28="","Check jurisdiction rate",IF(AND($G28="Taxable",$L28=""),"Enter collected tax",IF(AND($G28="Exempt",$L28<>0,$L28<>""),"Check exempt tax",IF(AND($G28="Taxable",$M28<>"",ABS($M28)>Assumptions!$I$5),"Check tax amount","OK"))))))))))))
I29: =IF(OR($A29="",$F29=""),"",IFERROR(VLOOKUP($F29,Assumptions!$A$5:$C$104,3,FALSE),"")) | J29: =IF($A29="","",IF($O29="Voided",0,IF($G29="Taxable",$H29,IF($G29="Exempt",0,"")))) | K29: =IF($A29="","",IF($O29="Voided",0,IF($G29="Taxable",IF(OR($J29="",$I29=""),"",IFERROR($J29*$I29,"")),IF($G29="Exempt",0,"")))) | M29: =IF($A29="","",IF($O29="Voided",0,IF($L29="","",IF($K29="","",IFERROR($L29-$K29,""))))) | N29: =IF($A29="","",DATE(YEAR($A29),MONTH($A29),1)) | P29: =IF($A29="","",IF($B29="","Enter invoice number",IF($O29="Voided","Voided—excluded",IF($O29="","Choose status",IF($G29="","Choose tax treatment",IF($H29="","Enter sale amount",IF($G29="Review","Review tax treatment",IF($F29="","Check jurisdiction",IF($I29="","Check jurisdiction rate",IF(AND($G29="Taxable",$L29=""),"Enter collected tax",IF(AND($G29="Exempt",$L29<>0,$L29<>""),"Check exempt tax",IF(AND($G29="Taxable",$M29<>"",ABS($M29)>Assumptions!$I$5),"Check tax amount","OK"))))))))))))
... I105: =IF(OR($A105="",$F105=""),"",IFERROR(VLOOKUP($F105,Assumptions!$A$5:$C$104,3,FALSE),"")) | J105: =IF($A105="","",IF($O105="Voided",0,IF($G105="Taxable",$H105,IF($G105="Exempt",0,"")))) | K105: =IF($A105="","",IF($O105="Voided",0,IF($G105="Taxable",IF(OR($J105="",$I105=""),"",IFERROR($J105*$I105,"")),IF($G105="Exempt",0,"")))) | M105: =IF($A105="","",IF($O105="Voided",0,IF($L105="","",IF($K105="","",IFERROR($L105-$K105,""))))) | N105: =IF($A105="","",DATE(YEAR($A105),MONTH($A105),1)) | P105: =IF($A105="","",IF($B105="","Enter invoice number",IF($O105="Voided","Voided—excluded",IF($O105="","Choose status",IF($G105="","Choose tax treatment",IF($H105="","Enter sale amount",IF($G105="Review","Review tax treatment",IF($F105="","Check jurisdiction",IF($I105="","Check jurisdiction rate",IF(AND($G105="Taxable",$L105=""),"Enter collected tax",IF(AND($G105="Exempt",$L105<>0,$L105<>""),"Check exempt tax",IF(AND($G105="Taxable",$M105<>"",ABS($M105)>Assumptions!$I$5),"Check tax amount","OK"))))))))))))

Sheet Assumptions
A1: Landscaping Sales Tax Tracker — Assumptions
A2: Rates and classifications are editable administrative assumptions, not verified tax guidance. Keep the listed treatment and status labels unless workbook formulas are also updated.
A4: Jurisdiction Code | B4: Fictional Tax Area | C4: Tax Rate | D4: Service Category | E4: Tax Treatment | F4: Record Status | H4: Check Setting | I4: Value
A5: FIC-A | B5: Fictional North District | C5: 0.065 | D5: Lawn mowing | E5: Taxable | F5: Draft | H5: Tax Difference Tolerance | I5: 0.01
A6: FIC-B | B6: Fictional East District | C6: 0.0725 | D6: Landscape installation | E6: Exempt | F6: Posted | H6: Status Included in Totals | I6: Posted
A7: FIC-C | B7: Fictional South District | C7: 0.05 | D7: Shrub pruning | E7: Review | F7: Voided
A8: FIC-D | B8: Fictional West District | C8: 0.08 | D8: Mulch installation | H8: Use | I8: Review alerts before relying on totals.
A9: FIC-E | B9: Fictional River District | C9: 0.0475 | D9: Seasonal cleanup
A10: FIC-F | B10: Fictional Orchard District | C10: 0.06875 | D10: Irrigation repair
A11: FIC-Z | B11: Fictional Zero-Rate District | C11: 0 | D11: Seasonal color
D12: Landscape design
D13: Tree care
D14: Hardscape repair
D15: Bed maintenance
D16: Other landscaping
