Workbook

Sheet Summary
A1: Landscaping Service Package Comparison Summary
A3: Package Count | D3: Ready to Quote | G3: Needs Review | J3: Total Annual Price
A4: =COUNTIF(Packages!$A$4:$A$103,"<>") | D4: =COUNTIF(Packages!$X$4:$X$103,"Ready to Quote") | G4: =COUNTIF(Packages!$X$4:$X$103,"Needs Review") | J4: =IF(COUNT(Packages!$T$4:$T$103)=0,"",SUM(Packages!$T$4:$T$103))
A6: Average Annual Price | D6: Average Internal Cost | G6: Average Gross Margin | J6: Total Gross Margin
A7: =IFERROR(AVERAGE(Packages!$T$4:$T$103),"") | D7: =IFERROR(AVERAGE(Packages!$S$4:$S$103),"") | G7: =IFERROR(AVERAGE(Packages!$W$4:$W$103),"") | J7: =IF(COUNT(Packages!$V$4:$V$103)=0,"",SUM(Packages!$V$4:$V$103))
A8: Package Comparison: First 12 Prepared Package Rows
A9: Package | B9: Frequency | C9: Visits per Year | D9: Mowing | E9: Edging | F9: Shrubs | G9: Weeding | H9: Leaves | I9: Annual Cost | J9: Annual Price | K9: Margin % | L9: Status
A10: =IF(Packages!$A4="","",Packages!$B4) | B10: =IF(Packages!$A4="","",Packages!$E4) | C10: =IF(Packages!$A4="","",Packages!$F4) | D10: =IF(Packages!$A4="","",Packages!$I4) | E10: =IF(Packages!$A4="","",Packages!$J4) | F10: =IF(Packages!$A4="","",Packages!$K4) | G10: =IF(Packages!$A4="","",Packages!$L4) | H10: =IF(Packages!$A4="","",Packages!$M4) | I10: =IF(Packages!$A4="","",Packages!$S4) | J10: =IF(Packages!$A4="","",Packages!$T4) | K10: =IF(Packages!$A4="","",Packages!$W4) | L10: =IF(Packages!$A4="","",Packages!$X4)
A11: =IF(Packages!$A5="","",Packages!$B5) | B11: =IF(Packages!$A5="","",Packages!$E5) | C11: =IF(Packages!$A5="","",Packages!$F5) | D11: =IF(Packages!$A5="","",Packages!$I5) | E11: =IF(Packages!$A5="","",Packages!$J5) | F11: =IF(Packages!$A5="","",Packages!$K5) | G11: =IF(Packages!$A5="","",Packages!$L5) | H11: =IF(Packages!$A5="","",Packages!$M5) | I11: =IF(Packages!$A5="","",Packages!$S5) | J11: =IF(Packages!$A5="","",Packages!$T5) | K11: =IF(Packages!$A5="","",Packages!$W5) | L11: =IF(Packages!$A5="","",Packages!$X5)
A12: =IF(Packages!$A6="","",Packages!$B6) | B12: =IF(Packages!$A6="","",Packages!$E6) | C12: =IF(Packages!$A6="","",Packages!$F6) | D12: =IF(Packages!$A6="","",Packages!$I6) | E12: =IF(Packages!$A6="","",Packages!$J6) | F12: =IF(Packages!$A6="","",Packages!$K6) | G12: =IF(Packages!$A6="","",Packages!$L6) | H12: =IF(Packages!$A6="","",Packages!$M6) | I12: =IF(Packages!$A6="","",Packages!$S6) | J12: =IF(Packages!$A6="","",Packages!$T6) | K12: =IF(Packages!$A6="","",Packages!$W6) | L12: =IF(Packages!$A6="","",Packages!$X6)
A13: =IF(Packages!$A7="","",Packages!$B7) | B13: =IF(Packages!$A7="","",Packages!$E7) | C13: =IF(Packages!$A7="","",Packages!$F7) | D13: =IF(Packages!$A7="","",Packages!$I7) | E13: =IF(Packages!$A7="","",Packages!$J7) | F13: =IF(Packages!$A7="","",Packages!$K7) | G13: =IF(Packages!$A7="","",Packages!$L7) | H13: =IF(Packages!$A7="","",Packages!$M7) | I13: =IF(Packages!$A7="","",Packages!$S7) | J13: =IF(Packages!$A7="","",Packages!$T7) | K13: =IF(Packages!$A7="","",Packages!$W7) | L13: =IF(Packages!$A7="","",Packages!$X7)
A14: =IF(Packages!$A8="","",Packages!$B8) | B14: =IF(Packages!$A8="","",Packages!$E8) | C14: =IF(Packages!$A8="","",Packages!$F8) | D14: =IF(Packages!$A8="","",Packages!$I8) | E14: =IF(Packages!$A8="","",Packages!$J8) | F14: =IF(Packages!$A8="","",Packages!$K8) | G14: =IF(Packages!$A8="","",Packages!$L8) | H14: =IF(Packages!$A8="","",Packages!$M8) | I14: =IF(Packages!$A8="","",Packages!$S8) | J14: =IF(Packages!$A8="","",Packages!$T8) | K14: =IF(Packages!$A8="","",Packages!$W8) | L14: =IF(Packages!$A8="","",Packages!$X8)
A15: =IF(Packages!$A9="","",Packages!$B9) | B15: =IF(Packages!$A9="","",Packages!$E9) | C15: =IF(Packages!$A9="","",Packages!$F9) | D15: =IF(Packages!$A9="","",Packages!$I9) | E15: =IF(Packages!$A9="","",Packages!$J9) | F15: =IF(Packages!$A9="","",Packages!$K9) | G15: =IF(Packages!$A9="","",Packages!$L9) | H15: =IF(Packages!$A9="","",Packages!$M9) | I15: =IF(Packages!$A9="","",Packages!$S9) | J15: =IF(Packages!$A9="","",Packages!$T9) | K15: =IF(Packages!$A9="","",Packages!$W9) | L15: =IF(Packages!$A9="","",Packages!$X9)
A16: =IF(Packages!$A10="","",Packages!$B10) | B16: =IF(Packages!$A10="","",Packages!$E10) | C16: =IF(Packages!$A10="","",Packages!$F10) | D16: =IF(Packages!$A10="","",Packages!$I10) | E16: =IF(Packages!$A10="","",Packages!$J10) | F16: =IF(Packages!$A10="","",Packages!$K10) | G16: =IF(Packages!$A10="","",Packages!$L10) | H16: =IF(Packages!$A10="","",Packages!$M10) | I16: =IF(Packages!$A10="","",Packages!$S10) | J16: =IF(Packages!$A10="","",Packages!$T10) | K16: =IF(Packages!$A10="","",Packages!$W10) | L16: =IF(Packages!$A10="","",Packages!$X10)
A17: =IF(Packages!$A11="","",Packages!$B11) | B17: =IF(Packages!$A11="","",Packages!$E11) | C17: =IF(Packages!$A11="","",Packages!$F11) | D17: =IF(Packages!$A11="","",Packages!$I11) | E17: =IF(Packages!$A11="","",Packages!$J11) | F17: =IF(Packages!$A11="","",Packages!$K11) | G17: =IF(Packages!$A11="","",Packages!$L11) | H17: =IF(Packages!$A11="","",Packages!$M11) | I17: =IF(Packages!$A11="","",Packages!$S11) | J17: =IF(Packages!$A11="","",Packages!$T11) | K17: =IF(Packages!$A11="","",Packages!$W11) | L17: =IF(Packages!$A11="","",Packages!$X11)
A18: =IF(Packages!$A12="","",Packages!$B12) | B18: =IF(Packages!$A12="","",Packages!$E12) | C18: =IF(Packages!$A12="","",Packages!$F12) | D18: =IF(Packages!$A12="","",Packages!$I12) | E18: =IF(Packages!$A12="","",Packages!$J12) | F18: =IF(Packages!$A12="","",Packages!$K12) | G18: =IF(Packages!$A12="","",Packages!$L12) | H18: =IF(Packages!$A12="","",Packages!$M12) | I18: =IF(Packages!$A12="","",Packages!$S12) | J18: =IF(Packages!$A12="","",Packages!$T12) | K18: =IF(Packages!$A12="","",Packages!$W12) | L18: =IF(Packages!$A12="","",Packages!$X12)
A19: =IF(Packages!$A13="","",Packages!$B13) | B19: =IF(Packages!$A13="","",Packages!$E13) | C19: =IF(Packages!$A13="","",Packages!$F13) | D19: =IF(Packages!$A13="","",Packages!$I13) | E19: =IF(Packages!$A13="","",Packages!$J13) | F19: =IF(Packages!$A13="","",Packages!$K13) | G19: =IF(Packages!$A13="","",Packages!$L13) | H19: =IF(Packages!$A13="","",Packages!$M13) | I19: =IF(Packages!$A13="","",Packages!$S13) | J19: =IF(Packages!$A13="","",Packages!$T13) | K19: =IF(Packages!$A13="","",Packages!$W13) | L19: =IF(Packages!$A13="","",Packages!$X13)
A20: =IF(Packages!$A14="","",Packages!$B14) | B20: =IF(Packages!$A14="","",Packages!$E14) | C20: =IF(Packages!$A14="","",Packages!$F14) | D20: =IF(Packages!$A14="","",Packages!$I14) | E20: =IF(Packages!$A14="","",Packages!$J14) | F20: =IF(Packages!$A14="","",Packages!$K14) | G20: =IF(Packages!$A14="","",Packages!$L14) | H20: =IF(Packages!$A14="","",Packages!$M14) | I20: =IF(Packages!$A14="","",Packages!$S14) | J20: =IF(Packages!$A14="","",Packages!$T14) | K20: =IF(Packages!$A14="","",Packages!$W14) | L20: =IF(Packages!$A14="","",Packages!$X14)
A21: =IF(Packages!$A15="","",Packages!$B15) | B21: =IF(Packages!$A15="","",Packages!$E15) | C21: =IF(Packages!$A15="","",Packages!$F15) | D21: =IF(Packages!$A15="","",Packages!$I15) | E21: =IF(Packages!$A15="","",Packages!$J15) | F21: =IF(Packages!$A15="","",Packages!$K15) | G21: =IF(Packages!$A15="","",Packages!$L15) | H21: =IF(Packages!$A15="","",Packages!$M15) | I21: =IF(Packages!$A15="","",Packages!$S15) | J21: =IF(Packages!$A15="","",Packages!$T15) | K21: =IF(Packages!$A15="","",Packages!$W15) | L21: =IF(Packages!$A15="","",Packages!$X15)

Sheet Packages
A1: Landscaping Service Package Comparison
A2: Edit yellow cells. Calculated internal costs and margins use the visible assumptions.
A3: Package ID | B3: Package Name | C3: Property Profile | D3: Lawn Area (sq ft) | E3: Visit Frequency | F3: Planned Visits per Year | G3: Crew Type | H3: Equipment Set | I3: Mowing | J3: Edging | K3: Shrub Trimming | L3: Bed Weeding | M3: Leaf Cleanup | N3: Crew Hours per Visit | O3: Materials per Visit | P3: Labor Cost per Visit | Q3: Equipment Cost per Visit | R3: Internal Cost per Visit | S3: Annual Internal Cost | T3: Annual Price | U3: Price per Visit | V3: Gross Margin | W3: Gross Margin % | X3: Status | Y3: Review Date | Z3: Notes
A4: FPK-001 | B4: Fictional Meadow Essentials | C4: Fictional Small Residential | D4: 5500 | E4: Weekly | F4: 40 | G4: Standard Crew | H4: Mower Set | I4: Yes | J4: Yes | K4: No | L4: Yes | M4: No | N4: 1.2 | O4: 6 | P4: =IF(A4="","",IF(OR(G4="",NOT(ISNUMBER(N4))),"",IFERROR(VLOOKUP(G4,Assumptions!$A$4:$B$6,2,FALSE)*N4,""))) | Q4: =IF(A4="","",IF(H4="","",IFERROR(VLOOKUP(H4,Assumptions!$D$4:$E$6,2,FALSE),""))) | R4: =IF(A4="","",IF(OR(P4="",Q4="",NOT(ISNUMBER(O4))),"",IFERROR(SUM(P4,Q4,O4),""))) | S4: =IF(A4="","",IF(OR(NOT(ISNUMBER(F4)),NOT(ISNUMBER(R4))),"",IFERROR(F4*R4,""))) | T4: 5600 | U4: =IF(A4="","",IF(OR(NOT(ISNUMBER(T4)),NOT(ISNUMBER(F4))),"",IFERROR(T4/F4,""))) | V4: =IF(A4="","",IF(OR(NOT(ISNUMBER(T4)),NOT(ISNUMBER(S4))),"",IFERROR(T4-S4,""))) | W4: =IF(A4="","",IF(OR(NOT(ISNUMBER(T4)),NOT(ISNUMBER(V4))),"",IFERROR(V4/T4,""))) | X4: Ready to Quote | Y4: 46306 | Z4: Fictional sample for routine lawn presentation.
A5: FPK-002 | B5: Fictional Meadow Plus | C5: Fictional Small Residential | D5: 8000 | E5: Every Two Weeks | F5: 24 | G5: Standard Crew | H5: Full Grounds Kit | I5: Yes | J5: Yes | K5: Yes | L5: Yes | M5: No | N5: 2.1 | O5: 14 | P5: =IF(A5="","",IF(OR(G5="",NOT(ISNUMBER(N5))),"",IFERROR(VLOOKUP(G5,Assumptions!$A$4:$B$6,2,FALSE)*N5,""))) | Q5: =IF(A5="","",IF(H5="","",IFERROR(VLOOKUP(H5,Assumptions!$D$4:$E$6,2,FALSE),""))) | R5: =IF(A5="","",IF(OR(P5="",Q5="",NOT(ISNUMBER(O5))),"",IFERROR(SUM(P5,Q5,O5),""))) | S5: =IF(A5="","",IF(OR(NOT(ISNUMBER(F5)),NOT(ISNUMBER(R5))),"",IFERROR(F5*R5,""))) | T5: 5000 | U5: =IF(A5="","",IF(OR(NOT(ISNUMBER(T5)),NOT(ISNUMBER(F5))),"",IFERROR(T5/F5,""))) | V5: =IF(A5="","",IF(OR(NOT(ISNUMBER(T5)),NOT(ISNUMBER(S5))),"",IFERROR(T5-S5,""))) | W5: =IF(A5="","",IF(OR(NOT(ISNUMBER(T5)),NOT(ISNUMBER(V5))),"",IFERROR(V5/T5,""))) | X5: Needs Review | Y5: 46266 | Z5: Fictional sample with a margin and review-date alert.
A6: FPK-003 | B6: Fictional Meadow Complete | C6: Fictional Large Residential | D6: 18000 | E6: Weekly | F6: 42 | G6: Enhanced Crew | H6: Full Grounds Kit | I6: Yes | J6: Yes | K6: Yes | L6: Yes | M6: Yes | N6: 2.8 | O6: 22 | P6: =IF(A6="","",IF(OR(G6="",NOT(ISNUMBER(N6))),"",IFERROR(VLOOKUP(G6,Assumptions!$A$4:$B$6,2,FALSE)*N6,""))) | Q6: =IF(A6="","",IF(H6="","",IFERROR(VLOOKUP(H6,Assumptions!$D$4:$E$6,2,FALSE),""))) | R6: =IF(A6="","",IF(OR(P6="",Q6="",NOT(ISNUMBER(O6))),"",IFERROR(SUM(P6,Q6,O6),""))) | S6: =IF(A6="","",IF(OR(NOT(ISNUMBER(F6)),NOT(ISNUMBER(R6))),"",IFERROR(F6*R6,""))) | T6: 16500 | U6: =IF(A6="","",IF(OR(NOT(ISNUMBER(T6)),NOT(ISNUMBER(F6))),"",IFERROR(T6/F6,""))) | V6: =IF(A6="","",IF(OR(NOT(ISNUMBER(T6)),NOT(ISNUMBER(S6))),"",IFERROR(T6-S6,""))) | W6: =IF(A6="","",IF(OR(NOT(ISNUMBER(T6)),NOT(ISNUMBER(V6))),"",IFERROR(V6/T6,""))) | X6: Ready to Quote | Y6: 46321 | Z6: Fictional full-inclusion package.
A7: FPK-004 | B7: Fictional Courtyard Care | C7: Fictional Community Area | D7: 1200 | E7: Monthly | F7: 12 | G7: Standard Crew | H7: Hand Tools | I7: No | J7: Yes | K7: Yes | L7: Yes | M7: No | N7: 1.5 | O7: 8 | P7: =IF(A7="","",IF(OR(G7="",NOT(ISNUMBER(N7))),"",IFERROR(VLOOKUP(G7,Assumptions!$A$4:$B$6,2,FALSE)*N7,""))) | Q7: =IF(A7="","",IF(H7="","",IFERROR(VLOOKUP(H7,Assumptions!$D$4:$E$6,2,FALSE),""))) | R7: =IF(A7="","",IF(OR(P7="",Q7="",NOT(ISNUMBER(O7))),"",IFERROR(SUM(P7,Q7,O7),""))) | S7: =IF(A7="","",IF(OR(NOT(ISNUMBER(F7)),NOT(ISNUMBER(R7))),"",IFERROR(F7*R7,""))) | T7: 2200 | U7: =IF(A7="","",IF(OR(NOT(ISNUMBER(T7)),NOT(ISNUMBER(F7))),"",IFERROR(T7/F7,""))) | V7: =IF(A7="","",IF(OR(NOT(ISNUMBER(T7)),NOT(ISNUMBER(S7))),"",IFERROR(T7-S7,""))) | W7: =IF(A7="","",IF(OR(NOT(ISNUMBER(T7)),NOT(ISNUMBER(V7))),"",IFERROR(V7/T7,""))) | X7: Draft | Y7: 46296 | Z7: Fictional package for a compact planted area.
A8: FPK-005 | B8: Fictional Commons Standard | C8: Fictional Commercial Grounds | D8: 30000 | E8: Every Two Weeks | F8: 26 | G8: Standard Crew | H8: Full Grounds Kit | I8: Yes | J8: Yes | K8: No | L8: Yes | M8: Yes | N8: 4.2 | O8: 18 | P8: =IF(A8="","",IF(OR(G8="",NOT(ISNUMBER(N8))),"",IFERROR(VLOOKUP(G8,Assumptions!$A$4:$B$6,2,FALSE)*N8,""))) | Q8: =IF(A8="","",IF(H8="","",IFERROR(VLOOKUP(H8,Assumptions!$D$4:$E$6,2,FALSE),""))) | R8: =IF(A8="","",IF(OR(P8="",Q8="",NOT(ISNUMBER(O8))),"",IFERROR(SUM(P8,Q8,O8),""))) | S8: =IF(A8="","",IF(OR(NOT(ISNUMBER(F8)),NOT(ISNUMBER(R8))),"",IFERROR(F8*R8,""))) | T8: 10800 | U8: =IF(A8="","",IF(OR(NOT(ISNUMBER(T8)),NOT(ISNUMBER(F8))),"",IFERROR(T8/F8,""))) | V8: =IF(A8="","",IF(OR(NOT(ISNUMBER(T8)),NOT(ISNUMBER(S8))),"",IFERROR(T8-S8,""))) | W8: =IF(A8="","",IF(OR(NOT(ISNUMBER(T8)),NOT(ISNUMBER(V8))),"",IFERROR(V8/T8,""))) | X8: Ready to Quote | Y8: 46336 | Z8: Fictional sample with an intentional frequency variance.
A9: FPK-006 | B9: Fictional Commons Enhanced | C9: Fictional Community Area | D9: 48000 | E9: Weekly | F9: 48 | G9: Enhanced Crew | H9: Full Grounds Kit | I9: Yes | J9: Yes | K9: Yes | L9: Yes | M9: Yes | N9: 6 | O9: 35 | P9: =IF(A9="","",IF(OR(G9="",NOT(ISNUMBER(N9))),"",IFERROR(VLOOKUP(G9,Assumptions!$A$4:$B$6,2,FALSE)*N9,""))) | Q9: =IF(A9="","",IF(H9="","",IFERROR(VLOOKUP(H9,Assumptions!$D$4:$E$6,2,FALSE),""))) | R9: =IF(A9="","",IF(OR(P9="",Q9="",NOT(ISNUMBER(O9))),"",IFERROR(SUM(P9,Q9,O9),""))) | S9: =IF(A9="","",IF(OR(NOT(ISNUMBER(F9)),NOT(ISNUMBER(R9))),"",IFERROR(F9*R9,""))) | T9: 35000 | U9: =IF(A9="","",IF(OR(NOT(ISNUMBER(T9)),NOT(ISNUMBER(F9))),"",IFERROR(T9/F9,""))) | V9: =IF(A9="","",IF(OR(NOT(ISNUMBER(T9)),NOT(ISNUMBER(S9))),"",IFERROR(T9-S9,""))) | W9: =IF(A9="","",IF(OR(NOT(ISNUMBER(T9)),NOT(ISNUMBER(V9))),"",IFERROR(V9/T9,""))) | X9: Draft | Y9: 46351 | Z9: Fictional high-visit comparison package.
A10: FPK-007 | B10: Fictional Estate Seasonal | C10: Fictional Large Residential | D10: 65000 | E10: Seasonal | F10: 6 | G10: Specialty Crew | H10: Full Grounds Kit | I10: No | J10: No | K10: Yes | L10: Yes | M10: Yes | N10: 7.5 | O10: 80 | P10: =IF(A10="","",IF(OR(G10="",NOT(ISNUMBER(N10))),"",IFERROR(VLOOKUP(G10,Assumptions!$A$4:$B$6,2,FALSE)*N10,""))) | Q10: =IF(A10="","",IF(H10="","",IFERROR(VLOOKUP(H10,Assumptions!$D$4:$E$6,2,FALSE),""))) | R10: =IF(A10="","",IF(OR(P10="",Q10="",NOT(ISNUMBER(O10))),"",IFERROR(SUM(P10,Q10,O10),""))) | S10: =IF(A10="","",IF(OR(NOT(ISNUMBER(F10)),NOT(ISNUMBER(R10))),"",IFERROR(F10*R10,""))) | T10: 7200 | U10: =IF(A10="","",IF(OR(NOT(ISNUMBER(T10)),NOT(ISNUMBER(F10))),"",IFERROR(T10/F10,""))) | V10: =IF(A10="","",IF(OR(NOT(ISNUMBER(T10)),NOT(ISNUMBER(S10))),"",IFERROR(T10-S10,""))) | W10: =IF(A10="","",IF(OR(NOT(ISNUMBER(T10)),NOT(ISNUMBER(V10))),"",IFERROR(V10/T10,""))) | X10: Ready to Quote | Y10: 46366 | Z10: Fictional seasonal landscape-care package.
A11: FPK-008 | B11: Fictional Retail Edge | C11: Fictional Commercial Grounds | D11: 9500 | E11: Monthly | F11: 12 | G11: Standard Crew | H11: Mower Set | I11: Yes | J11: Yes | K11: No | L11: Yes | M11: No | N11: 2.5 | O11: 12 | P11: =IF(A11="","",IF(OR(G11="",NOT(ISNUMBER(N11))),"",IFERROR(VLOOKUP(G11,Assumptions!$A$4:$B$6,2,FALSE)*N11,""))) | Q11: =IF(A11="","",IF(H11="","",IFERROR(VLOOKUP(H11,Assumptions!$D$4:$E$6,2,FALSE),""))) | R11: =IF(A11="","",IF(OR(P11="",Q11="",NOT(ISNUMBER(O11))),"",IFERROR(SUM(P11,Q11,O11),""))) | S11: =IF(A11="","",IF(OR(NOT(ISNUMBER(F11)),NOT(ISNUMBER(R11))),"",IFERROR(F11*R11,""))) | T11: 3200 | U11: =IF(A11="","",IF(OR(NOT(ISNUMBER(T11)),NOT(ISNUMBER(F11))),"",IFERROR(T11/F11,""))) | V11: =IF(A11="","",IF(OR(NOT(ISNUMBER(T11)),NOT(ISNUMBER(S11))),"",IFERROR(T11-S11,""))) | W11: =IF(A11="","",IF(OR(NOT(ISNUMBER(T11)),NOT(ISNUMBER(V11))),"",IFERROR(V11/T11,""))) | X11: Retired | Y11: 46246 | Z11: Fictional retired package retained for comparison.
A12: FPK-009 | B12: Fictional Office Green | C12: Fictional Commercial Grounds | D12: 22000 | E12: Every Two Weeks | F12: 24 | G12: Enhanced Crew | H12: Full Grounds Kit | I12: Yes | J12: Yes | K12: Yes | L12: Yes | M12: No | N12: 3.8 | O12: 24 | P12: =IF(A12="","",IF(OR(G12="",NOT(ISNUMBER(N12))),"",IFERROR(VLOOKUP(G12,Assumptions!$A$4:$B$6,2,FALSE)*N12,""))) | Q12: =IF(A12="","",IF(H12="","",IFERROR(VLOOKUP(H12,Assumptions!$D$4:$E$6,2,FALSE),""))) | R12: =IF(A12="","",IF(OR(P12="",Q12="",NOT(ISNUMBER(O12))),"",IFERROR(SUM(P12,Q12,O12),""))) | S12: =IF(A12="","",IF(OR(NOT(ISNUMBER(F12)),NOT(ISNUMBER(R12))),"",IFERROR(F12*R12,""))) | T12: 11200 | U12: =IF(A12="","",IF(OR(NOT(ISNUMBER(T12)),NOT(ISNUMBER(F12))),"",IFERROR(T12/F12,""))) | V12: =IF(A12="","",IF(OR(NOT(ISNUMBER(T12)),NOT(ISNUMBER(S12))),"",IFERROR(T12-S12,""))) | W12: =IF(A12="","",IF(OR(NOT(ISNUMBER(T12)),NOT(ISNUMBER(V12))),"",IFERROR(V12/T12,""))) | X12: Ready to Quote | Y12: 46311 | Z12: Fictional office-grounds package.
A13: FPK-010 | B13: Fictional One-Visit Reset | C13: Fictional Large Residential | D13: 40000 | E13: Custom | F13: 1 | G13: Specialty Crew | H13: Full Grounds Kit | I13: No | J13: Yes | K13: Yes | L13: Yes | M13: Yes | N13: 10 | O13: 150 | P13: =IF(A13="","",IF(OR(G13="",NOT(ISNUMBER(N13))),"",IFERROR(VLOOKUP(G13,Assumptions!$A$4:$B$6,2,FALSE)*N13,""))) | Q13: =IF(A13="","",IF(H13="","",IFERROR(VLOOKUP(H13,Assumptions!$D$4:$E$6,2,FALSE),""))) | R13: =IF(A13="","",IF(OR(P13="",Q13="",NOT(ISNUMBER(O13))),"",IFERROR(SUM(P13,Q13,O13),""))) | S13: =IF(A13="","",IF(OR(NOT(ISNUMBER(F13)),NOT(ISNUMBER(R13))),"",IFERROR(F13*R13,""))) | T13: 1650 | U13: =IF(A13="","",IF(OR(NOT(ISNUMBER(T13)),NOT(ISNUMBER(F13))),"",IFERROR(T13/F13,""))) | V13: =IF(A13="","",IF(OR(NOT(ISNUMBER(T13)),NOT(ISNUMBER(S13))),"",IFERROR(T13-S13,""))) | W13: =IF(A13="","",IF(OR(NOT(ISNUMBER(T13)),NOT(ISNUMBER(V13))),"",IFERROR(V13/T13,""))) | X13: Draft | Y13: 46290 | Z13: Fictional one-visit comparison with the minimum visit count.
P14: =IF(A14="","",IF(OR(G14="",NOT(ISNUMBER(N14))),"",IFERROR(VLOOKUP(G14,Assumptions!$A$4:$B$6,2,FALSE)*N14,""))) | Q14: =IF(A14="","",IF(H14="","",IFERROR(VLOOKUP(H14,Assumptions!$D$4:$E$6,2,FALSE),""))) | R14: =IF(A14="","",IF(OR(P14="",Q14="",NOT(ISNUMBER(O14))),"",IFERROR(SUM(P14,Q14,O14),""))) | S14: =IF(A14="","",IF(OR(NOT(ISNUMBER(F14)),NOT(ISNUMBER(R14))),"",IFERROR(F14*R14,""))) | U14: =IF(A14="","",IF(OR(NOT(ISNUMBER(T14)),NOT(ISNUMBER(F14))),"",IFERROR(T14/F14,""))) | V14: =IF(A14="","",IF(OR(NOT(ISNUMBER(T14)),NOT(ISNUMBER(S14))),"",IFERROR(T14-S14,""))) | W14: =IF(A14="","",IF(OR(NOT(ISNUMBER(T14)),NOT(ISNUMBER(V14))),"",IFERROR(V14/T14,"")))
P15: =IF(A15="","",IF(OR(G15="",NOT(ISNUMBER(N15))),"",IFERROR(VLOOKUP(G15,Assumptions!$A$4:$B$6,2,FALSE)*N15,""))) | Q15: =IF(A15="","",IF(H15="","",IFERROR(VLOOKUP(H15,Assumptions!$D$4:$E$6,2,FALSE),""))) | R15: =IF(A15="","",IF(OR(P15="",Q15="",NOT(ISNUMBER(O15))),"",IFERROR(SUM(P15,Q15,O15),""))) | S15: =IF(A15="","",IF(OR(NOT(ISNUMBER(F15)),NOT(ISNUMBER(R15))),"",IFERROR(F15*R15,""))) | U15: =IF(A15="","",IF(OR(NOT(ISNUMBER(T15)),NOT(ISNUMBER(F15))),"",IFERROR(T15/F15,""))) | V15: =IF(A15="","",IF(OR(NOT(ISNUMBER(T15)),NOT(ISNUMBER(S15))),"",IFERROR(T15-S15,""))) | W15: =IF(A15="","",IF(OR(NOT(ISNUMBER(T15)),NOT(ISNUMBER(V15))),"",IFERROR(V15/T15,"")))
P16: =IF(A16="","",IF(OR(G16="",NOT(ISNUMBER(N16))),"",IFERROR(VLOOKUP(G16,Assumptions!$A$4:$B$6,2,FALSE)*N16,""))) | Q16: =IF(A16="","",IF(H16="","",IFERROR(VLOOKUP(H16,Assumptions!$D$4:$E$6,2,FALSE),""))) | R16: =IF(A16="","",IF(OR(P16="",Q16="",NOT(ISNUMBER(O16))),"",IFERROR(SUM(P16,Q16,O16),""))) | S16: =IF(A16="","",IF(OR(NOT(ISNUMBER(F16)),NOT(ISNUMBER(R16))),"",IFERROR(F16*R16,""))) | U16: =IF(A16="","",IF(OR(NOT(ISNUMBER(T16)),NOT(ISNUMBER(F16))),"",IFERROR(T16/F16,""))) | V16: =IF(A16="","",IF(OR(NOT(ISNUMBER(T16)),NOT(ISNUMBER(S16))),"",IFERROR(T16-S16,""))) | W16: =IF(A16="","",IF(OR(NOT(ISNUMBER(T16)),NOT(ISNUMBER(V16))),"",IFERROR(V16/T16,"")))
P17: =IF(A17="","",IF(OR(G17="",NOT(ISNUMBER(N17))),"",IFERROR(VLOOKUP(G17,Assumptions!$A$4:$B$6,2,FALSE)*N17,""))) | Q17: =IF(A17="","",IF(H17="","",IFERROR(VLOOKUP(H17,Assumptions!$D$4:$E$6,2,FALSE),""))) | R17: =IF(A17="","",IF(OR(P17="",Q17="",NOT(ISNUMBER(O17))),"",IFERROR(SUM(P17,Q17,O17),""))) | S17: =IF(A17="","",IF(OR(NOT(ISNUMBER(F17)),NOT(ISNUMBER(R17))),"",IFERROR(F17*R17,""))) | U17: =IF(A17="","",IF(OR(NOT(ISNUMBER(T17)),NOT(ISNUMBER(F17))),"",IFERROR(T17/F17,""))) | V17: =IF(A17="","",IF(OR(NOT(ISNUMBER(T17)),NOT(ISNUMBER(S17))),"",IFERROR(T17-S17,""))) | W17: =IF(A17="","",IF(OR(NOT(ISNUMBER(T17)),NOT(ISNUMBER(V17))),"",IFERROR(V17/T17,"")))
P18: =IF(A18="","",IF(OR(G18="",NOT(ISNUMBER(N18))),"",IFERROR(VLOOKUP(G18,Assumptions!$A$4:$B$6,2,FALSE)*N18,""))) | Q18: =IF(A18="","",IF(H18="","",IFERROR(VLOOKUP(H18,Assumptions!$D$4:$E$6,2,FALSE),""))) | R18: =IF(A18="","",IF(OR(P18="",Q18="",NOT(ISNUMBER(O18))),"",IFERROR(SUM(P18,Q18,O18),""))) | S18: =IF(A18="","",IF(OR(NOT(ISNUMBER(F18)),NOT(ISNUMBER(R18))),"",IFERROR(F18*R18,""))) | U18: =IF(A18="","",IF(OR(NOT(ISNUMBER(T18)),NOT(ISNUMBER(F18))),"",IFERROR(T18/F18,""))) | V18: =IF(A18="","",IF(OR(NOT(ISNUMBER(T18)),NOT(ISNUMBER(S18))),"",IFERROR(T18-S18,""))) | W18: =IF(A18="","",IF(OR(NOT(ISNUMBER(T18)),NOT(ISNUMBER(V18))),"",IFERROR(V18/T18,"")))
P19: =IF(A19="","",IF(OR(G19="",NOT(ISNUMBER(N19))),"",IFERROR(VLOOKUP(G19,Assumptions!$A$4:$B$6,2,FALSE)*N19,""))) | Q19: =IF(A19="","",IF(H19="","",IFERROR(VLOOKUP(H19,Assumptions!$D$4:$E$6,2,FALSE),""))) | R19: =IF(A19="","",IF(OR(P19="",Q19="",NOT(ISNUMBER(O19))),"",IFERROR(SUM(P19,Q19,O19),""))) | S19: =IF(A19="","",IF(OR(NOT(ISNUMBER(F19)),NOT(ISNUMBER(R19))),"",IFERROR(F19*R19,""))) | U19: =IF(A19="","",IF(OR(NOT(ISNUMBER(T19)),NOT(ISNUMBER(F19))),"",IFERROR(T19/F19,""))) | V19: =IF(A19="","",IF(OR(NOT(ISNUMBER(T19)),NOT(ISNUMBER(S19))),"",IFERROR(T19-S19,""))) | W19: =IF(A19="","",IF(OR(NOT(ISNUMBER(T19)),NOT(ISNUMBER(V19))),"",IFERROR(V19/T19,"")))
P20: =IF(A20="","",IF(OR(G20="",NOT(ISNUMBER(N20))),"",IFERROR(VLOOKUP(G20,Assumptions!$A$4:$B$6,2,FALSE)*N20,""))) | Q20: =IF(A20="","",IF(H20="","",IFERROR(VLOOKUP(H20,Assumptions!$D$4:$E$6,2,FALSE),""))) | R20: =IF(A20="","",IF(OR(P20="",Q20="",NOT(ISNUMBER(O20))),"",IFERROR(SUM(P20,Q20,O20),""))) | S20: =IF(A20="","",IF(OR(NOT(ISNUMBER(F20)),NOT(ISNUMBER(R20))),"",IFERROR(F20*R20,""))) | U20: =IF(A20="","",IF(OR(NOT(ISNUMBER(T20)),NOT(ISNUMBER(F20))),"",IFERROR(T20/F20,""))) | V20: =IF(A20="","",IF(OR(NOT(ISNUMBER(T20)),NOT(ISNUMBER(S20))),"",IFERROR(T20-S20,""))) | W20: =IF(A20="","",IF(OR(NOT(ISNUMBER(T20)),NOT(ISNUMBER(V20))),"",IFERROR(V20/T20,"")))
P21: =IF(A21="","",IF(OR(G21="",NOT(ISNUMBER(N21))),"",IFERROR(VLOOKUP(G21,Assumptions!$A$4:$B$6,2,FALSE)*N21,""))) | Q21: =IF(A21="","",IF(H21="","",IFERROR(VLOOKUP(H21,Assumptions!$D$4:$E$6,2,FALSE),""))) | R21: =IF(A21="","",IF(OR(P21="",Q21="",NOT(ISNUMBER(O21))),"",IFERROR(SUM(P21,Q21,O21),""))) | S21: =IF(A21="","",IF(OR(NOT(ISNUMBER(F21)),NOT(ISNUMBER(R21))),"",IFERROR(F21*R21,""))) | U21: =IF(A21="","",IF(OR(NOT(ISNUMBER(T21)),NOT(ISNUMBER(F21))),"",IFERROR(T21/F21,""))) | V21: =IF(A21="","",IF(OR(NOT(ISNUMBER(T21)),NOT(ISNUMBER(S21))),"",IFERROR(T21-S21,""))) | W21: =IF(A21="","",IF(OR(NOT(ISNUMBER(T21)),NOT(ISNUMBER(V21))),"",IFERROR(V21/T21,"")))
P22: =IF(A22="","",IF(OR(G22="",NOT(ISNUMBER(N22))),"",IFERROR(VLOOKUP(G22,Assumptions!$A$4:$B$6,2,FALSE)*N22,""))) | Q22: =IF(A22="","",IF(H22="","",IFERROR(VLOOKUP(H22,Assumptions!$D$4:$E$6,2,FALSE),""))) | R22: =IF(A22="","",IF(OR(P22="",Q22="",NOT(ISNUMBER(O22))),"",IFERROR(SUM(P22,Q22,O22),""))) | S22: =IF(A22="","",IF(OR(NOT(ISNUMBER(F22)),NOT(ISNUMBER(R22))),"",IFERROR(F22*R22,""))) | U22: =IF(A22="","",IF(OR(NOT(ISNUMBER(T22)),NOT(ISNUMBER(F22))),"",IFERROR(T22/F22,""))) | V22: =IF(A22="","",IF(OR(NOT(ISNUMBER(T22)),NOT(ISNUMBER(S22))),"",IFERROR(T22-S22,""))) | W22: =IF(A22="","",IF(OR(NOT(ISNUMBER(T22)),NOT(ISNUMBER(V22))),"",IFERROR(V22/T22,"")))
P23: =IF(A23="","",IF(OR(G23="",NOT(ISNUMBER(N23))),"",IFERROR(VLOOKUP(G23,Assumptions!$A$4:$B$6,2,FALSE)*N23,""))) | Q23: =IF(A23="","",IF(H23="","",IFERROR(VLOOKUP(H23,Assumptions!$D$4:$E$6,2,FALSE),""))) | R23: =IF(A23="","",IF(OR(P23="",Q23="",NOT(ISNUMBER(O23))),"",IFERROR(SUM(P23,Q23,O23),""))) | S23: =IF(A23="","",IF(OR(NOT(ISNUMBER(F23)),NOT(ISNUMBER(R23))),"",IFERROR(F23*R23,""))) | U23: =IF(A23="","",IF(OR(NOT(ISNUMBER(T23)),NOT(ISNUMBER(F23))),"",IFERROR(T23/F23,""))) | V23: =IF(A23="","",IF(OR(NOT(ISNUMBER(T23)),NOT(ISNUMBER(S23))),"",IFERROR(T23-S23,""))) | W23: =IF(A23="","",IF(OR(NOT(ISNUMBER(T23)),NOT(ISNUMBER(V23))),"",IFERROR(V23/T23,"")))
P24: =IF(A24="","",IF(OR(G24="",NOT(ISNUMBER(N24))),"",IFERROR(VLOOKUP(G24,Assumptions!$A$4:$B$6,2,FALSE)*N24,""))) | Q24: =IF(A24="","",IF(H24="","",IFERROR(VLOOKUP(H24,Assumptions!$D$4:$E$6,2,FALSE),""))) | R24: =IF(A24="","",IF(OR(P24="",Q24="",NOT(ISNUMBER(O24))),"",IFERROR(SUM(P24,Q24,O24),""))) | S24: =IF(A24="","",IF(OR(NOT(ISNUMBER(F24)),NOT(ISNUMBER(R24))),"",IFERROR(F24*R24,""))) | U24: =IF(A24="","",IF(OR(NOT(ISNUMBER(T24)),NOT(ISNUMBER(F24))),"",IFERROR(T24/F24,""))) | V24: =IF(A24="","",IF(OR(NOT(ISNUMBER(T24)),NOT(ISNUMBER(S24))),"",IFERROR(T24-S24,""))) | W24: =IF(A24="","",IF(OR(NOT(ISNUMBER(T24)),NOT(ISNUMBER(V24))),"",IFERROR(V24/T24,"")))
P25: =IF(A25="","",IF(OR(G25="",NOT(ISNUMBER(N25))),"",IFERROR(VLOOKUP(G25,Assumptions!$A$4:$B$6,2,FALSE)*N25,""))) | Q25: =IF(A25="","",IF(H25="","",IFERROR(VLOOKUP(H25,Assumptions!$D$4:$E$6,2,FALSE),""))) | R25: =IF(A25="","",IF(OR(P25="",Q25="",NOT(ISNUMBER(O25))),"",IFERROR(SUM(P25,Q25,O25),""))) | S25: =IF(A25="","",IF(OR(NOT(ISNUMBER(F25)),NOT(ISNUMBER(R25))),"",IFERROR(F25*R25,""))) | U25: =IF(A25="","",IF(OR(NOT(ISNUMBER(T25)),NOT(ISNUMBER(F25))),"",IFERROR(T25/F25,""))) | V25: =IF(A25="","",IF(OR(NOT(ISNUMBER(T25)),NOT(ISNUMBER(S25))),"",IFERROR(T25-S25,""))) | W25: =IF(A25="","",IF(OR(NOT(ISNUMBER(T25)),NOT(ISNUMBER(V25))),"",IFERROR(V25/T25,"")))
... P103: =IF(A103="","",IF(OR(G103="",NOT(ISNUMBER(N103))),"",IFERROR(VLOOKUP(G103,Assumptions!$A$4:$B$6,2,FALSE)*N103,""))) | Q103: =IF(A103="","",IF(H103="","",IFERROR(VLOOKUP(H103,Assumptions!$D$4:$E$6,2,FALSE),""))) | R103: =IF(A103="","",IF(OR(P103="",Q103="",NOT(ISNUMBER(O103))),"",IFERROR(SUM(P103,Q103,O103),""))) | S103: =IF(A103="","",IF(OR(NOT(ISNUMBER(F103)),NOT(ISNUMBER(R103))),"",IFERROR(F103*R103,""))) | U103: =IF(A103="","",IF(OR(NOT(ISNUMBER(T103)),NOT(ISNUMBER(F103))),"",IFERROR(T103/F103,""))) | V103: =IF(A103="","",IF(OR(NOT(ISNUMBER(T103)),NOT(ISNUMBER(S103))),"",IFERROR(T103-S103,""))) | W103: =IF(A103="","",IF(OR(NOT(ISNUMBER(T103)),NOT(ISNUMBER(V103))),"",IFERROR(V103/T103,"")))

Sheet Assumptions
A1: Package Comparison Assumptions
A2: Yellow cells are editable fictional planning inputs, reference values, and limits.
A3: Crew Type | B3: Loaded Cost per Hour | D3: Equipment Set | E3: Cost per Visit | G3: Visit Frequency | H3: Reference Visits per Year
A4: Standard Crew | B4: 62 | D4: Mower Set | E4: 18 | G4: Weekly | H4: 42
A5: Enhanced Crew | B5: 78 | D5: Full Grounds Kit | E5: 28 | G5: Every Two Weeks | H5: 24
A6: Specialty Crew | B6: 95 | D6: Hand Tools | E6: 8 | G6: Monthly | H6: 12
G7: Seasonal | H7: 6
G8: Custom | H8: 1
A11: Property Profile | D11: Inclusion Choice | G11: Package Status
A12: Fictional Small Residential | D12: Yes | G12: Draft
A13: Fictional Large Residential | D13: No | G13: Ready to Quote
A14: Fictional Commercial Grounds | G14: Needs Review
A15: Fictional Community Area | G15: Retired
A19: Input Field | B19: Minimum | C19: Maximum | E19: Review Assumption | F19: Value
A20: Lawn Area (sq ft) | B20: 0 | C20: 1000000 | E20: Gross Margin Review Threshold | F20: 0.25
A21: Planned Visits per Year | B21: 1 | C21: 365
A22: Crew Hours per Visit | B22: 0 | C22: 100
A23: Materials per Visit | B23: 0 | C23: 10000
A24: Annual Price | B24: 0 | C24: 1000000
A25: Review Date | B25: 46023 | C25: 48213
A28: Use Notes
A29: Reference values are fictional planning inputs, not promised rates. Color alerts identify entries for human review only.
A30: A planned visit count that differs from its frequency reference is highlighted for review and may still be intentional.
