Workbook

Sheet Summary
A1: Lawn Care Contract Renewal Tracker
A3: As of | B3: =TODAY() | D3: Summary Horizon (Days) | E3: =IFERROR(Assumptions!$B$5,"")
A5: Contract Indicator | B5: Result | D5: Value Indicator | E5: Result
A6: Tracked Contracts | B6: =IFERROR(COUNTIF(Contracts!$A$6:$A$105,"<>"),"") | D6: Tracked Annual Value | E6: =IFERROR(SUMIF(Contracts!$A$6:$A$105,"<>",Contracts!$H$6:$H$105),"")
A8: Renewal Windows Open | B8: =IFERROR(COUNTIFS(Contracts!$L$6:$L$105,"<="&TODAY(),Contracts!$L$6:$L$105,"<>",Contracts!$F$6:$F$105,">="&TODAY(),Contracts!$J$6:$J$105,"<>",Contracts!$J$6:$J$105,"<>Renewed",Contracts!$J$6:$J$105,"<>Not Renewing"),"") | D8: Value Due in Horizon | E8: =IFERROR(SUMIFS(Contracts!$H$6:$H$105,Contracts!$F$6:$F$105,">="&TODAY(),Contracts!$F$6:$F$105,"<="&TODAY()+Assumptions!$B$5,Contracts!$J$6:$J$105,"<>",Contracts!$J$6:$J$105,"<>Renewed",Contracts!$J$6:$J$105,"<>Not Renewing"),"")
A10: Renewed | B10: =IFERROR(COUNTIFS(Contracts!$A$6:$A$105,"<>",Contracts!$J$6:$J$105,"Renewed"),"") | D10: Expired Open | E10: =IFERROR(COUNTIFS(Contracts!$F$6:$F$105,"<"&TODAY(),Contracts!$F$6:$F$105,"<>",Contracts!$J$6:$J$105,"<>",Contracts!$J$6:$J$105,"<>Renewed",Contracts!$J$6:$J$105,"<>Not Renewing"),"")
A12: Expiring in Urgent Days | B12: =IFERROR(COUNTIFS(Contracts!$F$6:$F$105,">="&TODAY(),Contracts!$F$6:$F$105,"<="&TODAY()+Assumptions!$B$6,Contracts!$J$6:$J$105,"<>",Contracts!$J$6:$J$105,"<>Renewed",Contracts!$J$6:$J$105,"<>Not Renewing"),"") | D12: Average Annual Value | E12: =IFERROR(SUMIF(Contracts!$A$6:$A$105,"<>",Contracts!$H$6:$H$105)/COUNTIFS(Contracts!$A$6:$A$105,"<>",Contracts!$H$6:$H$105,"<>"),"")
A16: Renewal Status | B16: Contracts
A17: =Assumptions!$B$13 | B17: =IFERROR(COUNTIFS(Contracts!$A$6:$A$105,"<>",Contracts!$J$6:$J$105,$A17),"")
A18: =Assumptions!$B$14 | B18: =IFERROR(COUNTIFS(Contracts!$A$6:$A$105,"<>",Contracts!$J$6:$J$105,$A18),"")
A19: =Assumptions!$B$15 | B19: =IFERROR(COUNTIFS(Contracts!$A$6:$A$105,"<>",Contracts!$J$6:$J$105,$A19),"")
A20: =Assumptions!$B$16 | B20: =IFERROR(COUNTIFS(Contracts!$A$6:$A$105,"<>",Contracts!$J$6:$J$105,$A20),"")
A21: =Assumptions!$B$17 | B21: =IFERROR(COUNTIFS(Contracts!$A$6:$A$105,"<>",Contracts!$J$6:$J$105,$A21),"")
A22: =Assumptions!$B$18 | B22: =IFERROR(COUNTIFS(Contracts!$A$6:$A$105,"<>",Contracts!$J$6:$J$105,$A22),"")

Sheet Contracts
A1: Contract Renewal Register
A3: Enter contract terms and use date-based alerts as prompts for human review.
A5: Contract ID | B5: Customer | C5: Property | D5: Primary Service | E5: Start Date | F5: End Date | G5: Contract Term | H5: Annual Amount | I5: Account Owner | J5: Renewal Status | K5: Notice Days | L5: Window Opens | M5: Next Action Date | N5: Days to Expiration | O5: Review Alert
A6: FIC-2026-001 | B6: Fictional Cedar Lantern HOA | C6: Fictional Cedar Lantern Grounds | D6: Full grounds care | E6: 45926 | F6: 46291 | G6: 12 months | H6: 18400 | I6: Fictional Rep A | J6: Proposal Sent | K6: 60 | L6: =IF(OR($F6="",$K6=""),"",IFERROR($F6-$K6,"")) | M6: 46275 | N6: =IF($F6="","",IFERROR($F6-TODAY(),"")) | O6: =IF($A6="","",IF($J6="Renewed","Renewed",IF($J6="Not Renewing","Closed - not renewing",IF(OR($F6="",$K6="",$J6=""),"Check missing fields",IFERROR(IF($F6<TODAY(),"Expired - human review",IF(AND($M6<>"",$M6<TODAY()),"Action date passed",IF($F6<=TODAY()+Assumptions!$B$6,"Expires soon",IF($L6<=TODAY(),"Renewal window open","Upcoming")))),"Check assumptions")))))
A7: FIC-2026-002 | B7: Fictional Blue Kite Offices | C7: Fictional Blue Kite Campus | D7: Weekly mowing | E7: 45956 | F7: 46321 | G7: 12 months | H7: 12600 | I7: Fictional Rep B | J7: Contacted | K7: 60 | L7: =IF(OR($F7="",$K7=""),"",IFERROR($F7-$K7,"")) | M7: 46279 | N7: =IF($F7="","",IFERROR($F7-TODAY(),"")) | O7: =IF($A7="","",IF($J7="Renewed","Renewed",IF($J7="Not Renewing","Closed - not renewing",IF(OR($F7="",$K7="",$J7=""),"Check missing fields",IFERROR(IF($F7<TODAY(),"Expired - human review",IF(AND($M7<>"",$M7<TODAY()),"Action date passed",IF($F7<=TODAY()+Assumptions!$B$6,"Expires soon",IF($L7<=TODAY(),"Renewal window open","Upcoming")))),"Check assumptions")))))
A8: FIC-2026-003 | B8: Fictional Amber Acorn Retail | C8: Fictional Amber Acorn Plaza | D8: Biweekly mowing | E8: 46011 | F8: 46376 | G8: 12 months | H8: 8400 | I8: Fictional Rep C | J8: Not Started | K8: 60 | L8: =IF(OR($F8="",$K8=""),"",IFERROR($F8-$K8,"")) | N8: =IF($F8="","",IFERROR($F8-TODAY(),"")) | O8: =IF($A8="","",IF($J8="Renewed","Renewed",IF($J8="Not Renewing","Closed - not renewing",IF(OR($F8="",$K8="",$J8=""),"Check missing fields",IFERROR(IF($F8<TODAY(),"Expired - human review",IF(AND($M8<>"",$M8<TODAY()),"Action date passed",IF($F8<=TODAY()+Assumptions!$B$6,"Expires soon",IF($L8<=TODAY(),"Renewal window open","Upcoming")))),"Check assumptions")))))
A9: FIC-2026-004 | B9: Fictional Moonlit Brick Community | C9: Fictional Moonlit Brick Commons | D9: Seasonal cleanup | E9: 46092 | F9: 46274 | G9: 6 months | H9: 6900 | I9: Fictional Rep A | J9: Contacted | K9: 45 | L9: =IF(OR($F9="",$K9=""),"",IFERROR($F9-$K9,"")) | M9: 46271 | N9: =IF($F9="","",IFERROR($F9-TODAY(),"")) | O9: =IF($A9="","",IF($J9="Renewed","Renewed",IF($J9="Not Renewing","Closed - not renewing",IF(OR($F9="",$K9="",$J9=""),"Check missing fields",IFERROR(IF($F9<TODAY(),"Expired - human review",IF(AND($M9<>"",$M9<TODAY()),"Action date passed",IF($F9<=TODAY()+Assumptions!$B$6,"Expires soon",IF($L9<=TODAY(),"Renewal window open","Upcoming")))),"Check assumptions")))))
A10: FIC-2026-005 | B10: Fictional Silver Sprout Studio | C10: Fictional Silver Sprout Courtyard | D10: Mulch bed maintenance | E10: 45746 | F10: 46476 | G10: 24 months | H10: 9400 | I10: Fictional Rep D | J10: Renewed | K10: 90 | L10: =IF(OR($F10="",$K10=""),"",IFERROR($F10-$K10,"")) | N10: =IF($F10="","",IFERROR($F10-TODAY(),"")) | O10: =IF($A10="","",IF($J10="Renewed","Renewed",IF($J10="Not Renewing","Closed - not renewing",IF(OR($F10="",$K10="",$J10=""),"Check missing fields",IFERROR(IF($F10<TODAY(),"Expired - human review",IF(AND($M10<>"",$M10<TODAY()),"Action date passed",IF($F10<=TODAY()+Assumptions!$B$6,"Expires soon",IF($L10<=TODAY(),"Renewal window open","Upcoming")))),"Check assumptions")))))
A11: FIC-2026-006 | B11: Fictional Paper Meadow Center | C11: Fictional Paper Meadow Lawn | D11: Shrub trimming | E11: 45941 | F11: 46306 | G11: 12 months | H11: 5600 | I11: Fictional Rep B | J11: Not Renewing | K11: 30 | L11: =IF(OR($F11="",$K11=""),"",IFERROR($F11-$K11,"")) | N11: =IF($F11="","",IFERROR($F11-TODAY(),"")) | O11: =IF($A11="","",IF($J11="Renewed","Renewed",IF($J11="Not Renewing","Closed - not renewing",IF(OR($F11="",$K11="",$J11=""),"Check missing fields",IFERROR(IF($F11<TODAY(),"Expired - human review",IF(AND($M11<>"",$M11<TODAY()),"Action date passed",IF($F11<=TODAY()+Assumptions!$B$6,"Expires soon",IF($L11<=TODAY(),"Renewal window open","Upcoming")))),"Check assumptions")))))
A12: FIC-2026-007 | B12: Fictional Copper Cloud Association | C12: Fictional Copper Cloud Grounds | D12: Full grounds care | E12: 45971 | F12: 46336 | G12: 12 months | H12: 22100 | I12: Fictional Rep C | J12: On Hold | K12: 60 | L12: =IF(OR($F12="",$K12=""),"",IFERROR($F12-$K12,"")) | M12: 46283 | N12: =IF($F12="","",IFERROR($F12-TODAY(),"")) | O12: =IF($A12="","",IF($J12="Renewed","Renewed",IF($J12="Not Renewing","Closed - not renewing",IF(OR($F12="",$K12="",$J12=""),"Check missing fields",IFERROR(IF($F12<TODAY(),"Expired - human review",IF(AND($M12<>"",$M12<TODAY()),"Action date passed",IF($F12<=TODAY()+Assumptions!$B$6,"Expires soon",IF($L12<=TODAY(),"Renewal window open","Upcoming")))),"Check assumptions")))))
A13: FIC-2026-008 | B13: Fictional Green Comet Shops | C13: Fictional Green Comet Landscape | D13: Irrigation inspection | E13: 45911 | F13: 46641 | G13: 24 months | H13: 4800 | I13: Fictional Rep D | J13: Not Started | K13: 365 | L13: =IF(OR($F13="",$K13=""),"",IFERROR($F13-$K13,"")) | N13: =IF($F13="","",IFERROR($F13-TODAY(),"")) | O13: =IF($A13="","",IF($J13="Renewed","Renewed",IF($J13="Not Renewing","Closed - not renewing",IF(OR($F13="",$K13="",$J13=""),"Check missing fields",IFERROR(IF($F13<TODAY(),"Expired - human review",IF(AND($M13<>"",$M13<TODAY()),"Action date passed",IF($F13<=TODAY()+Assumptions!$B$6,"Expires soon",IF($L13<=TODAY(),"Renewal window open","Upcoming")))),"Check assumptions")))))
A14: FIC-2026-009 | B14: Fictional Maple Pixel Cooperative | C14: Fictional Maple Pixel Green | D14: Weekly mowing | E14: 46251 | F14: 46281 | G14: Month-to-month | H14: 3900 | I14: Fictional Rep A | J14: Proposal Sent | K14: 0 | L14: =IF(OR($F14="",$K14=""),"",IFERROR($F14-$K14,"")) | M14: 46276 | N14: =IF($F14="","",IFERROR($F14-TODAY(),"")) | O14: =IF($A14="","",IF($J14="Renewed","Renewed",IF($J14="Not Renewing","Closed - not renewing",IF(OR($F14="",$K14="",$J14=""),"Check missing fields",IFERROR(IF($F14<TODAY(),"Expired - human review",IF(AND($M14<>"",$M14<TODAY()),"Action date passed",IF($F14<=TODAY()+Assumptions!$B$6,"Expires soon",IF($L14<=TODAY(),"Renewal window open","Upcoming")))),"Check assumptions")))))
A15: FIC-2026-010 | B15: Fictional Sunbeam Gate Offices | C15: Fictional Sunbeam Gate Grounds | D15: Full grounds care | E15: 46001 | F15: 46366 | G15: 12 months | H15: 15750 | I15: Fictional Rep B | J15: Contacted | K15: 120 | L15: =IF(OR($F15="",$K15=""),"",IFERROR($F15-$K15,"")) | M15: 46290 | N15: =IF($F15="","",IFERROR($F15-TODAY(),"")) | O15: =IF($A15="","",IF($J15="Renewed","Renewed",IF($J15="Not Renewing","Closed - not renewing",IF(OR($F15="",$K15="",$J15=""),"Check missing fields",IFERROR(IF($F15<TODAY(),"Expired - human review",IF(AND($M15<>"",$M15<TODAY()),"Action date passed",IF($F15<=TODAY()+Assumptions!$B$6,"Expires soon",IF($L15<=TODAY(),"Renewal window open","Upcoming")))),"Check assumptions")))))
L16: =IF(OR($F16="",$K16=""),"",IFERROR($F16-$K16,"")) | N16: =IF($F16="","",IFERROR($F16-TODAY(),"")) | O16: =IF($A16="","",IF($J16="Renewed","Renewed",IF($J16="Not Renewing","Closed - not renewing",IF(OR($F16="",$K16="",$J16=""),"Check missing fields",IFERROR(IF($F16<TODAY(),"Expired - human review",IF(AND($M16<>"",$M16<TODAY()),"Action date passed",IF($F16<=TODAY()+Assumptions!$B$6,"Expires soon",IF($L16<=TODAY(),"Renewal window open","Upcoming")))),"Check assumptions")))))
L17: =IF(OR($F17="",$K17=""),"",IFERROR($F17-$K17,"")) | N17: =IF($F17="","",IFERROR($F17-TODAY(),"")) | O17: =IF($A17="","",IF($J17="Renewed","Renewed",IF($J17="Not Renewing","Closed - not renewing",IF(OR($F17="",$K17="",$J17=""),"Check missing fields",IFERROR(IF($F17<TODAY(),"Expired - human review",IF(AND($M17<>"",$M17<TODAY()),"Action date passed",IF($F17<=TODAY()+Assumptions!$B$6,"Expires soon",IF($L17<=TODAY(),"Renewal window open","Upcoming")))),"Check assumptions")))))
L18: =IF(OR($F18="",$K18=""),"",IFERROR($F18-$K18,"")) | N18: =IF($F18="","",IFERROR($F18-TODAY(),"")) | O18: =IF($A18="","",IF($J18="Renewed","Renewed",IF($J18="Not Renewing","Closed - not renewing",IF(OR($F18="",$K18="",$J18=""),"Check missing fields",IFERROR(IF($F18<TODAY(),"Expired - human review",IF(AND($M18<>"",$M18<TODAY()),"Action date passed",IF($F18<=TODAY()+Assumptions!$B$6,"Expires soon",IF($L18<=TODAY(),"Renewal window open","Upcoming")))),"Check assumptions")))))
L19: =IF(OR($F19="",$K19=""),"",IFERROR($F19-$K19,"")) | N19: =IF($F19="","",IFERROR($F19-TODAY(),"")) | O19: =IF($A19="","",IF($J19="Renewed","Renewed",IF($J19="Not Renewing","Closed - not renewing",IF(OR($F19="",$K19="",$J19=""),"Check missing fields",IFERROR(IF($F19<TODAY(),"Expired - human review",IF(AND($M19<>"",$M19<TODAY()),"Action date passed",IF($F19<=TODAY()+Assumptions!$B$6,"Expires soon",IF($L19<=TODAY(),"Renewal window open","Upcoming")))),"Check assumptions")))))
L20: =IF(OR($F20="",$K20=""),"",IFERROR($F20-$K20,"")) | N20: =IF($F20="","",IFERROR($F20-TODAY(),"")) | O20: =IF($A20="","",IF($J20="Renewed","Renewed",IF($J20="Not Renewing","Closed - not renewing",IF(OR($F20="",$K20="",$J20=""),"Check missing fields",IFERROR(IF($F20<TODAY(),"Expired - human review",IF(AND($M20<>"",$M20<TODAY()),"Action date passed",IF($F20<=TODAY()+Assumptions!$B$6,"Expires soon",IF($L20<=TODAY(),"Renewal window open","Upcoming")))),"Check assumptions")))))
L21: =IF(OR($F21="",$K21=""),"",IFERROR($F21-$K21,"")) | N21: =IF($F21="","",IFERROR($F21-TODAY(),"")) | O21: =IF($A21="","",IF($J21="Renewed","Renewed",IF($J21="Not Renewing","Closed - not renewing",IF(OR($F21="",$K21="",$J21=""),"Check missing fields",IFERROR(IF($F21<TODAY(),"Expired - human review",IF(AND($M21<>"",$M21<TODAY()),"Action date passed",IF($F21<=TODAY()+Assumptions!$B$6,"Expires soon",IF($L21<=TODAY(),"Renewal window open","Upcoming")))),"Check assumptions")))))
L22: =IF(OR($F22="",$K22=""),"",IFERROR($F22-$K22,"")) | N22: =IF($F22="","",IFERROR($F22-TODAY(),"")) | O22: =IF($A22="","",IF($J22="Renewed","Renewed",IF($J22="Not Renewing","Closed - not renewing",IF(OR($F22="",$K22="",$J22=""),"Check missing fields",IFERROR(IF($F22<TODAY(),"Expired - human review",IF(AND($M22<>"",$M22<TODAY()),"Action date passed",IF($F22<=TODAY()+Assumptions!$B$6,"Expires soon",IF($L22<=TODAY(),"Renewal window open","Upcoming")))),"Check assumptions")))))
L23: =IF(OR($F23="",$K23=""),"",IFERROR($F23-$K23,"")) | N23: =IF($F23="","",IFERROR($F23-TODAY(),"")) | O23: =IF($A23="","",IF($J23="Renewed","Renewed",IF($J23="Not Renewing","Closed - not renewing",IF(OR($F23="",$K23="",$J23=""),"Check missing fields",IFERROR(IF($F23<TODAY(),"Expired - human review",IF(AND($M23<>"",$M23<TODAY()),"Action date passed",IF($F23<=TODAY()+Assumptions!$B$6,"Expires soon",IF($L23<=TODAY(),"Renewal window open","Upcoming")))),"Check assumptions")))))
L24: =IF(OR($F24="",$K24=""),"",IFERROR($F24-$K24,"")) | N24: =IF($F24="","",IFERROR($F24-TODAY(),"")) | O24: =IF($A24="","",IF($J24="Renewed","Renewed",IF($J24="Not Renewing","Closed - not renewing",IF(OR($F24="",$K24="",$J24=""),"Check missing fields",IFERROR(IF($F24<TODAY(),"Expired - human review",IF(AND($M24<>"",$M24<TODAY()),"Action date passed",IF($F24<=TODAY()+Assumptions!$B$6,"Expires soon",IF($L24<=TODAY(),"Renewal window open","Upcoming")))),"Check assumptions")))))
L25: =IF(OR($F25="",$K25=""),"",IFERROR($F25-$K25,"")) | N25: =IF($F25="","",IFERROR($F25-TODAY(),"")) | O25: =IF($A25="","",IF($J25="Renewed","Renewed",IF($J25="Not Renewing","Closed - not renewing",IF(OR($F25="",$K25="",$J25=""),"Check missing fields",IFERROR(IF($F25<TODAY(),"Expired - human review",IF(AND($M25<>"",$M25<TODAY()),"Action date passed",IF($F25<=TODAY()+Assumptions!$B$6,"Expires soon",IF($L25<=TODAY(),"Renewal window open","Upcoming")))),"Check assumptions")))))
L26: =IF(OR($F26="",$K26=""),"",IFERROR($F26-$K26,"")) | N26: =IF($F26="","",IFERROR($F26-TODAY(),"")) | O26: =IF($A26="","",IF($J26="Renewed","Renewed",IF($J26="Not Renewing","Closed - not renewing",IF(OR($F26="",$K26="",$J26=""),"Check missing fields",IFERROR(IF($F26<TODAY(),"Expired - human review",IF(AND($M26<>"",$M26<TODAY()),"Action date passed",IF($F26<=TODAY()+Assumptions!$B$6,"Expires soon",IF($L26<=TODAY(),"Renewal window open","Upcoming")))),"Check assumptions")))))
L27: =IF(OR($F27="",$K27=""),"",IFERROR($F27-$K27,"")) | N27: =IF($F27="","",IFERROR($F27-TODAY(),"")) | O27: =IF($A27="","",IF($J27="Renewed","Renewed",IF($J27="Not Renewing","Closed - not renewing",IF(OR($F27="",$K27="",$J27=""),"Check missing fields",IFERROR(IF($F27<TODAY(),"Expired - human review",IF(AND($M27<>"",$M27<TODAY()),"Action date passed",IF($F27<=TODAY()+Assumptions!$B$6,"Expires soon",IF($L27<=TODAY(),"Renewal window open","Upcoming")))),"Check assumptions")))))
... L105: =IF(OR($F105="",$K105=""),"",IFERROR($F105-$K105,"")) | N105: =IF($F105="","",IFERROR($F105-TODAY(),"")) | O105: =IF($A105="","",IF($J105="Renewed","Renewed",IF($J105="Not Renewing","Closed - not renewing",IF(OR($F105="",$K105="",$J105=""),"Check missing fields",IFERROR(IF($F105<TODAY(),"Expired - human review",IF(AND($M105<>"",$M105<TODAY()),"Action date passed",IF($F105<=TODAY()+Assumptions!$B$6,"Expires soon",IF($L105<=TODAY(),"Renewal window open","Upcoming")))),"Check assumptions")))))

Sheet Assumptions
A1: Renewal Assumptions
A3: Edit renewal windows, accepted date limits, and stable contract choices.
A4: Editable Setting | B4: Value
A5: Summary horizon (days) | B5: 90
A6: Urgent expiration days | B6: 30
A7: Maximum notice days | B7: 365
A8: Earliest accepted contract date | B8: 42370
A9: Latest accepted contract date | B9: 50040
A12: Service Choices | B12: Renewal Statuses | C12: Contract Terms | D12: Account Owners
A13: Weekly mowing | B13: Not Started | C13: Month-to-month | D13: Fictional Rep A
A14: Biweekly mowing | B14: Contacted | C14: 6 months | D14: Fictional Rep B
A15: Full grounds care | B15: Proposal Sent | C15: 12 months | D15: Fictional Rep C
A16: Seasonal cleanup | B16: Renewed | C16: 24 months | D16: Fictional Rep D
A17: Mulch bed maintenance | B17: Not Renewing
A18: Shrub trimming | B18: On Hold
A19: Irrigation inspection
