Workbook

Sheet Summary
A1: Fictional Green Spruce Lawn Co. | Lawn Care Lead Tracker
A2: All sample prospects, properties, owners, and transactions are fictional. Indicators are calculated from the Leads sheet for planning and human review.
A3: As of | B3: =TODAY()
A4: Indicator | B4: Value | D4: Status | E4: Leads | F4: Est. Value | G4: Weighted Value
A5: Total leads | B5: =COUNTIF(Leads!$A$5:$A$104,"<>") | D5: =IF(Assumptions!$A$5="","",Assumptions!$A$5) | E5: =IF($D5="","",COUNTIF(Leads!$I$5:$I$104,$D5)) | F5: =IF($D5="","",SUMIF(Leads!$I$5:$I$104,$D5,Leads!$J$5:$J$104)) | G5: =IF($D5="","",SUMIF(Leads!$I$5:$I$104,$D5,Leads!$L$5:$L$104))
A6: Open leads | B6: =COUNTIFS(Leads!$A$5:$A$104,"<>",Leads!$I$5:$I$104,"<>Won",Leads!$I$5:$I$104,"<>Lost") | D6: =IF(Assumptions!$A$6="","",Assumptions!$A$6) | E6: =IF($D6="","",COUNTIF(Leads!$I$5:$I$104,$D6)) | F6: =IF($D6="","",SUMIF(Leads!$I$5:$I$104,$D6,Leads!$J$5:$J$104)) | G6: =IF($D6="","",SUMIF(Leads!$I$5:$I$104,$D6,Leads!$L$5:$L$104))
A7: Won leads | B7: =COUNTIF(Leads!$I$5:$I$104,"Won") | D7: =IF(Assumptions!$A$7="","",Assumptions!$A$7) | E7: =IF($D7="","",COUNTIF(Leads!$I$5:$I$104,$D7)) | F7: =IF($D7="","",SUMIF(Leads!$I$5:$I$104,$D7,Leads!$J$5:$J$104)) | G7: =IF($D7="","",SUMIF(Leads!$I$5:$I$104,$D7,Leads!$L$5:$L$104))
A8: Past-due follow-ups | B8: =COUNTIF(Leads!$Q$5:$Q$104,"Past due") | D8: =IF(Assumptions!$A$8="","",Assumptions!$A$8) | E8: =IF($D8="","",COUNTIF(Leads!$I$5:$I$104,$D8)) | F8: =IF($D8="","",SUMIF(Leads!$I$5:$I$104,$D8,Leads!$J$5:$J$104)) | G8: =IF($D8="","",SUMIF(Leads!$I$5:$I$104,$D8,Leads!$L$5:$L$104))
A9: Estimated open pipeline | B9: =SUMIFS(Leads!$J$5:$J$104,Leads!$A$5:$A$104,"<>",Leads!$I$5:$I$104,"<>Won",Leads!$I$5:$I$104,"<>Lost") | D9: =IF(Assumptions!$A$9="","",Assumptions!$A$9) | E9: =IF($D9="","",COUNTIF(Leads!$I$5:$I$104,$D9)) | F9: =IF($D9="","",SUMIF(Leads!$I$5:$I$104,$D9,Leads!$J$5:$J$104)) | G9: =IF($D9="","",SUMIF(Leads!$I$5:$I$104,$D9,Leads!$L$5:$L$104))
A10: Weighted open pipeline | B10: =SUMIFS(Leads!$L$5:$L$104,Leads!$A$5:$A$104,"<>",Leads!$I$5:$I$104,"<>Won",Leads!$I$5:$I$104,"<>Lost") | D10: =IF(Assumptions!$A$10="","",Assumptions!$A$10) | E10: =IF($D10="","",COUNTIF(Leads!$I$5:$I$104,$D10)) | F10: =IF($D10="","",SUMIF(Leads!$I$5:$I$104,$D10,Leads!$J$5:$J$104)) | G10: =IF($D10="","",SUMIF(Leads!$I$5:$I$104,$D10,Leads!$L$5:$L$104))
A11: Won value | B11: =SUMIFS(Leads!$J$5:$J$104,Leads!$A$5:$A$104,"<>",Leads!$I$5:$I$104,"Won") | D11: =IF(Assumptions!$A$11="","",Assumptions!$A$11) | E11: =IF($D11="","",COUNTIF(Leads!$I$5:$I$104,$D11)) | F11: =IF($D11="","",SUMIF(Leads!$I$5:$I$104,$D11,Leads!$J$5:$J$104)) | G11: =IF($D11="","",SUMIF(Leads!$I$5:$I$104,$D11,Leads!$L$5:$L$104))
A12: Lead-to-won rate | B12: =IFERROR(B7/B5,"")
A13: Average estimated lead value | B13: =IFERROR(AVERAGEIF(Leads!$A$5:$A$104,"<>",Leads!$J$5:$J$104),"")

Sheet Leads
A1: Fictional Green Spruce Lawn Co. | Lead Records
A2: Enter or update yellow cells. Formula columns calculate likelihood, weighted value, days open, and follow-up checks. Alerts require a human review.
A3: Yellow cells are editable. Use one unique lead ID per prospect.
A4: Lead ID | B4: Date Received | C4: Prospect | D4: Property | E4: Lawn Area (sq ft) | F4: Service Requested | G4: Lead Source | H4: Owner | I4: Status | J4: Est. Value | K4: Likelihood | L4: Weighted Value | M4: Next Action Date | N4: Next Action | O4: Close Date | P4: Days Open | Q4: Follow-up Check
A5: DEMO-001 | B5: 46274 | C5: Fictional Avery Pine | D5: Fictional Oak Lantern Residence | E5: 8500 | F5: Weekly Mowing | G5: Website | H5: Fictional Jordan Reed | I5: New | J5: 840 | K5: =IF(OR($A5="",$I5=""),"",IFERROR(VLOOKUP($I5,Assumptions!$A$5:$B$11,2,FALSE),"")) | L5: =IF(OR($A5="",$J5="",$K5=""),"",IFERROR($J5*$K5,"")) | M5: 46277 | N5: Call to confirm service scope | P5: =IF(OR($A5="",$B5=""),"",IF(OR($I5="Won",$I5="Lost"),IF($O5="","",IFERROR(MAX(0,$O5-$B5),"")),IFERROR(MAX(0,TODAY()-$B5),""))) | Q5: =IF($A5="","",IF($I5="","Set status",IF(OR($I5="Won",$I5="Lost"),IF($O5="","Add close date","Closed"),IF($M5="","Set next action",IF($M5<TODAY(),"Past due",IF($M5=TODAY(),"Due today","Scheduled"))))))
A6: DEMO-002 | B6: 46268 | C6: Fictional Harbor Finch HOA | D6: Fictional Harbor Finch Common Area | E6: 42000 | F6: Biweekly Mowing | G6: Referral | H6: Fictional Casey Brooks | I6: Contacted | J6: 3600 | K6: =IF(OR($A6="",$I6=""),"",IFERROR(VLOOKUP($I6,Assumptions!$A$5:$B$11,2,FALSE),"")) | L6: =IF(OR($A6="",$J6="",$K6=""),"",IFERROR($J6*$K6,"")) | M6: 46275 | N6: Send measurement questions | P6: =IF(OR($A6="",$B6=""),"",IF(OR($I6="Won",$I6="Lost"),IF($O6="","",IFERROR(MAX(0,$O6-$B6),"")),IFERROR(MAX(0,TODAY()-$B6),""))) | Q6: =IF($A6="","",IF($I6="","Set status",IF(OR($I6="Won",$I6="Lost"),IF($O6="","Add close date","Closed"),IF($M6="","Set next action",IF($M6<TODAY(),"Past due",IF($M6=TODAY(),"Due today","Scheduled"))))))
A7: DEMO-003 | B7: 46264 | C7: Fictional Rowan Meadow | D7: Fictional Rowan Meadow Residence | E7: 12400 | F7: Spring Cleanup | G7: Yard Sign | H7: Fictional Morgan Fields | I7: Qualified | J7: 975 | K7: =IF(OR($A7="",$I7=""),"",IFERROR(VLOOKUP($I7,Assumptions!$A$5:$B$11,2,FALSE),"")) | L7: =IF(OR($A7="",$J7="",$K7=""),"",IFERROR($J7*$K7,"")) | M7: 46276 | N7: Review cleanup details | P7: =IF(OR($A7="",$B7=""),"",IF(OR($I7="Won",$I7="Lost"),IF($O7="","",IFERROR(MAX(0,$O7-$B7),"")),IFERROR(MAX(0,TODAY()-$B7),""))) | Q7: =IF($A7="","",IF($I7="","Set status",IF(OR($I7="Won",$I7="Lost"),IF($O7="","Add close date","Closed"),IF($M7="","Set next action",IF($M7<TODAY(),"Past due",IF($M7=TODAY(),"Due today","Scheduled"))))))
A8: DEMO-004 | B8: 46260 | C8: Fictional Bluebird Offices | D8: Fictional Bluebird Office Grounds | E8: 68500 | F8: Mulch Installation | G8: Property Manager | H8: Fictional Jordan Reed | I8: Estimate Sent | J8: 4850 | K8: =IF(OR($A8="",$I8=""),"",IFERROR(VLOOKUP($I8,Assumptions!$A$5:$B$11,2,FALSE),"")) | L8: =IF(OR($A8="",$J8="",$K8=""),"",IFERROR($J8*$K8,"")) | M8: 46278 | N8: Review estimate with prospect | P8: =IF(OR($A8="",$B8=""),"",IF(OR($I8="Won",$I8="Lost"),IF($O8="","",IFERROR(MAX(0,$O8-$B8),"")),IFERROR(MAX(0,TODAY()-$B8),""))) | Q8: =IF($A8="","",IF($I8="","Set status",IF(OR($I8="Won",$I8="Lost"),IF($O8="","Add close date","Closed"),IF($M8="","Set next action",IF($M8<TODAY(),"Past due",IF($M8=TODAY(),"Due today","Scheduled"))))))
A9: DEMO-005 | B9: 46241 | C9: Fictional Willow Compass Household | D9: Fictional Willow Compass Corner Lot | E9: 7200 | F9: Shrub Trimming | G9: Community Event | H9: Fictional Casey Brooks | I9: Nurture | J9: 680 | K9: =IF(OR($A9="",$I9=""),"",IFERROR(VLOOKUP($I9,Assumptions!$A$5:$B$11,2,FALSE),"")) | L9: =IF(OR($A9="",$J9="",$K9=""),"",IFERROR($J9*$K9,"")) | M9: 46290 | N9: Check future project timing | P9: =IF(OR($A9="",$B9=""),"",IF(OR($I9="Won",$I9="Lost"),IF($O9="","",IFERROR(MAX(0,$O9-$B9),"")),IFERROR(MAX(0,TODAY()-$B9),""))) | Q9: =IF($A9="","",IF($I9="","Set status",IF(OR($I9="Won",$I9="Lost"),IF($O9="","Add close date","Closed"),IF($M9="","Set next action",IF($M9<TODAY(),"Past due",IF($M9=TODAY(),"Due today","Scheduled"))))))
A10: DEMO-006 | B10: 46248 | C10: Fictional Copper Acorn Center | D10: Fictional Copper Acorn Retail Grounds | E10: 92000 | F10: Landscape Refresh | G10: Referral | H10: Fictional Morgan Fields | I10: Won | J10: 6200 | K10: =IF(OR($A10="",$I10=""),"",IFERROR(VLOOKUP($I10,Assumptions!$A$5:$B$11,2,FALSE),"")) | L10: =IF(OR($A10="",$J10="",$K10=""),"",IFERROR($J10*$K10,"")) | O10: 46266 | P10: =IF(OR($A10="",$B10=""),"",IF(OR($I10="Won",$I10="Lost"),IF($O10="","",IFERROR(MAX(0,$O10-$B10),"")),IFERROR(MAX(0,TODAY()-$B10),""))) | Q10: =IF($A10="","",IF($I10="","Set status",IF(OR($I10="Won",$I10="Lost"),IF($O10="","Add close date","Closed"),IF($M10="","Set next action",IF($M10<TODAY(),"Past due",IF($M10=TODAY(),"Due today","Scheduled"))))))
A11: DEMO-007 | B11: 46255 | C11: Fictional Silver Kite Household | D11: Fictional Silver Kite Residence | E11: 9800 | F11: Aeration & Overseeding | G11: Phone Inquiry | H11: Fictional Jordan Reed | I11: Lost | J11: 1800 | K11: =IF(OR($A11="",$I11=""),"",IFERROR(VLOOKUP($I11,Assumptions!$A$5:$B$11,2,FALSE),"")) | L11: =IF(OR($A11="",$J11="",$K11=""),"",IFERROR($J11*$K11,"")) | O11: 46273 | P11: =IF(OR($A11="",$B11=""),"",IF(OR($I11="Won",$I11="Lost"),IF($O11="","",IFERROR(MAX(0,$O11-$B11),"")),IFERROR(MAX(0,TODAY()-$B11),""))) | Q11: =IF($A11="","",IF($I11="","Set status",IF(OR($I11="Won",$I11="Lost"),IF($O11="","Add close date","Closed"),IF($M11="","Set next action",IF($M11<TODAY(),"Past due",IF($M11=TODAY(),"Due today","Scheduled"))))))
A12: DEMO-008 | B12: 46275 | C12: Fictional Elm Teacup Studio | D12: Fictional Elm Teacup Studio Lawn | E12: 4500 | F12: Weekly Mowing | G12: Website | H12: Fictional Casey Brooks | I12: Contacted | J12: 720 | K12: =IF(OR($A12="",$I12=""),"",IFERROR(VLOOKUP($I12,Assumptions!$A$5:$B$11,2,FALSE),"")) | L12: =IF(OR($A12="",$J12="",$K12=""),"",IFERROR($J12*$K12,"")) | M12: 46279 | N12: Confirm preferred visit window | P12: =IF(OR($A12="",$B12=""),"",IF(OR($I12="Won",$I12="Lost"),IF($O12="","",IFERROR(MAX(0,$O12-$B12),"")),IFERROR(MAX(0,TODAY()-$B12),""))) | Q12: =IF($A12="","",IF($I12="","Set status",IF(OR($I12="Won",$I12="Lost"),IF($O12="","Add close date","Closed"),IF($M12="","Set next action",IF($M12<TODAY(),"Past due",IF($M12=TODAY(),"Due today","Scheduled"))))))
A13: DEMO-009 | B13: 46270 | C13: Fictional Juniper Clock HOA | D13: Fictional Juniper Clock Entry Lawn | E13: 31000 | F13: Fall Cleanup | G13: Property Manager | H13: Fictional Morgan Fields | I13: Qualified | J13: 2400 | K13: =IF(OR($A13="",$I13=""),"",IFERROR(VLOOKUP($I13,Assumptions!$A$5:$B$11,2,FALSE),"")) | L13: =IF(OR($A13="",$J13="",$K13=""),"",IFERROR($J13*$K13,"")) | M13: 46274 | N13: Confirm debris removal scope | P13: =IF(OR($A13="",$B13=""),"",IF(OR($I13="Won",$I13="Lost"),IF($O13="","",IFERROR(MAX(0,$O13-$B13),"")),IFERROR(MAX(0,TODAY()-$B13),""))) | Q13: =IF($A13="","",IF($I13="","Set status",IF(OR($I13="Won",$I13="Lost"),IF($O13="","Add close date","Closed"),IF($M13="","Set next action",IF($M13<TODAY(),"Past due",IF($M13=TODAY(),"Due today","Scheduled"))))))
A14: DEMO-010 | B14: 46266 | C14: Fictional Maple Rocket Household | D14: Fictional Maple Rocket Residence | E14: 15600 | F14: Biweekly Mowing | G14: Yard Sign | H14: Fictional Jordan Reed | I14: Estimate Sent | J14: 1560 | K14: =IF(OR($A14="",$I14=""),"",IFERROR(VLOOKUP($I14,Assumptions!$A$5:$B$11,2,FALSE),"")) | L14: =IF(OR($A14="",$J14="",$K14=""),"",IFERROR($J14*$K14,"")) | M14: 46281 | N14: Follow up on estimate questions | P14: =IF(OR($A14="",$B14=""),"",IF(OR($I14="Won",$I14="Lost"),IF($O14="","",IFERROR(MAX(0,$O14-$B14),"")),IFERROR(MAX(0,TODAY()-$B14),""))) | Q14: =IF($A14="","",IF($I14="","Set status",IF(OR($I14="Won",$I14="Lost"),IF($O14="","Add close date","Closed"),IF($M14="","Set next action",IF($M14<TODAY(),"Past due",IF($M14=TODAY(),"Due today","Scheduled"))))))
K15: =IF(OR($A15="",$I15=""),"",IFERROR(VLOOKUP($I15,Assumptions!$A$5:$B$11,2,FALSE),"")) | L15: =IF(OR($A15="",$J15="",$K15=""),"",IFERROR($J15*$K15,"")) | P15: =IF(OR($A15="",$B15=""),"",IF(OR($I15="Won",$I15="Lost"),IF($O15="","",IFERROR(MAX(0,$O15-$B15),"")),IFERROR(MAX(0,TODAY()-$B15),""))) | Q15: =IF($A15="","",IF($I15="","Set status",IF(OR($I15="Won",$I15="Lost"),IF($O15="","Add close date","Closed"),IF($M15="","Set next action",IF($M15<TODAY(),"Past due",IF($M15=TODAY(),"Due today","Scheduled"))))))
K16: =IF(OR($A16="",$I16=""),"",IFERROR(VLOOKUP($I16,Assumptions!$A$5:$B$11,2,FALSE),"")) | L16: =IF(OR($A16="",$J16="",$K16=""),"",IFERROR($J16*$K16,"")) | P16: =IF(OR($A16="",$B16=""),"",IF(OR($I16="Won",$I16="Lost"),IF($O16="","",IFERROR(MAX(0,$O16-$B16),"")),IFERROR(MAX(0,TODAY()-$B16),""))) | Q16: =IF($A16="","",IF($I16="","Set status",IF(OR($I16="Won",$I16="Lost"),IF($O16="","Add close date","Closed"),IF($M16="","Set next action",IF($M16<TODAY(),"Past due",IF($M16=TODAY(),"Due today","Scheduled"))))))
K17: =IF(OR($A17="",$I17=""),"",IFERROR(VLOOKUP($I17,Assumptions!$A$5:$B$11,2,FALSE),"")) | L17: =IF(OR($A17="",$J17="",$K17=""),"",IFERROR($J17*$K17,"")) | P17: =IF(OR($A17="",$B17=""),"",IF(OR($I17="Won",$I17="Lost"),IF($O17="","",IFERROR(MAX(0,$O17-$B17),"")),IFERROR(MAX(0,TODAY()-$B17),""))) | Q17: =IF($A17="","",IF($I17="","Set status",IF(OR($I17="Won",$I17="Lost"),IF($O17="","Add close date","Closed"),IF($M17="","Set next action",IF($M17<TODAY(),"Past due",IF($M17=TODAY(),"Due today","Scheduled"))))))
K18: =IF(OR($A18="",$I18=""),"",IFERROR(VLOOKUP($I18,Assumptions!$A$5:$B$11,2,FALSE),"")) | L18: =IF(OR($A18="",$J18="",$K18=""),"",IFERROR($J18*$K18,"")) | P18: =IF(OR($A18="",$B18=""),"",IF(OR($I18="Won",$I18="Lost"),IF($O18="","",IFERROR(MAX(0,$O18-$B18),"")),IFERROR(MAX(0,TODAY()-$B18),""))) | Q18: =IF($A18="","",IF($I18="","Set status",IF(OR($I18="Won",$I18="Lost"),IF($O18="","Add close date","Closed"),IF($M18="","Set next action",IF($M18<TODAY(),"Past due",IF($M18=TODAY(),"Due today","Scheduled"))))))
K19: =IF(OR($A19="",$I19=""),"",IFERROR(VLOOKUP($I19,Assumptions!$A$5:$B$11,2,FALSE),"")) | L19: =IF(OR($A19="",$J19="",$K19=""),"",IFERROR($J19*$K19,"")) | P19: =IF(OR($A19="",$B19=""),"",IF(OR($I19="Won",$I19="Lost"),IF($O19="","",IFERROR(MAX(0,$O19-$B19),"")),IFERROR(MAX(0,TODAY()-$B19),""))) | Q19: =IF($A19="","",IF($I19="","Set status",IF(OR($I19="Won",$I19="Lost"),IF($O19="","Add close date","Closed"),IF($M19="","Set next action",IF($M19<TODAY(),"Past due",IF($M19=TODAY(),"Due today","Scheduled"))))))
K20: =IF(OR($A20="",$I20=""),"",IFERROR(VLOOKUP($I20,Assumptions!$A$5:$B$11,2,FALSE),"")) | L20: =IF(OR($A20="",$J20="",$K20=""),"",IFERROR($J20*$K20,"")) | P20: =IF(OR($A20="",$B20=""),"",IF(OR($I20="Won",$I20="Lost"),IF($O20="","",IFERROR(MAX(0,$O20-$B20),"")),IFERROR(MAX(0,TODAY()-$B20),""))) | Q20: =IF($A20="","",IF($I20="","Set status",IF(OR($I20="Won",$I20="Lost"),IF($O20="","Add close date","Closed"),IF($M20="","Set next action",IF($M20<TODAY(),"Past due",IF($M20=TODAY(),"Due today","Scheduled"))))))
K21: =IF(OR($A21="",$I21=""),"",IFERROR(VLOOKUP($I21,Assumptions!$A$5:$B$11,2,FALSE),"")) | L21: =IF(OR($A21="",$J21="",$K21=""),"",IFERROR($J21*$K21,"")) | P21: =IF(OR($A21="",$B21=""),"",IF(OR($I21="Won",$I21="Lost"),IF($O21="","",IFERROR(MAX(0,$O21-$B21),"")),IFERROR(MAX(0,TODAY()-$B21),""))) | Q21: =IF($A21="","",IF($I21="","Set status",IF(OR($I21="Won",$I21="Lost"),IF($O21="","Add close date","Closed"),IF($M21="","Set next action",IF($M21<TODAY(),"Past due",IF($M21=TODAY(),"Due today","Scheduled"))))))
K22: =IF(OR($A22="",$I22=""),"",IFERROR(VLOOKUP($I22,Assumptions!$A$5:$B$11,2,FALSE),"")) | L22: =IF(OR($A22="",$J22="",$K22=""),"",IFERROR($J22*$K22,"")) | P22: =IF(OR($A22="",$B22=""),"",IF(OR($I22="Won",$I22="Lost"),IF($O22="","",IFERROR(MAX(0,$O22-$B22),"")),IFERROR(MAX(0,TODAY()-$B22),""))) | Q22: =IF($A22="","",IF($I22="","Set status",IF(OR($I22="Won",$I22="Lost"),IF($O22="","Add close date","Closed"),IF($M22="","Set next action",IF($M22<TODAY(),"Past due",IF($M22=TODAY(),"Due today","Scheduled"))))))
K23: =IF(OR($A23="",$I23=""),"",IFERROR(VLOOKUP($I23,Assumptions!$A$5:$B$11,2,FALSE),"")) | L23: =IF(OR($A23="",$J23="",$K23=""),"",IFERROR($J23*$K23,"")) | P23: =IF(OR($A23="",$B23=""),"",IF(OR($I23="Won",$I23="Lost"),IF($O23="","",IFERROR(MAX(0,$O23-$B23),"")),IFERROR(MAX(0,TODAY()-$B23),""))) | Q23: =IF($A23="","",IF($I23="","Set status",IF(OR($I23="Won",$I23="Lost"),IF($O23="","Add close date","Closed"),IF($M23="","Set next action",IF($M23<TODAY(),"Past due",IF($M23=TODAY(),"Due today","Scheduled"))))))
K24: =IF(OR($A24="",$I24=""),"",IFERROR(VLOOKUP($I24,Assumptions!$A$5:$B$11,2,FALSE),"")) | L24: =IF(OR($A24="",$J24="",$K24=""),"",IFERROR($J24*$K24,"")) | P24: =IF(OR($A24="",$B24=""),"",IF(OR($I24="Won",$I24="Lost"),IF($O24="","",IFERROR(MAX(0,$O24-$B24),"")),IFERROR(MAX(0,TODAY()-$B24),""))) | Q24: =IF($A24="","",IF($I24="","Set status",IF(OR($I24="Won",$I24="Lost"),IF($O24="","Add close date","Closed"),IF($M24="","Set next action",IF($M24<TODAY(),"Past due",IF($M24=TODAY(),"Due today","Scheduled"))))))
K25: =IF(OR($A25="",$I25=""),"",IFERROR(VLOOKUP($I25,Assumptions!$A$5:$B$11,2,FALSE),"")) | L25: =IF(OR($A25="",$J25="",$K25=""),"",IFERROR($J25*$K25,"")) | P25: =IF(OR($A25="",$B25=""),"",IF(OR($I25="Won",$I25="Lost"),IF($O25="","",IFERROR(MAX(0,$O25-$B25),"")),IFERROR(MAX(0,TODAY()-$B25),""))) | Q25: =IF($A25="","",IF($I25="","Set status",IF(OR($I25="Won",$I25="Lost"),IF($O25="","Add close date","Closed"),IF($M25="","Set next action",IF($M25<TODAY(),"Past due",IF($M25=TODAY(),"Due today","Scheduled"))))))
K26: =IF(OR($A26="",$I26=""),"",IFERROR(VLOOKUP($I26,Assumptions!$A$5:$B$11,2,FALSE),"")) | L26: =IF(OR($A26="",$J26="",$K26=""),"",IFERROR($J26*$K26,"")) | P26: =IF(OR($A26="",$B26=""),"",IF(OR($I26="Won",$I26="Lost"),IF($O26="","",IFERROR(MAX(0,$O26-$B26),"")),IFERROR(MAX(0,TODAY()-$B26),""))) | Q26: =IF($A26="","",IF($I26="","Set status",IF(OR($I26="Won",$I26="Lost"),IF($O26="","Add close date","Closed"),IF($M26="","Set next action",IF($M26<TODAY(),"Past due",IF($M26=TODAY(),"Due today","Scheduled"))))))
... K104: =IF(OR($A104="",$I104=""),"",IFERROR(VLOOKUP($I104,Assumptions!$A$5:$B$11,2,FALSE),"")) | L104: =IF(OR($A104="",$J104="",$K104=""),"",IFERROR($J104*$K104,"")) | P104: =IF(OR($A104="",$B104=""),"",IF(OR($I104="Won",$I104="Lost"),IF($O104="","",IFERROR(MAX(0,$O104-$B104),"")),IFERROR(MAX(0,TODAY()-$B104),""))) | Q104: =IF($A104="","",IF($I104="","Set status",IF(OR($I104="Won",$I104="Lost"),IF($O104="","Add close date","Closed"),IF($M104="","Set next action",IF($M104<TODAY(),"Past due",IF($M104=TODAY(),"Due today","Scheduled"))))))

Sheet Assumptions
A1: Fictional Green Spruce Lawn Co. | Lead Tracker Assumptions
A2: Edit yellow cells to match the business workflow. Likelihood percentages are planning assumptions, not guaranteed outcomes. Keep status labels unique.
A3: The Leads sheet uses these visible choices for validation and weighted pipeline calculations.
A4: Status | B4: Likelihood | D4: Service Choices | F4: Lead Sources | H4: Owners
A5: New | B5: 0.1 | D5: Weekly Mowing | F5: Website | H5: Fictional Jordan Reed
A6: Contacted | B6: 0.2 | D6: Biweekly Mowing | F6: Referral | H6: Fictional Casey Brooks
A7: Qualified | B7: 0.5 | D7: Spring Cleanup | F7: Yard Sign | H7: Fictional Morgan Fields
A8: Estimate Sent | B8: 0.7 | D8: Fall Cleanup | F8: Community Event
A9: Nurture | B9: 0.35 | D9: Mulch Installation | F9: Phone Inquiry
A10: Won | B10: 1 | D10: Shrub Trimming | F10: Property Manager
A11: Lost | B11: 0 | D11: Landscape Refresh
D12: Aeration & Overseeding
