Workbook

Sheet Summary
A1: Fictional Cedar Kite Lawn Care — Owner Draw Summary
A3: As of | B3: =TODAY() | D3: Record scope | E3: Owner withdrawals only
A5: Posted draws YTD | B5: =IFERROR(SUMIFS(Draws!$F$5:$F$104,Draws!$G$5:$G$104,"Posted",Draws!$B$5:$B$104,">="&DATE(YEAR(TODAY()),1,1),Draws!$B$5:$B$104,"<="&TODAY()),0) | D5: Posted transactions YTD | E5: =IFERROR(COUNTIFS(Draws!$G$5:$G$104,"Posted",Draws!$B$5:$B$104,">="&DATE(YEAR(TODAY()),1,1),Draws!$B$5:$B$104,"<="&TODAY()),0) | G5: Average posted draw YTD | H5: =IFERROR(B5/E5,"")
A8: Planned draws | B8: =IFERROR(SUMIF(Draws!$G$5:$G$104,"Planned",Draws!$F$5:$F$104),0) | D8: Posted draws all time | E8: =IFERROR(SUMIF(Draws!$G$5:$G$104,"Posted",Draws!$F$5:$F$104),0) | G8: Largest posted draw | H8: =IF(COUNT(Draws!$J$5:$J$104)=0,"",MAX(Draws!$J$5:$J$104))
A11: YTD plan through month | B11: =IFERROR(Assumptions!$F$5*MONTH(TODAY()),"") | D11: Plan less posted YTD | E11: =IFERROR(B11-B5,"") | G11: Entries above review amount | H11: =IFERROR(COUNTIFS(Draws!$F$5:$F$104,">"&Assumptions!$F$6,Draws!$G$5:$G$104,"<>Voided"),0)
A13: Owner draws remain separate from operating expenses in this workbook.
A15: Month | B15: Posted Draws | C15: Month Start
A16: Jan | B16: =IFERROR(SUMIFS(Draws!$F$5:$F$104,Draws!$G$5:$G$104,"Posted",Draws!$B$5:$B$104,">="&C16,Draws!$B$5:$B$104,"<"&DATE(YEAR(C16),MONTH(C16)+1,1),Draws!$B$5:$B$104,"<="&TODAY()),0) | C16: 46023
A17: Feb | B17: =IFERROR(SUMIFS(Draws!$F$5:$F$104,Draws!$G$5:$G$104,"Posted",Draws!$B$5:$B$104,">="&C17,Draws!$B$5:$B$104,"<"&DATE(YEAR(C17),MONTH(C17)+1,1),Draws!$B$5:$B$104,"<="&TODAY()),0) | C17: 46054
A18: Mar | B18: =IFERROR(SUMIFS(Draws!$F$5:$F$104,Draws!$G$5:$G$104,"Posted",Draws!$B$5:$B$104,">="&C18,Draws!$B$5:$B$104,"<"&DATE(YEAR(C18),MONTH(C18)+1,1),Draws!$B$5:$B$104,"<="&TODAY()),0) | C18: 46082
A19: Apr | B19: =IFERROR(SUMIFS(Draws!$F$5:$F$104,Draws!$G$5:$G$104,"Posted",Draws!$B$5:$B$104,">="&C19,Draws!$B$5:$B$104,"<"&DATE(YEAR(C19),MONTH(C19)+1,1),Draws!$B$5:$B$104,"<="&TODAY()),0) | C19: 46113
A20: May | B20: =IFERROR(SUMIFS(Draws!$F$5:$F$104,Draws!$G$5:$G$104,"Posted",Draws!$B$5:$B$104,">="&C20,Draws!$B$5:$B$104,"<"&DATE(YEAR(C20),MONTH(C20)+1,1),Draws!$B$5:$B$104,"<="&TODAY()),0) | C20: 46143
A21: Jun | B21: =IFERROR(SUMIFS(Draws!$F$5:$F$104,Draws!$G$5:$G$104,"Posted",Draws!$B$5:$B$104,">="&C21,Draws!$B$5:$B$104,"<"&DATE(YEAR(C21),MONTH(C21)+1,1),Draws!$B$5:$B$104,"<="&TODAY()),0) | C21: 46174
A22: Jul | B22: =IFERROR(SUMIFS(Draws!$F$5:$F$104,Draws!$G$5:$G$104,"Posted",Draws!$B$5:$B$104,">="&C22,Draws!$B$5:$B$104,"<"&DATE(YEAR(C22),MONTH(C22)+1,1),Draws!$B$5:$B$104,"<="&TODAY()),0) | C22: 46204
A23: Aug | B23: =IFERROR(SUMIFS(Draws!$F$5:$F$104,Draws!$G$5:$G$104,"Posted",Draws!$B$5:$B$104,">="&C23,Draws!$B$5:$B$104,"<"&DATE(YEAR(C23),MONTH(C23)+1,1),Draws!$B$5:$B$104,"<="&TODAY()),0) | C23: 46235
A24: Sep | B24: =IFERROR(SUMIFS(Draws!$F$5:$F$104,Draws!$G$5:$G$104,"Posted",Draws!$B$5:$B$104,">="&C24,Draws!$B$5:$B$104,"<"&DATE(YEAR(C24),MONTH(C24)+1,1),Draws!$B$5:$B$104,"<="&TODAY()),0) | C24: 46266

Sheet Draws
A1: Fictional Cedar Kite Lawn Care — Owner Draw Records
A2: Prepared input rows | B2: 100 | D2: Editable cells | E2: Yellow | G2: Amount rule | H2: Enter positive US dollars
A3: All sample entries are fictional. Enter owner withdrawals here instead of including them with operating expenses.
A4: Draw ID | B4: Draw Date | C4: Owner | D4: Source Account | E4: Method | F4: Amount | G4: Status | H4: Internal Note | I4: Month | J4: Posted Amount | K4: Record Check
A5: OD-2026-001 | B5: 46034 | C5: Jordan Vale (Fictional) | D5: Cedar Kite Operating Checking (Fictional) | E5: Bank Transfer | F5: 2800 | G5: Posted | H5: January owner withdrawal | I5: =IFERROR(IF(B5="","",DATE(YEAR(B5),MONTH(B5),1)),"") | J5: =IFERROR(IF(OR(B5="",F5="",G5=""),"",IF(G5="Posted",F5,"")),"") | K5: =IFERROR(IF(COUNTA(A5:H5)=0,"",IF(OR(A5="",B5="",C5="",D5="",E5="",F5="",G5=""),"Review missing input",IF(OR(F5<=0,F5>Assumptions!$F$7),"Review amount",IF(AND(G5="Posted",B5>TODAY()),"Review future posted date",IF(F5>Assumptions!$F$6,"Review large draw",IF(G5="Voided","Excluded",IF(G5="Planned","Planned","Ready"))))))),"Review input")
A6: OD-2026-002 | B6: 46062 | C6: Riley Moss (Fictional) | D6: Cedar Kite Operating Checking (Fictional) | E6: Check | F6: 1250 | G6: Posted | H6: February owner withdrawal | I6: =IFERROR(IF(B6="","",DATE(YEAR(B6),MONTH(B6),1)),"") | J6: =IFERROR(IF(OR(B6="",F6="",G6=""),"",IF(G6="Posted",F6,"")),"") | K6: =IFERROR(IF(COUNTA(A6:H6)=0,"",IF(OR(A6="",B6="",C6="",D6="",E6="",F6="",G6=""),"Review missing input",IF(OR(F6<=0,F6>Assumptions!$F$7),"Review amount",IF(AND(G6="Posted",B6>TODAY()),"Review future posted date",IF(F6>Assumptions!$F$6,"Review large draw",IF(G6="Voided","Excluded",IF(G6="Planned","Planned","Ready"))))))),"Review input")
A7: OD-2026-003 | B7: 46094 | C7: Jordan Vale (Fictional) | D7: Cedar Kite Operating Checking (Fictional) | E7: Bank Transfer | F7: 3000 | G7: Posted | H7: March owner withdrawal | I7: =IFERROR(IF(B7="","",DATE(YEAR(B7),MONTH(B7),1)),"") | J7: =IFERROR(IF(OR(B7="",F7="",G7=""),"",IF(G7="Posted",F7,"")),"") | K7: =IFERROR(IF(COUNTA(A7:H7)=0,"",IF(OR(A7="",B7="",C7="",D7="",E7="",F7="",G7=""),"Review missing input",IF(OR(F7<=0,F7>Assumptions!$F$7),"Review amount",IF(AND(G7="Posted",B7>TODAY()),"Review future posted date",IF(F7>Assumptions!$F$6,"Review large draw",IF(G7="Voided","Excluded",IF(G7="Planned","Planned","Ready"))))))),"Review input")
A8: OD-2026-004 | B8: 46122 | C8: Jordan Vale (Fictional) | D8: Cedar Kite Reserve Checking (Fictional) | E8: Check | F8: 2900 | G8: Posted | H8: April owner withdrawal | I8: =IFERROR(IF(B8="","",DATE(YEAR(B8),MONTH(B8),1)),"") | J8: =IFERROR(IF(OR(B8="",F8="",G8=""),"",IF(G8="Posted",F8,"")),"") | K8: =IFERROR(IF(COUNTA(A8:H8)=0,"",IF(OR(A8="",B8="",C8="",D8="",E8="",F8="",G8=""),"Review missing input",IF(OR(F8<=0,F8>Assumptions!$F$7),"Review amount",IF(AND(G8="Posted",B8>TODAY()),"Review future posted date",IF(F8>Assumptions!$F$6,"Review large draw",IF(G8="Voided","Excluded",IF(G8="Planned","Planned","Ready"))))))),"Review input")
A9: OD-2026-005 | B9: 46150 | C9: Riley Moss (Fictional) | D9: Cedar Kite Operating Checking (Fictional) | E9: Bank Transfer | F9: 1400 | G9: Posted | H9: May owner withdrawal | I9: =IFERROR(IF(B9="","",DATE(YEAR(B9),MONTH(B9),1)),"") | J9: =IFERROR(IF(OR(B9="",F9="",G9=""),"",IF(G9="Posted",F9,"")),"") | K9: =IFERROR(IF(COUNTA(A9:H9)=0,"",IF(OR(A9="",B9="",C9="",D9="",E9="",F9="",G9=""),"Review missing input",IF(OR(F9<=0,F9>Assumptions!$F$7),"Review amount",IF(AND(G9="Posted",B9>TODAY()),"Review future posted date",IF(F9>Assumptions!$F$6,"Review large draw",IF(G9="Voided","Excluded",IF(G9="Planned","Planned","Ready"))))))),"Review input")
A10: OD-2026-006 | B10: 46185 | C10: Jordan Vale (Fictional) | D10: Cedar Kite Operating Checking (Fictional) | E10: Bank Transfer | F10: 3100 | G10: Posted | H10: June owner withdrawal | I10: =IFERROR(IF(B10="","",DATE(YEAR(B10),MONTH(B10),1)),"") | J10: =IFERROR(IF(OR(B10="",F10="",G10=""),"",IF(G10="Posted",F10,"")),"") | K10: =IFERROR(IF(COUNTA(A10:H10)=0,"",IF(OR(A10="",B10="",C10="",D10="",E10="",F10="",G10=""),"Review missing input",IF(OR(F10<=0,F10>Assumptions!$F$7),"Review amount",IF(AND(G10="Posted",B10>TODAY()),"Review future posted date",IF(F10>Assumptions!$F$6,"Review large draw",IF(G10="Voided","Excluded",IF(G10="Planned","Planned","Ready"))))))),"Review input")
A11: OD-2026-007 | B11: 46213 | C11: Jordan Vale (Fictional) | D11: Cedar Kite Reserve Checking (Fictional) | E11: Check | F11: 3000 | G11: Posted | H11: July owner withdrawal | I11: =IFERROR(IF(B11="","",DATE(YEAR(B11),MONTH(B11),1)),"") | J11: =IFERROR(IF(OR(B11="",F11="",G11=""),"",IF(G11="Posted",F11,"")),"") | K11: =IFERROR(IF(COUNTA(A11:H11)=0,"",IF(OR(A11="",B11="",C11="",D11="",E11="",F11="",G11=""),"Review missing input",IF(OR(F11<=0,F11>Assumptions!$F$7),"Review amount",IF(AND(G11="Posted",B11>TODAY()),"Review future posted date",IF(F11>Assumptions!$F$6,"Review large draw",IF(G11="Voided","Excluded",IF(G11="Planned","Planned","Ready"))))))),"Review input")
A12: OD-2026-008 | B12: 46241 | C12: Riley Moss (Fictional) | D12: Cedar Kite Operating Checking (Fictional) | E12: Bank Transfer | F12: 1550 | G12: Posted | H12: August owner withdrawal | I12: =IFERROR(IF(B12="","",DATE(YEAR(B12),MONTH(B12),1)),"") | J12: =IFERROR(IF(OR(B12="",F12="",G12=""),"",IF(G12="Posted",F12,"")),"") | K12: =IFERROR(IF(COUNTA(A12:H12)=0,"",IF(OR(A12="",B12="",C12="",D12="",E12="",F12="",G12=""),"Review missing input",IF(OR(F12<=0,F12>Assumptions!$F$7),"Review amount",IF(AND(G12="Posted",B12>TODAY()),"Review future posted date",IF(F12>Assumptions!$F$6,"Review large draw",IF(G12="Voided","Excluded",IF(G12="Planned","Planned","Ready"))))))),"Review input")
A13: OD-2026-009 | B13: 46289 | C13: Jordan Vale (Fictional) | D13: Cedar Kite Operating Checking (Fictional) | E13: Bank Transfer | F13: 3000 | G13: Planned | H13: Planned owner withdrawal | I13: =IFERROR(IF(B13="","",DATE(YEAR(B13),MONTH(B13),1)),"") | J13: =IFERROR(IF(OR(B13="",F13="",G13=""),"",IF(G13="Posted",F13,"")),"") | K13: =IFERROR(IF(COUNTA(A13:H13)=0,"",IF(OR(A13="",B13="",C13="",D13="",E13="",F13="",G13=""),"Review missing input",IF(OR(F13<=0,F13>Assumptions!$F$7),"Review amount",IF(AND(G13="Posted",B13>TODAY()),"Review future posted date",IF(F13>Assumptions!$F$6,"Review large draw",IF(G13="Voided","Excluded",IF(G13="Planned","Planned","Ready"))))))),"Review input")
A14: OD-2026-010 | B14: 46108 | C14: Riley Moss (Fictional) | D14: Cedar Kite Operating Checking (Fictional) | E14: Check | F14: 250 | G14: Voided | H14: Canceled before withdrawal | I14: =IFERROR(IF(B14="","",DATE(YEAR(B14),MONTH(B14),1)),"") | J14: =IFERROR(IF(OR(B14="",F14="",G14=""),"",IF(G14="Posted",F14,"")),"") | K14: =IFERROR(IF(COUNTA(A14:H14)=0,"",IF(OR(A14="",B14="",C14="",D14="",E14="",F14="",G14=""),"Review missing input",IF(OR(F14<=0,F14>Assumptions!$F$7),"Review amount",IF(AND(G14="Posted",B14>TODAY()),"Review future posted date",IF(F14>Assumptions!$F$6,"Review large draw",IF(G14="Voided","Excluded",IF(G14="Planned","Planned","Ready"))))))),"Review input")
I15: =IFERROR(IF(B15="","",DATE(YEAR(B15),MONTH(B15),1)),"") | J15: =IFERROR(IF(OR(B15="",F15="",G15=""),"",IF(G15="Posted",F15,"")),"") | K15: =IFERROR(IF(COUNTA(A15:H15)=0,"",IF(OR(A15="",B15="",C15="",D15="",E15="",F15="",G15=""),"Review missing input",IF(OR(F15<=0,F15>Assumptions!$F$7),"Review amount",IF(AND(G15="Posted",B15>TODAY()),"Review future posted date",IF(F15>Assumptions!$F$6,"Review large draw",IF(G15="Voided","Excluded",IF(G15="Planned","Planned","Ready"))))))),"Review input")
I16: =IFERROR(IF(B16="","",DATE(YEAR(B16),MONTH(B16),1)),"") | J16: =IFERROR(IF(OR(B16="",F16="",G16=""),"",IF(G16="Posted",F16,"")),"") | K16: =IFERROR(IF(COUNTA(A16:H16)=0,"",IF(OR(A16="",B16="",C16="",D16="",E16="",F16="",G16=""),"Review missing input",IF(OR(F16<=0,F16>Assumptions!$F$7),"Review amount",IF(AND(G16="Posted",B16>TODAY()),"Review future posted date",IF(F16>Assumptions!$F$6,"Review large draw",IF(G16="Voided","Excluded",IF(G16="Planned","Planned","Ready"))))))),"Review input")
I17: =IFERROR(IF(B17="","",DATE(YEAR(B17),MONTH(B17),1)),"") | J17: =IFERROR(IF(OR(B17="",F17="",G17=""),"",IF(G17="Posted",F17,"")),"") | K17: =IFERROR(IF(COUNTA(A17:H17)=0,"",IF(OR(A17="",B17="",C17="",D17="",E17="",F17="",G17=""),"Review missing input",IF(OR(F17<=0,F17>Assumptions!$F$7),"Review amount",IF(AND(G17="Posted",B17>TODAY()),"Review future posted date",IF(F17>Assumptions!$F$6,"Review large draw",IF(G17="Voided","Excluded",IF(G17="Planned","Planned","Ready"))))))),"Review input")
I18: =IFERROR(IF(B18="","",DATE(YEAR(B18),MONTH(B18),1)),"") | J18: =IFERROR(IF(OR(B18="",F18="",G18=""),"",IF(G18="Posted",F18,"")),"") | K18: =IFERROR(IF(COUNTA(A18:H18)=0,"",IF(OR(A18="",B18="",C18="",D18="",E18="",F18="",G18=""),"Review missing input",IF(OR(F18<=0,F18>Assumptions!$F$7),"Review amount",IF(AND(G18="Posted",B18>TODAY()),"Review future posted date",IF(F18>Assumptions!$F$6,"Review large draw",IF(G18="Voided","Excluded",IF(G18="Planned","Planned","Ready"))))))),"Review input")
I19: =IFERROR(IF(B19="","",DATE(YEAR(B19),MONTH(B19),1)),"") | J19: =IFERROR(IF(OR(B19="",F19="",G19=""),"",IF(G19="Posted",F19,"")),"") | K19: =IFERROR(IF(COUNTA(A19:H19)=0,"",IF(OR(A19="",B19="",C19="",D19="",E19="",F19="",G19=""),"Review missing input",IF(OR(F19<=0,F19>Assumptions!$F$7),"Review amount",IF(AND(G19="Posted",B19>TODAY()),"Review future posted date",IF(F19>Assumptions!$F$6,"Review large draw",IF(G19="Voided","Excluded",IF(G19="Planned","Planned","Ready"))))))),"Review input")
I20: =IFERROR(IF(B20="","",DATE(YEAR(B20),MONTH(B20),1)),"") | J20: =IFERROR(IF(OR(B20="",F20="",G20=""),"",IF(G20="Posted",F20,"")),"") | K20: =IFERROR(IF(COUNTA(A20:H20)=0,"",IF(OR(A20="",B20="",C20="",D20="",E20="",F20="",G20=""),"Review missing input",IF(OR(F20<=0,F20>Assumptions!$F$7),"Review amount",IF(AND(G20="Posted",B20>TODAY()),"Review future posted date",IF(F20>Assumptions!$F$6,"Review large draw",IF(G20="Voided","Excluded",IF(G20="Planned","Planned","Ready"))))))),"Review input")
I21: =IFERROR(IF(B21="","",DATE(YEAR(B21),MONTH(B21),1)),"") | J21: =IFERROR(IF(OR(B21="",F21="",G21=""),"",IF(G21="Posted",F21,"")),"") | K21: =IFERROR(IF(COUNTA(A21:H21)=0,"",IF(OR(A21="",B21="",C21="",D21="",E21="",F21="",G21=""),"Review missing input",IF(OR(F21<=0,F21>Assumptions!$F$7),"Review amount",IF(AND(G21="Posted",B21>TODAY()),"Review future posted date",IF(F21>Assumptions!$F$6,"Review large draw",IF(G21="Voided","Excluded",IF(G21="Planned","Planned","Ready"))))))),"Review input")
I22: =IFERROR(IF(B22="","",DATE(YEAR(B22),MONTH(B22),1)),"") | J22: =IFERROR(IF(OR(B22="",F22="",G22=""),"",IF(G22="Posted",F22,"")),"") | K22: =IFERROR(IF(COUNTA(A22:H22)=0,"",IF(OR(A22="",B22="",C22="",D22="",E22="",F22="",G22=""),"Review missing input",IF(OR(F22<=0,F22>Assumptions!$F$7),"Review amount",IF(AND(G22="Posted",B22>TODAY()),"Review future posted date",IF(F22>Assumptions!$F$6,"Review large draw",IF(G22="Voided","Excluded",IF(G22="Planned","Planned","Ready"))))))),"Review input")
I23: =IFERROR(IF(B23="","",DATE(YEAR(B23),MONTH(B23),1)),"") | J23: =IFERROR(IF(OR(B23="",F23="",G23=""),"",IF(G23="Posted",F23,"")),"") | K23: =IFERROR(IF(COUNTA(A23:H23)=0,"",IF(OR(A23="",B23="",C23="",D23="",E23="",F23="",G23=""),"Review missing input",IF(OR(F23<=0,F23>Assumptions!$F$7),"Review amount",IF(AND(G23="Posted",B23>TODAY()),"Review future posted date",IF(F23>Assumptions!$F$6,"Review large draw",IF(G23="Voided","Excluded",IF(G23="Planned","Planned","Ready"))))))),"Review input")
I24: =IFERROR(IF(B24="","",DATE(YEAR(B24),MONTH(B24),1)),"") | J24: =IFERROR(IF(OR(B24="",F24="",G24=""),"",IF(G24="Posted",F24,"")),"") | K24: =IFERROR(IF(COUNTA(A24:H24)=0,"",IF(OR(A24="",B24="",C24="",D24="",E24="",F24="",G24=""),"Review missing input",IF(OR(F24<=0,F24>Assumptions!$F$7),"Review amount",IF(AND(G24="Posted",B24>TODAY()),"Review future posted date",IF(F24>Assumptions!$F$6,"Review large draw",IF(G24="Voided","Excluded",IF(G24="Planned","Planned","Ready"))))))),"Review input")
I25: =IFERROR(IF(B25="","",DATE(YEAR(B25),MONTH(B25),1)),"") | J25: =IFERROR(IF(OR(B25="",F25="",G25=""),"",IF(G25="Posted",F25,"")),"") | K25: =IFERROR(IF(COUNTA(A25:H25)=0,"",IF(OR(A25="",B25="",C25="",D25="",E25="",F25="",G25=""),"Review missing input",IF(OR(F25<=0,F25>Assumptions!$F$7),"Review amount",IF(AND(G25="Posted",B25>TODAY()),"Review future posted date",IF(F25>Assumptions!$F$6,"Review large draw",IF(G25="Voided","Excluded",IF(G25="Planned","Planned","Ready"))))))),"Review input")
I26: =IFERROR(IF(B26="","",DATE(YEAR(B26),MONTH(B26),1)),"") | J26: =IFERROR(IF(OR(B26="",F26="",G26=""),"",IF(G26="Posted",F26,"")),"") | K26: =IFERROR(IF(COUNTA(A26:H26)=0,"",IF(OR(A26="",B26="",C26="",D26="",E26="",F26="",G26=""),"Review missing input",IF(OR(F26<=0,F26>Assumptions!$F$7),"Review amount",IF(AND(G26="Posted",B26>TODAY()),"Review future posted date",IF(F26>Assumptions!$F$6,"Review large draw",IF(G26="Voided","Excluded",IF(G26="Planned","Planned","Ready"))))))),"Review input")
... I104: =IFERROR(IF(B104="","",DATE(YEAR(B104),MONTH(B104),1)),"") | J104: =IFERROR(IF(OR(B104="",F104="",G104=""),"",IF(G104="Posted",F104,"")),"") | K104: =IFERROR(IF(COUNTA(A104:H104)=0,"",IF(OR(A104="",B104="",C104="",D104="",E104="",F104="",G104=""),"Review missing input",IF(OR(F104<=0,F104>Assumptions!$F$7),"Review amount",IF(AND(G104="Posted",B104>TODAY()),"Review future posted date",IF(F104>Assumptions!$F$6,"Review large draw",IF(G104="Voided","Excluded",IF(G104="Planned","Planned","Ready"))))))),"Review input")

Sheet Assumptions
A1: Fictional Cedar Kite Lawn Care — Lists and Planning Assumptions
A3: Yellow cells are editable. Keep the Posted, Planned, and Voided status labels unchanged because workbook formulas use them.
A4: Owner Choices | B4: Source Account Choices | C4: Method Choices | D4: Fixed Status Choices | E4: Planning Item | F4: Value
A5: Jordan Vale (Fictional) | B5: Cedar Kite Operating Checking (Fictional) | C5: Bank Transfer | D5: Posted | E5: Monthly owner draw plan | F5: 6000
A6: Riley Moss (Fictional) | B6: Cedar Kite Reserve Checking (Fictional) | C6: Check | D6: Planned | E6: Large draw review amount | F6: 10000
C7: Cash | D7: Voided | E7: Maximum entered amount | F7: 250000
E8: Earliest allowed draw date | F8: 44197
E9: Latest allowed draw date | F9: 47118
