Workbook

Sheet Summary
A1: Lawn Care Payroll Input Summary
A2: Fictional Greenline Grounds LLC. Administrative payroll inputs only; confirm rates, deductions, approvals, and withholding outside this workbook. | J2: =Assumptions!$F$5 | K2: =Assumptions!$F$6
A3: Selected Pay Period End | B3: 46269
A5: Approved Indicator | B5: Value | D5: Approval Status | E5: Rows | F5: Prepared Amount
A6: Approved Payroll Rows | B6: =IF($B$3="","",COUNTIFS('Payroll Input'!$A$5:$A$104,$B$3,'Payroll Input'!$P$5:$P$104,"Approved")) | D6: Approved | E6: =IF($B$3="","",COUNTIFS('Payroll Input'!$A$5:$A$104,$B$3,'Payroll Input'!$P$5:$P$104,$D6)) | F6: =IF($B$3="","",SUMIFS('Payroll Input'!$O$5:$O$104,'Payroll Input'!$A$5:$A$104,$B$3,'Payroll Input'!$P$5:$P$104,$D6))
A7: Approved Total Hours | B7: =IF($B$3="","",SUMIFS('Payroll Input'!$E$5:$E$104,'Payroll Input'!$A$5:$A$104,$B$3,'Payroll Input'!$P$5:$P$104,"Approved")+SUMIFS('Payroll Input'!$F$5:$F$104,'Payroll Input'!$A$5:$A$104,$B$3,'Payroll Input'!$P$5:$P$104,"Approved")) | D7: Draft | E7: =IF($B$3="","",COUNTIFS('Payroll Input'!$A$5:$A$104,$B$3,'Payroll Input'!$P$5:$P$104,$D7)) | F7: =IF($B$3="","",SUMIFS('Payroll Input'!$O$5:$O$104,'Payroll Input'!$A$5:$A$104,$B$3,'Payroll Input'!$P$5:$P$104,$D7))
A8: Approved Regular Hours | B8: =IF($B$3="","",SUMIFS('Payroll Input'!$E$5:$E$104,'Payroll Input'!$A$5:$A$104,$B$3,'Payroll Input'!$P$5:$P$104,"Approved")) | D8: Hold | E8: =IF($B$3="","",COUNTIFS('Payroll Input'!$A$5:$A$104,$B$3,'Payroll Input'!$P$5:$P$104,$D8)) | F8: =IF($B$3="","",SUMIFS('Payroll Input'!$O$5:$O$104,'Payroll Input'!$A$5:$A$104,$B$3,'Payroll Input'!$P$5:$P$104,$D8))
A9: Approved Overtime Hours | B9: =IF($B$3="","",SUMIFS('Payroll Input'!$F$5:$F$104,'Payroll Input'!$A$5:$A$104,$B$3,'Payroll Input'!$P$5:$P$104,"Approved"))
A10: Approved Gross Earnings | B10: =IF($B$3="","",SUMIFS('Payroll Input'!$L$5:$L$104,'Payroll Input'!$A$5:$A$104,$B$3,'Payroll Input'!$P$5:$P$104,"Approved"))
A11: Approved Reimbursements | B11: =IF($B$3="","",SUMIFS('Payroll Input'!$M$5:$M$104,'Payroll Input'!$A$5:$A$104,$B$3,'Payroll Input'!$P$5:$P$104,"Approved"))
A12: Approved Other Deductions | B12: =IF($B$3="","",SUMIFS('Payroll Input'!$N$5:$N$104,'Payroll Input'!$A$5:$A$104,$B$3,'Payroll Input'!$P$5:$P$104,"Approved"))
A13: Approved Prepared Amount | B13: =IF($B$3="","",SUMIFS('Payroll Input'!$O$5:$O$104,'Payroll Input'!$A$5:$A$104,$B$3,'Payroll Input'!$P$5:$P$104,"Approved"))
A14: Non-approved Payroll Rows | B14: =IF($B$3="","",COUNTIFS('Payroll Input'!$A$5:$A$104,$B$3,'Payroll Input'!$B$5:$B$104,"<>",'Payroll Input'!$P$5:$P$104,"<>Approved"))
A15: Rows With Review Flags | B15: =IF($B$3="","",COUNTIFS('Payroll Input'!$A$5:$A$104,$B$3,'Payroll Input'!$Q$5:$Q$104,"<>"))
A17: Yellow cells are editable. A review flag is a prompt for human verification.

Sheet Payroll Input
A1: Payroll Input
A2: Fictional sample entries. Prepared Amount equals gross earnings plus reimbursement minus other deduction; withholding is not calculated. | V2: =Assumptions!$F$7 | W2: =Assumptions!$F$8 | X2: =Assumptions!$F$9 | Y2: =Assumptions!$F$10 | Z2: =Assumptions!$F$5 | AA2: =Assumptions!$F$6
A3: Enter data in yellow cells. Review flags require a human check before use.
A4: Pay Period End | B4: Employee ID | C4: Employee Name | D4: Crew | E4: Regular Hours | F4: Overtime Hours | G4: Hourly Rate | H4: OT Multiplier | I4: Regular Pay | J4: Overtime Pay | K4: Bonus | L4: Gross Earnings | M4: Reimbursement | N4: Other Deduction | O4: Prepared Amount | P4: Approval Status | Q4: Review Flag | R4: Notes
A5: 46269 | B5: DEMO-001 | C5: =IF($B5="","",IFERROR(VLOOKUP($B5,Employees!$A$5:$F$104,2,FALSE),"")) | D5: Green Team | E5: 40 | F5: 4 | G5: =IF($B5="","",IFERROR(VLOOKUP($B5,Employees!$A$5:$F$104,4,FALSE),"")) | H5: =IF($B5="","",IFERROR(VLOOKUP($B5,Employees!$A$5:$F$104,5,FALSE),"")) | I5: =IF(OR($A5="",$B5="",$E5="",$G5=""),"",ROUND($E5*$G5,2)) | J5: =IF(OR($A5="",$B5="",$F5="",$G5="",$H5=""),"",ROUND($F5*$G5*$H5,2)) | K5: 0 | L5: =IF(OR($A5="",$B5="",$G5="",AND($E5="",$F5="",$K5="")),"",ROUND(IF($I5="",0,$I5)+IF($J5="",0,$J5)+IF($K5="",0,$K5),2)) | M5: 25 | N5: 0 | O5: =IF($L5="","",ROUND($L5+IF($M5="",0,$M5)-IF($N5="",0,$N5),2)) | P5: Approved | Q5: =IF(AND($A5="",$B5="",$D5="",$E5="",$F5="",$K5="",$M5="",$N5="",$P5="",$R5=""),"",IF($A5="","Check pay period",IF($B5="","Check employee ID",IF($C5="","Check employee ID",IF(IFERROR(VLOOKUP($B5,Employees!$A$5:$F$104,6,FALSE),"")<>"Active","Check employee status",IF($D5="","Check crew",IF($G5="","Check employee rate",IF($H5="","Check OT multiplier",IF(AND($E5="",$F5="",$K5=""),"Check pay inputs",IF(IFERROR($E5+$F5,0)>$W$2,"Check hours",IF($P5="","Check approval status",IF(AND($P5="Approved",$O5<0),"Check negative amount","")))))))))))) | R5: Fictional sample entry. | S5: =IF(Assumptions!$B$5="","",Assumptions!$B$5) | T5: =IF(Assumptions!$C$5="","",Assumptions!$C$5) | U5: =IF(Employees!$A$5="","",Employees!$A$5)
A6: 46269 | B6: DEMO-002 | C6: =IF($B6="","",IFERROR(VLOOKUP($B6,Employees!$A$5:$F$104,2,FALSE),"")) | D6: Green Team | E6: 40 | F6: 0 | G6: =IF($B6="","",IFERROR(VLOOKUP($B6,Employees!$A$5:$F$104,4,FALSE),"")) | H6: =IF($B6="","",IFERROR(VLOOKUP($B6,Employees!$A$5:$F$104,5,FALSE),"")) | I6: =IF(OR($A6="",$B6="",$E6="",$G6=""),"",ROUND($E6*$G6,2)) | J6: =IF(OR($A6="",$B6="",$F6="",$G6="",$H6=""),"",ROUND($F6*$G6*$H6,2)) | K6: 50 | L6: =IF(OR($A6="",$B6="",$G6="",AND($E6="",$F6="",$K6="")),"",ROUND(IF($I6="",0,$I6)+IF($J6="",0,$J6)+IF($K6="",0,$K6),2)) | M6: 0 | N6: 15 | O6: =IF($L6="","",ROUND($L6+IF($M6="",0,$M6)-IF($N6="",0,$N6),2)) | P6: Approved | Q6: =IF(AND($A6="",$B6="",$D6="",$E6="",$F6="",$K6="",$M6="",$N6="",$P6="",$R6=""),"",IF($A6="","Check pay period",IF($B6="","Check employee ID",IF($C6="","Check employee ID",IF(IFERROR(VLOOKUP($B6,Employees!$A$5:$F$104,6,FALSE),"")<>"Active","Check employee status",IF($D6="","Check crew",IF($G6="","Check employee rate",IF($H6="","Check OT multiplier",IF(AND($E6="",$F6="",$K6=""),"Check pay inputs",IF(IFERROR($E6+$F6,0)>$W$2,"Check hours",IF($P6="","Check approval status",IF(AND($P6="Approved",$O6<0),"Check negative amount","")))))))))))) | R6: Fictional sample entry. | S6: =IF(Assumptions!$B$6="","",Assumptions!$B$6) | T6: =IF(Assumptions!$C$6="","",Assumptions!$C$6) | U6: =IF(Employees!$A$6="","",Employees!$A$6)
A7: 46269 | B7: DEMO-003 | C7: =IF($B7="","",IFERROR(VLOOKUP($B7,Employees!$A$5:$F$104,2,FALSE),"")) | D7: Gold Team | E7: 36.5 | F7: 2 | G7: =IF($B7="","",IFERROR(VLOOKUP($B7,Employees!$A$5:$F$104,4,FALSE),"")) | H7: =IF($B7="","",IFERROR(VLOOKUP($B7,Employees!$A$5:$F$104,5,FALSE),"")) | I7: =IF(OR($A7="",$B7="",$E7="",$G7=""),"",ROUND($E7*$G7,2)) | J7: =IF(OR($A7="",$B7="",$F7="",$G7="",$H7=""),"",ROUND($F7*$G7*$H7,2)) | K7: 0 | L7: =IF(OR($A7="",$B7="",$G7="",AND($E7="",$F7="",$K7="")),"",ROUND(IF($I7="",0,$I7)+IF($J7="",0,$J7)+IF($K7="",0,$K7),2)) | M7: 18.75 | N7: 0 | O7: =IF($L7="","",ROUND($L7+IF($M7="",0,$M7)-IF($N7="",0,$N7),2)) | P7: Approved | Q7: =IF(AND($A7="",$B7="",$D7="",$E7="",$F7="",$K7="",$M7="",$N7="",$P7="",$R7=""),"",IF($A7="","Check pay period",IF($B7="","Check employee ID",IF($C7="","Check employee ID",IF(IFERROR(VLOOKUP($B7,Employees!$A$5:$F$104,6,FALSE),"")<>"Active","Check employee status",IF($D7="","Check crew",IF($G7="","Check employee rate",IF($H7="","Check OT multiplier",IF(AND($E7="",$F7="",$K7=""),"Check pay inputs",IF(IFERROR($E7+$F7,0)>$W$2,"Check hours",IF($P7="","Check approval status",IF(AND($P7="Approved",$O7<0),"Check negative amount","")))))))))))) | R7: Fictional sample entry. | S7: =IF(Assumptions!$B$7="","",Assumptions!$B$7) | T7: =IF(Assumptions!$C$7="","",Assumptions!$C$7) | U7: =IF(Employees!$A$7="","",Employees!$A$7)
A8: 46269 | B8: DEMO-004 | C8: =IF($B8="","",IFERROR(VLOOKUP($B8,Employees!$A$5:$F$104,2,FALSE),"")) | D8: Gold Team | E8: 40 | F8: 5 | G8: =IF($B8="","",IFERROR(VLOOKUP($B8,Employees!$A$5:$F$104,4,FALSE),"")) | H8: =IF($B8="","",IFERROR(VLOOKUP($B8,Employees!$A$5:$F$104,5,FALSE),"")) | I8: =IF(OR($A8="",$B8="",$E8="",$G8=""),"",ROUND($E8*$G8,2)) | J8: =IF(OR($A8="",$B8="",$F8="",$G8="",$H8=""),"",ROUND($F8*$G8*$H8,2)) | K8: 100 | L8: =IF(OR($A8="",$B8="",$G8="",AND($E8="",$F8="",$K8="")),"",ROUND(IF($I8="",0,$I8)+IF($J8="",0,$J8)+IF($K8="",0,$K8),2)) | M8: 0 | N8: 25 | O8: =IF($L8="","",ROUND($L8+IF($M8="",0,$M8)-IF($N8="",0,$N8),2)) | P8: Approved | Q8: =IF(AND($A8="",$B8="",$D8="",$E8="",$F8="",$K8="",$M8="",$N8="",$P8="",$R8=""),"",IF($A8="","Check pay period",IF($B8="","Check employee ID",IF($C8="","Check employee ID",IF(IFERROR(VLOOKUP($B8,Employees!$A$5:$F$104,6,FALSE),"")<>"Active","Check employee status",IF($D8="","Check crew",IF($G8="","Check employee rate",IF($H8="","Check OT multiplier",IF(AND($E8="",$F8="",$K8=""),"Check pay inputs",IF(IFERROR($E8+$F8,0)>$W$2,"Check hours",IF($P8="","Check approval status",IF(AND($P8="Approved",$O8<0),"Check negative amount","")))))))))))) | R8: Fictional sample entry. | S8: =IF(Assumptions!$B$8="","",Assumptions!$B$8) | T8: =IF(Assumptions!$C$8="","",Assumptions!$C$8) | U8: =IF(Employees!$A$8="","",Employees!$A$8)
A9: 46269 | B9: DEMO-005 | C9: =IF($B9="","",IFERROR(VLOOKUP($B9,Employees!$A$5:$F$104,2,FALSE),"")) | D9: Field Support | E9: 32 | F9: 0 | G9: =IF($B9="","",IFERROR(VLOOKUP($B9,Employees!$A$5:$F$104,4,FALSE),"")) | H9: =IF($B9="","",IFERROR(VLOOKUP($B9,Employees!$A$5:$F$104,5,FALSE),"")) | I9: =IF(OR($A9="",$B9="",$E9="",$G9=""),"",ROUND($E9*$G9,2)) | J9: =IF(OR($A9="",$B9="",$F9="",$G9="",$H9=""),"",ROUND($F9*$G9*$H9,2)) | K9: 0 | L9: =IF(OR($A9="",$B9="",$G9="",AND($E9="",$F9="",$K9="")),"",ROUND(IF($I9="",0,$I9)+IF($J9="",0,$J9)+IF($K9="",0,$K9),2)) | M9: 42.5 | N9: 0 | O9: =IF($L9="","",ROUND($L9+IF($M9="",0,$M9)-IF($N9="",0,$N9),2)) | P9: Draft | Q9: =IF(AND($A9="",$B9="",$D9="",$E9="",$F9="",$K9="",$M9="",$N9="",$P9="",$R9=""),"",IF($A9="","Check pay period",IF($B9="","Check employee ID",IF($C9="","Check employee ID",IF(IFERROR(VLOOKUP($B9,Employees!$A$5:$F$104,6,FALSE),"")<>"Active","Check employee status",IF($D9="","Check crew",IF($G9="","Check employee rate",IF($H9="","Check OT multiplier",IF(AND($E9="",$F9="",$K9=""),"Check pay inputs",IF(IFERROR($E9+$F9,0)>$W$2,"Check hours",IF($P9="","Check approval status",IF(AND($P9="Approved",$O9<0),"Check negative amount","")))))))))))) | R9: Fictional sample entry. | S9: =IF(Assumptions!$B$9="","",Assumptions!$B$9) | T9: =IF(Assumptions!$C$9="","",Assumptions!$C$9) | U9: =IF(Employees!$A$9="","",Employees!$A$9)
A10: 46269 | B10: DEMO-006 | C10: =IF($B10="","",IFERROR(VLOOKUP($B10,Employees!$A$5:$F$104,2,FALSE),"")) | D10: Shop | E10: 40 | F10: 1.5 | G10: =IF($B10="","",IFERROR(VLOOKUP($B10,Employees!$A$5:$F$104,4,FALSE),"")) | H10: =IF($B10="","",IFERROR(VLOOKUP($B10,Employees!$A$5:$F$104,5,FALSE),"")) | I10: =IF(OR($A10="",$B10="",$E10="",$G10=""),"",ROUND($E10*$G10,2)) | J10: =IF(OR($A10="",$B10="",$F10="",$G10="",$H10=""),"",ROUND($F10*$G10*$H10,2)) | K10: 0 | L10: =IF(OR($A10="",$B10="",$G10="",AND($E10="",$F10="",$K10="")),"",ROUND(IF($I10="",0,$I10)+IF($J10="",0,$J10)+IF($K10="",0,$K10),2)) | M10: 0 | N10: 20 | O10: =IF($L10="","",ROUND($L10+IF($M10="",0,$M10)-IF($N10="",0,$N10),2)) | P10: Approved | Q10: =IF(AND($A10="",$B10="",$D10="",$E10="",$F10="",$K10="",$M10="",$N10="",$P10="",$R10=""),"",IF($A10="","Check pay period",IF($B10="","Check employee ID",IF($C10="","Check employee ID",IF(IFERROR(VLOOKUP($B10,Employees!$A$5:$F$104,6,FALSE),"")<>"Active","Check employee status",IF($D10="","Check crew",IF($G10="","Check employee rate",IF($H10="","Check OT multiplier",IF(AND($E10="",$F10="",$K10=""),"Check pay inputs",IF(IFERROR($E10+$F10,0)>$W$2,"Check hours",IF($P10="","Check approval status",IF(AND($P10="Approved",$O10<0),"Check negative amount","")))))))))))) | R10: Fictional sample entry. | S10: =IF(Assumptions!$B$10="","",Assumptions!$B$10) | T10: =IF(Assumptions!$C$10="","",Assumptions!$C$10) | U10: =IF(Employees!$A$10="","",Employees!$A$10)
A11: 46269 | B11: DEMO-007 | C11: =IF($B11="","",IFERROR(VLOOKUP($B11,Employees!$A$5:$F$104,2,FALSE),"")) | D11: Green Team | E11: 24 | F11: 0 | G11: =IF($B11="","",IFERROR(VLOOKUP($B11,Employees!$A$5:$F$104,4,FALSE),"")) | H11: =IF($B11="","",IFERROR(VLOOKUP($B11,Employees!$A$5:$F$104,5,FALSE),"")) | I11: =IF(OR($A11="",$B11="",$E11="",$G11=""),"",ROUND($E11*$G11,2)) | J11: =IF(OR($A11="",$B11="",$F11="",$G11="",$H11=""),"",ROUND($F11*$G11*$H11,2)) | K11: 0 | L11: =IF(OR($A11="",$B11="",$G11="",AND($E11="",$F11="",$K11="")),"",ROUND(IF($I11="",0,$I11)+IF($J11="",0,$J11)+IF($K11="",0,$K11),2)) | M11: 0 | N11: 0 | O11: =IF($L11="","",ROUND($L11+IF($M11="",0,$M11)-IF($N11="",0,$N11),2)) | P11: Approved | Q11: =IF(AND($A11="",$B11="",$D11="",$E11="",$F11="",$K11="",$M11="",$N11="",$P11="",$R11=""),"",IF($A11="","Check pay period",IF($B11="","Check employee ID",IF($C11="","Check employee ID",IF(IFERROR(VLOOKUP($B11,Employees!$A$5:$F$104,6,FALSE),"")<>"Active","Check employee status",IF($D11="","Check crew",IF($G11="","Check employee rate",IF($H11="","Check OT multiplier",IF(AND($E11="",$F11="",$K11=""),"Check pay inputs",IF(IFERROR($E11+$F11,0)>$W$2,"Check hours",IF($P11="","Check approval status",IF(AND($P11="Approved",$O11<0),"Check negative amount","")))))))))))) | R11: Fictional sample entry. | S11: =IF(Assumptions!$B$11="","",Assumptions!$B$11) | T11: =IF(Assumptions!$C$11="","",Assumptions!$C$11) | U11: =IF(Employees!$A$11="","",Employees!$A$11)
A12: 46269 | B12: DEMO-008 | C12: =IF($B12="","",IFERROR(VLOOKUP($B12,Employees!$A$5:$F$104,2,FALSE),"")) | D12: Gold Team | E12: 40 | F12: 6 | G12: =IF($B12="","",IFERROR(VLOOKUP($B12,Employees!$A$5:$F$104,4,FALSE),"")) | H12: =IF($B12="","",IFERROR(VLOOKUP($B12,Employees!$A$5:$F$104,5,FALSE),"")) | I12: =IF(OR($A12="",$B12="",$E12="",$G12=""),"",ROUND($E12*$G12,2)) | J12: =IF(OR($A12="",$B12="",$F12="",$G12="",$H12=""),"",ROUND($F12*$G12*$H12,2)) | K12: 75 | L12: =IF(OR($A12="",$B12="",$G12="",AND($E12="",$F12="",$K12="")),"",ROUND(IF($I12="",0,$I12)+IF($J12="",0,$J12)+IF($K12="",0,$K12),2)) | M12: 30 | N12: 0 | O12: =IF($L12="","",ROUND($L12+IF($M12="",0,$M12)-IF($N12="",0,$N12),2)) | P12: Approved | Q12: =IF(AND($A12="",$B12="",$D12="",$E12="",$F12="",$K12="",$M12="",$N12="",$P12="",$R12=""),"",IF($A12="","Check pay period",IF($B12="","Check employee ID",IF($C12="","Check employee ID",IF(IFERROR(VLOOKUP($B12,Employees!$A$5:$F$104,6,FALSE),"")<>"Active","Check employee status",IF($D12="","Check crew",IF($G12="","Check employee rate",IF($H12="","Check OT multiplier",IF(AND($E12="",$F12="",$K12=""),"Check pay inputs",IF(IFERROR($E12+$F12,0)>$W$2,"Check hours",IF($P12="","Check approval status",IF(AND($P12="Approved",$O12<0),"Check negative amount","")))))))))))) | R12: Fictional sample entry. | S12: =IF(Assumptions!$B$12="","",Assumptions!$B$12) | T12: =IF(Assumptions!$C$12="","",Assumptions!$C$12) | U12: =IF(Employees!$A$12="","",Employees!$A$12)
A13: 46269 | B13: DEMO-009 | C13: =IF($B13="","",IFERROR(VLOOKUP($B13,Employees!$A$5:$F$104,2,FALSE),"")) | D13: Field Support | E13: 38 | F13: 0 | G13: =IF($B13="","",IFERROR(VLOOKUP($B13,Employees!$A$5:$F$104,4,FALSE),"")) | H13: =IF($B13="","",IFERROR(VLOOKUP($B13,Employees!$A$5:$F$104,5,FALSE),"")) | I13: =IF(OR($A13="",$B13="",$E13="",$G13=""),"",ROUND($E13*$G13,2)) | J13: =IF(OR($A13="",$B13="",$F13="",$G13="",$H13=""),"",ROUND($F13*$G13*$H13,2)) | K13: 0 | L13: =IF(OR($A13="",$B13="",$G13="",AND($E13="",$F13="",$K13="")),"",ROUND(IF($I13="",0,$I13)+IF($J13="",0,$J13)+IF($K13="",0,$K13),2)) | M13: 0 | N13: 10 | O13: =IF($L13="","",ROUND($L13+IF($M13="",0,$M13)-IF($N13="",0,$N13),2)) | P13: Hold | Q13: =IF(AND($A13="",$B13="",$D13="",$E13="",$F13="",$K13="",$M13="",$N13="",$P13="",$R13=""),"",IF($A13="","Check pay period",IF($B13="","Check employee ID",IF($C13="","Check employee ID",IF(IFERROR(VLOOKUP($B13,Employees!$A$5:$F$104,6,FALSE),"")<>"Active","Check employee status",IF($D13="","Check crew",IF($G13="","Check employee rate",IF($H13="","Check OT multiplier",IF(AND($E13="",$F13="",$K13=""),"Check pay inputs",IF(IFERROR($E13+$F13,0)>$W$2,"Check hours",IF($P13="","Check approval status",IF(AND($P13="Approved",$O13<0),"Check negative amount","")))))))))))) | R13: Fictional sample entry. | S13: =IF(Assumptions!$B$13="","",Assumptions!$B$13) | T13: =IF(Assumptions!$C$13="","",Assumptions!$C$13) | U13: =IF(Employees!$A$13="","",Employees!$A$13)
A14: 46269 | B14: DEMO-010 | C14: =IF($B14="","",IFERROR(VLOOKUP($B14,Employees!$A$5:$F$104,2,FALSE),"")) | D14: Shop | E14: 8 | F14: 0 | G14: =IF($B14="","",IFERROR(VLOOKUP($B14,Employees!$A$5:$F$104,4,FALSE),"")) | H14: =IF($B14="","",IFERROR(VLOOKUP($B14,Employees!$A$5:$F$104,5,FALSE),"")) | I14: =IF(OR($A14="",$B14="",$E14="",$G14=""),"",ROUND($E14*$G14,2)) | J14: =IF(OR($A14="",$B14="",$F14="",$G14="",$H14=""),"",ROUND($F14*$G14*$H14,2)) | K14: 0 | L14: =IF(OR($A14="",$B14="",$G14="",AND($E14="",$F14="",$K14="")),"",ROUND(IF($I14="",0,$I14)+IF($J14="",0,$J14)+IF($K14="",0,$K14),2)) | M14: 0 | N14: 0 | O14: =IF($L14="","",ROUND($L14+IF($M14="",0,$M14)-IF($N14="",0,$N14),2)) | P14: Hold | Q14: =IF(AND($A14="",$B14="",$D14="",$E14="",$F14="",$K14="",$M14="",$N14="",$P14="",$R14=""),"",IF($A14="","Check pay period",IF($B14="","Check employee ID",IF($C14="","Check employee ID",IF(IFERROR(VLOOKUP($B14,Employees!$A$5:$F$104,6,FALSE),"")<>"Active","Check employee status",IF($D14="","Check crew",IF($G14="","Check employee rate",IF($H14="","Check OT multiplier",IF(AND($E14="",$F14="",$K14=""),"Check pay inputs",IF(IFERROR($E14+$F14,0)>$W$2,"Check hours",IF($P14="","Check approval status",IF(AND($P14="Approved",$O14<0),"Check negative amount","")))))))))))) | R14: Fictional sample entry. | S14: =IF(Assumptions!$B$14="","",Assumptions!$B$14) | T14: =IF(Assumptions!$C$14="","",Assumptions!$C$14) | U14: =IF(Employees!$A$14="","",Employees!$A$14)
C15: =IF($B15="","",IFERROR(VLOOKUP($B15,Employees!$A$5:$F$104,2,FALSE),"")) | G15: =IF($B15="","",IFERROR(VLOOKUP($B15,Employees!$A$5:$F$104,4,FALSE),"")) | H15: =IF($B15="","",IFERROR(VLOOKUP($B15,Employees!$A$5:$F$104,5,FALSE),"")) | I15: =IF(OR($A15="",$B15="",$E15="",$G15=""),"",ROUND($E15*$G15,2)) | J15: =IF(OR($A15="",$B15="",$F15="",$G15="",$H15=""),"",ROUND($F15*$G15*$H15,2)) | L15: =IF(OR($A15="",$B15="",$G15="",AND($E15="",$F15="",$K15="")),"",ROUND(IF($I15="",0,$I15)+IF($J15="",0,$J15)+IF($K15="",0,$K15),2)) | O15: =IF($L15="","",ROUND($L15+IF($M15="",0,$M15)-IF($N15="",0,$N15),2)) | Q15: =IF(AND($A15="",$B15="",$D15="",$E15="",$F15="",$K15="",$M15="",$N15="",$P15="",$R15=""),"",IF($A15="","Check pay period",IF($B15="","Check employee ID",IF($C15="","Check employee ID",IF(IFERROR(VLOOKUP($B15,Employees!$A$5:$F$104,6,FALSE),"")<>"Active","Check employee status",IF($D15="","Check crew",IF($G15="","Check employee rate",IF($H15="","Check OT multiplier",IF(AND($E15="",$F15="",$K15=""),"Check pay inputs",IF(IFERROR($E15+$F15,0)>$W$2,"Check hours",IF($P15="","Check approval status",IF(AND($P15="Approved",$O15<0),"Check negative amount","")))))))))))) | S15: =IF(Assumptions!$B$15="","",Assumptions!$B$15) | T15: =IF(Assumptions!$C$15="","",Assumptions!$C$15) | U15: =IF(Employees!$A$15="","",Employees!$A$15)
C16: =IF($B16="","",IFERROR(VLOOKUP($B16,Employees!$A$5:$F$104,2,FALSE),"")) | G16: =IF($B16="","",IFERROR(VLOOKUP($B16,Employees!$A$5:$F$104,4,FALSE),"")) | H16: =IF($B16="","",IFERROR(VLOOKUP($B16,Employees!$A$5:$F$104,5,FALSE),"")) | I16: =IF(OR($A16="",$B16="",$E16="",$G16=""),"",ROUND($E16*$G16,2)) | J16: =IF(OR($A16="",$B16="",$F16="",$G16="",$H16=""),"",ROUND($F16*$G16*$H16,2)) | L16: =IF(OR($A16="",$B16="",$G16="",AND($E16="",$F16="",$K16="")),"",ROUND(IF($I16="",0,$I16)+IF($J16="",0,$J16)+IF($K16="",0,$K16),2)) | O16: =IF($L16="","",ROUND($L16+IF($M16="",0,$M16)-IF($N16="",0,$N16),2)) | Q16: =IF(AND($A16="",$B16="",$D16="",$E16="",$F16="",$K16="",$M16="",$N16="",$P16="",$R16=""),"",IF($A16="","Check pay period",IF($B16="","Check employee ID",IF($C16="","Check employee ID",IF(IFERROR(VLOOKUP($B16,Employees!$A$5:$F$104,6,FALSE),"")<>"Active","Check employee status",IF($D16="","Check crew",IF($G16="","Check employee rate",IF($H16="","Check OT multiplier",IF(AND($E16="",$F16="",$K16=""),"Check pay inputs",IF(IFERROR($E16+$F16,0)>$W$2,"Check hours",IF($P16="","Check approval status",IF(AND($P16="Approved",$O16<0),"Check negative amount","")))))))))))) | S16: =IF(Assumptions!$B$16="","",Assumptions!$B$16) | T16: =IF(Assumptions!$C$16="","",Assumptions!$C$16) | U16: =IF(Employees!$A$16="","",Employees!$A$16)
C17: =IF($B17="","",IFERROR(VLOOKUP($B17,Employees!$A$5:$F$104,2,FALSE),"")) | G17: =IF($B17="","",IFERROR(VLOOKUP($B17,Employees!$A$5:$F$104,4,FALSE),"")) | H17: =IF($B17="","",IFERROR(VLOOKUP($B17,Employees!$A$5:$F$104,5,FALSE),"")) | I17: =IF(OR($A17="",$B17="",$E17="",$G17=""),"",ROUND($E17*$G17,2)) | J17: =IF(OR($A17="",$B17="",$F17="",$G17="",$H17=""),"",ROUND($F17*$G17*$H17,2)) | L17: =IF(OR($A17="",$B17="",$G17="",AND($E17="",$F17="",$K17="")),"",ROUND(IF($I17="",0,$I17)+IF($J17="",0,$J17)+IF($K17="",0,$K17),2)) | O17: =IF($L17="","",ROUND($L17+IF($M17="",0,$M17)-IF($N17="",0,$N17),2)) | Q17: =IF(AND($A17="",$B17="",$D17="",$E17="",$F17="",$K17="",$M17="",$N17="",$P17="",$R17=""),"",IF($A17="","Check pay period",IF($B17="","Check employee ID",IF($C17="","Check employee ID",IF(IFERROR(VLOOKUP($B17,Employees!$A$5:$F$104,6,FALSE),"")<>"Active","Check employee status",IF($D17="","Check crew",IF($G17="","Check employee rate",IF($H17="","Check OT multiplier",IF(AND($E17="",$F17="",$K17=""),"Check pay inputs",IF(IFERROR($E17+$F17,0)>$W$2,"Check hours",IF($P17="","Check approval status",IF(AND($P17="Approved",$O17<0),"Check negative amount","")))))))))))) | S17: =IF(Assumptions!$B$17="","",Assumptions!$B$17) | T17: =IF(Assumptions!$C$17="","",Assumptions!$C$17) | U17: =IF(Employees!$A$17="","",Employees!$A$17)
C18: =IF($B18="","",IFERROR(VLOOKUP($B18,Employees!$A$5:$F$104,2,FALSE),"")) | G18: =IF($B18="","",IFERROR(VLOOKUP($B18,Employees!$A$5:$F$104,4,FALSE),"")) | H18: =IF($B18="","",IFERROR(VLOOKUP($B18,Employees!$A$5:$F$104,5,FALSE),"")) | I18: =IF(OR($A18="",$B18="",$E18="",$G18=""),"",ROUND($E18*$G18,2)) | J18: =IF(OR($A18="",$B18="",$F18="",$G18="",$H18=""),"",ROUND($F18*$G18*$H18,2)) | L18: =IF(OR($A18="",$B18="",$G18="",AND($E18="",$F18="",$K18="")),"",ROUND(IF($I18="",0,$I18)+IF($J18="",0,$J18)+IF($K18="",0,$K18),2)) | O18: =IF($L18="","",ROUND($L18+IF($M18="",0,$M18)-IF($N18="",0,$N18),2)) | Q18: =IF(AND($A18="",$B18="",$D18="",$E18="",$F18="",$K18="",$M18="",$N18="",$P18="",$R18=""),"",IF($A18="","Check pay period",IF($B18="","Check employee ID",IF($C18="","Check employee ID",IF(IFERROR(VLOOKUP($B18,Employees!$A$5:$F$104,6,FALSE),"")<>"Active","Check employee status",IF($D18="","Check crew",IF($G18="","Check employee rate",IF($H18="","Check OT multiplier",IF(AND($E18="",$F18="",$K18=""),"Check pay inputs",IF(IFERROR($E18+$F18,0)>$W$2,"Check hours",IF($P18="","Check approval status",IF(AND($P18="Approved",$O18<0),"Check negative amount","")))))))))))) | S18: =IF(Assumptions!$B$18="","",Assumptions!$B$18) | T18: =IF(Assumptions!$C$18="","",Assumptions!$C$18) | U18: =IF(Employees!$A$18="","",Employees!$A$18)
C19: =IF($B19="","",IFERROR(VLOOKUP($B19,Employees!$A$5:$F$104,2,FALSE),"")) | G19: =IF($B19="","",IFERROR(VLOOKUP($B19,Employees!$A$5:$F$104,4,FALSE),"")) | H19: =IF($B19="","",IFERROR(VLOOKUP($B19,Employees!$A$5:$F$104,5,FALSE),"")) | I19: =IF(OR($A19="",$B19="",$E19="",$G19=""),"",ROUND($E19*$G19,2)) | J19: =IF(OR($A19="",$B19="",$F19="",$G19="",$H19=""),"",ROUND($F19*$G19*$H19,2)) | L19: =IF(OR($A19="",$B19="",$G19="",AND($E19="",$F19="",$K19="")),"",ROUND(IF($I19="",0,$I19)+IF($J19="",0,$J19)+IF($K19="",0,$K19),2)) | O19: =IF($L19="","",ROUND($L19+IF($M19="",0,$M19)-IF($N19="",0,$N19),2)) | Q19: =IF(AND($A19="",$B19="",$D19="",$E19="",$F19="",$K19="",$M19="",$N19="",$P19="",$R19=""),"",IF($A19="","Check pay period",IF($B19="","Check employee ID",IF($C19="","Check employee ID",IF(IFERROR(VLOOKUP($B19,Employees!$A$5:$F$104,6,FALSE),"")<>"Active","Check employee status",IF($D19="","Check crew",IF($G19="","Check employee rate",IF($H19="","Check OT multiplier",IF(AND($E19="",$F19="",$K19=""),"Check pay inputs",IF(IFERROR($E19+$F19,0)>$W$2,"Check hours",IF($P19="","Check approval status",IF(AND($P19="Approved",$O19<0),"Check negative amount","")))))))))))) | S19: =IF(Assumptions!$B$19="","",Assumptions!$B$19) | T19: =IF(Assumptions!$C$19="","",Assumptions!$C$19) | U19: =IF(Employees!$A$19="","",Employees!$A$19)
C20: =IF($B20="","",IFERROR(VLOOKUP($B20,Employees!$A$5:$F$104,2,FALSE),"")) | G20: =IF($B20="","",IFERROR(VLOOKUP($B20,Employees!$A$5:$F$104,4,FALSE),"")) | H20: =IF($B20="","",IFERROR(VLOOKUP($B20,Employees!$A$5:$F$104,5,FALSE),"")) | I20: =IF(OR($A20="",$B20="",$E20="",$G20=""),"",ROUND($E20*$G20,2)) | J20: =IF(OR($A20="",$B20="",$F20="",$G20="",$H20=""),"",ROUND($F20*$G20*$H20,2)) | L20: =IF(OR($A20="",$B20="",$G20="",AND($E20="",$F20="",$K20="")),"",ROUND(IF($I20="",0,$I20)+IF($J20="",0,$J20)+IF($K20="",0,$K20),2)) | O20: =IF($L20="","",ROUND($L20+IF($M20="",0,$M20)-IF($N20="",0,$N20),2)) | Q20: =IF(AND($A20="",$B20="",$D20="",$E20="",$F20="",$K20="",$M20="",$N20="",$P20="",$R20=""),"",IF($A20="","Check pay period",IF($B20="","Check employee ID",IF($C20="","Check employee ID",IF(IFERROR(VLOOKUP($B20,Employees!$A$5:$F$104,6,FALSE),"")<>"Active","Check employee status",IF($D20="","Check crew",IF($G20="","Check employee rate",IF($H20="","Check OT multiplier",IF(AND($E20="",$F20="",$K20=""),"Check pay inputs",IF(IFERROR($E20+$F20,0)>$W$2,"Check hours",IF($P20="","Check approval status",IF(AND($P20="Approved",$O20<0),"Check negative amount","")))))))))))) | S20: =IF(Assumptions!$B$20="","",Assumptions!$B$20) | T20: =IF(Assumptions!$C$20="","",Assumptions!$C$20) | U20: =IF(Employees!$A$20="","",Employees!$A$20)
C21: =IF($B21="","",IFERROR(VLOOKUP($B21,Employees!$A$5:$F$104,2,FALSE),"")) | G21: =IF($B21="","",IFERROR(VLOOKUP($B21,Employees!$A$5:$F$104,4,FALSE),"")) | H21: =IF($B21="","",IFERROR(VLOOKUP($B21,Employees!$A$5:$F$104,5,FALSE),"")) | I21: =IF(OR($A21="",$B21="",$E21="",$G21=""),"",ROUND($E21*$G21,2)) | J21: =IF(OR($A21="",$B21="",$F21="",$G21="",$H21=""),"",ROUND($F21*$G21*$H21,2)) | L21: =IF(OR($A21="",$B21="",$G21="",AND($E21="",$F21="",$K21="")),"",ROUND(IF($I21="",0,$I21)+IF($J21="",0,$J21)+IF($K21="",0,$K21),2)) | O21: =IF($L21="","",ROUND($L21+IF($M21="",0,$M21)-IF($N21="",0,$N21),2)) | Q21: =IF(AND($A21="",$B21="",$D21="",$E21="",$F21="",$K21="",$M21="",$N21="",$P21="",$R21=""),"",IF($A21="","Check pay period",IF($B21="","Check employee ID",IF($C21="","Check employee ID",IF(IFERROR(VLOOKUP($B21,Employees!$A$5:$F$104,6,FALSE),"")<>"Active","Check employee status",IF($D21="","Check crew",IF($G21="","Check employee rate",IF($H21="","Check OT multiplier",IF(AND($E21="",$F21="",$K21=""),"Check pay inputs",IF(IFERROR($E21+$F21,0)>$W$2,"Check hours",IF($P21="","Check approval status",IF(AND($P21="Approved",$O21<0),"Check negative amount","")))))))))))) | S21: =IF(Assumptions!$B$21="","",Assumptions!$B$21) | T21: =IF(Assumptions!$C$21="","",Assumptions!$C$21) | U21: =IF(Employees!$A$21="","",Employees!$A$21)
C22: =IF($B22="","",IFERROR(VLOOKUP($B22,Employees!$A$5:$F$104,2,FALSE),"")) | G22: =IF($B22="","",IFERROR(VLOOKUP($B22,Employees!$A$5:$F$104,4,FALSE),"")) | H22: =IF($B22="","",IFERROR(VLOOKUP($B22,Employees!$A$5:$F$104,5,FALSE),"")) | I22: =IF(OR($A22="",$B22="",$E22="",$G22=""),"",ROUND($E22*$G22,2)) | J22: =IF(OR($A22="",$B22="",$F22="",$G22="",$H22=""),"",ROUND($F22*$G22*$H22,2)) | L22: =IF(OR($A22="",$B22="",$G22="",AND($E22="",$F22="",$K22="")),"",ROUND(IF($I22="",0,$I22)+IF($J22="",0,$J22)+IF($K22="",0,$K22),2)) | O22: =IF($L22="","",ROUND($L22+IF($M22="",0,$M22)-IF($N22="",0,$N22),2)) | Q22: =IF(AND($A22="",$B22="",$D22="",$E22="",$F22="",$K22="",$M22="",$N22="",$P22="",$R22=""),"",IF($A22="","Check pay period",IF($B22="","Check employee ID",IF($C22="","Check employee ID",IF(IFERROR(VLOOKUP($B22,Employees!$A$5:$F$104,6,FALSE),"")<>"Active","Check employee status",IF($D22="","Check crew",IF($G22="","Check employee rate",IF($H22="","Check OT multiplier",IF(AND($E22="",$F22="",$K22=""),"Check pay inputs",IF(IFERROR($E22+$F22,0)>$W$2,"Check hours",IF($P22="","Check approval status",IF(AND($P22="Approved",$O22<0),"Check negative amount","")))))))))))) | S22: =IF(Assumptions!$B$22="","",Assumptions!$B$22) | T22: =IF(Assumptions!$C$22="","",Assumptions!$C$22) | U22: =IF(Employees!$A$22="","",Employees!$A$22)
C23: =IF($B23="","",IFERROR(VLOOKUP($B23,Employees!$A$5:$F$104,2,FALSE),"")) | G23: =IF($B23="","",IFERROR(VLOOKUP($B23,Employees!$A$5:$F$104,4,FALSE),"")) | H23: =IF($B23="","",IFERROR(VLOOKUP($B23,Employees!$A$5:$F$104,5,FALSE),"")) | I23: =IF(OR($A23="",$B23="",$E23="",$G23=""),"",ROUND($E23*$G23,2)) | J23: =IF(OR($A23="",$B23="",$F23="",$G23="",$H23=""),"",ROUND($F23*$G23*$H23,2)) | L23: =IF(OR($A23="",$B23="",$G23="",AND($E23="",$F23="",$K23="")),"",ROUND(IF($I23="",0,$I23)+IF($J23="",0,$J23)+IF($K23="",0,$K23),2)) | O23: =IF($L23="","",ROUND($L23+IF($M23="",0,$M23)-IF($N23="",0,$N23),2)) | Q23: =IF(AND($A23="",$B23="",$D23="",$E23="",$F23="",$K23="",$M23="",$N23="",$P23="",$R23=""),"",IF($A23="","Check pay period",IF($B23="","Check employee ID",IF($C23="","Check employee ID",IF(IFERROR(VLOOKUP($B23,Employees!$A$5:$F$104,6,FALSE),"")<>"Active","Check employee status",IF($D23="","Check crew",IF($G23="","Check employee rate",IF($H23="","Check OT multiplier",IF(AND($E23="",$F23="",$K23=""),"Check pay inputs",IF(IFERROR($E23+$F23,0)>$W$2,"Check hours",IF($P23="","Check approval status",IF(AND($P23="Approved",$O23<0),"Check negative amount","")))))))))))) | S23: =IF(Assumptions!$B$23="","",Assumptions!$B$23) | T23: =IF(Assumptions!$C$23="","",Assumptions!$C$23) | U23: =IF(Employees!$A$23="","",Employees!$A$23)
C24: =IF($B24="","",IFERROR(VLOOKUP($B24,Employees!$A$5:$F$104,2,FALSE),"")) | G24: =IF($B24="","",IFERROR(VLOOKUP($B24,Employees!$A$5:$F$104,4,FALSE),"")) | H24: =IF($B24="","",IFERROR(VLOOKUP($B24,Employees!$A$5:$F$104,5,FALSE),"")) | I24: =IF(OR($A24="",$B24="",$E24="",$G24=""),"",ROUND($E24*$G24,2)) | J24: =IF(OR($A24="",$B24="",$F24="",$G24="",$H24=""),"",ROUND($F24*$G24*$H24,2)) | L24: =IF(OR($A24="",$B24="",$G24="",AND($E24="",$F24="",$K24="")),"",ROUND(IF($I24="",0,$I24)+IF($J24="",0,$J24)+IF($K24="",0,$K24),2)) | O24: =IF($L24="","",ROUND($L24+IF($M24="",0,$M24)-IF($N24="",0,$N24),2)) | Q24: =IF(AND($A24="",$B24="",$D24="",$E24="",$F24="",$K24="",$M24="",$N24="",$P24="",$R24=""),"",IF($A24="","Check pay period",IF($B24="","Check employee ID",IF($C24="","Check employee ID",IF(IFERROR(VLOOKUP($B24,Employees!$A$5:$F$104,6,FALSE),"")<>"Active","Check employee status",IF($D24="","Check crew",IF($G24="","Check employee rate",IF($H24="","Check OT multiplier",IF(AND($E24="",$F24="",$K24=""),"Check pay inputs",IF(IFERROR($E24+$F24,0)>$W$2,"Check hours",IF($P24="","Check approval status",IF(AND($P24="Approved",$O24<0),"Check negative amount","")))))))))))) | S24: =IF(Assumptions!$B$24="","",Assumptions!$B$24) | T24: =IF(Assumptions!$C$24="","",Assumptions!$C$24) | U24: =IF(Employees!$A$24="","",Employees!$A$24)
C25: =IF($B25="","",IFERROR(VLOOKUP($B25,Employees!$A$5:$F$104,2,FALSE),"")) | G25: =IF($B25="","",IFERROR(VLOOKUP($B25,Employees!$A$5:$F$104,4,FALSE),"")) | H25: =IF($B25="","",IFERROR(VLOOKUP($B25,Employees!$A$5:$F$104,5,FALSE),"")) | I25: =IF(OR($A25="",$B25="",$E25="",$G25=""),"",ROUND($E25*$G25,2)) | J25: =IF(OR($A25="",$B25="",$F25="",$G25="",$H25=""),"",ROUND($F25*$G25*$H25,2)) | L25: =IF(OR($A25="",$B25="",$G25="",AND($E25="",$F25="",$K25="")),"",ROUND(IF($I25="",0,$I25)+IF($J25="",0,$J25)+IF($K25="",0,$K25),2)) | O25: =IF($L25="","",ROUND($L25+IF($M25="",0,$M25)-IF($N25="",0,$N25),2)) | Q25: =IF(AND($A25="",$B25="",$D25="",$E25="",$F25="",$K25="",$M25="",$N25="",$P25="",$R25=""),"",IF($A25="","Check pay period",IF($B25="","Check employee ID",IF($C25="","Check employee ID",IF(IFERROR(VLOOKUP($B25,Employees!$A$5:$F$104,6,FALSE),"")<>"Active","Check employee status",IF($D25="","Check crew",IF($G25="","Check employee rate",IF($H25="","Check OT multiplier",IF(AND($E25="",$F25="",$K25=""),"Check pay inputs",IF(IFERROR($E25+$F25,0)>$W$2,"Check hours",IF($P25="","Check approval status",IF(AND($P25="Approved",$O25<0),"Check negative amount","")))))))))))) | S25: =IF(Assumptions!$B$25="","",Assumptions!$B$25) | T25: =IF(Assumptions!$C$25="","",Assumptions!$C$25) | U25: =IF(Employees!$A$25="","",Employees!$A$25)
C26: =IF($B26="","",IFERROR(VLOOKUP($B26,Employees!$A$5:$F$104,2,FALSE),"")) | G26: =IF($B26="","",IFERROR(VLOOKUP($B26,Employees!$A$5:$F$104,4,FALSE),"")) | H26: =IF($B26="","",IFERROR(VLOOKUP($B26,Employees!$A$5:$F$104,5,FALSE),"")) | I26: =IF(OR($A26="",$B26="",$E26="",$G26=""),"",ROUND($E26*$G26,2)) | J26: =IF(OR($A26="",$B26="",$F26="",$G26="",$H26=""),"",ROUND($F26*$G26*$H26,2)) | L26: =IF(OR($A26="",$B26="",$G26="",AND($E26="",$F26="",$K26="")),"",ROUND(IF($I26="",0,$I26)+IF($J26="",0,$J26)+IF($K26="",0,$K26),2)) | O26: =IF($L26="","",ROUND($L26+IF($M26="",0,$M26)-IF($N26="",0,$N26),2)) | Q26: =IF(AND($A26="",$B26="",$D26="",$E26="",$F26="",$K26="",$M26="",$N26="",$P26="",$R26=""),"",IF($A26="","Check pay period",IF($B26="","Check employee ID",IF($C26="","Check employee ID",IF(IFERROR(VLOOKUP($B26,Employees!$A$5:$F$104,6,FALSE),"")<>"Active","Check employee status",IF($D26="","Check crew",IF($G26="","Check employee rate",IF($H26="","Check OT multiplier",IF(AND($E26="",$F26="",$K26=""),"Check pay inputs",IF(IFERROR($E26+$F26,0)>$W$2,"Check hours",IF($P26="","Check approval status",IF(AND($P26="Approved",$O26<0),"Check negative amount","")))))))))))) | S26: =IF(Assumptions!$B$26="","",Assumptions!$B$26) | T26: =IF(Assumptions!$C$26="","",Assumptions!$C$26) | U26: =IF(Employees!$A$26="","",Employees!$A$26)
C27: =IF($B27="","",IFERROR(VLOOKUP($B27,Employees!$A$5:$F$104,2,FALSE),"")) | G27: =IF($B27="","",IFERROR(VLOOKUP($B27,Employees!$A$5:$F$104,4,FALSE),"")) | H27: =IF($B27="","",IFERROR(VLOOKUP($B27,Employees!$A$5:$F$104,5,FALSE),"")) | I27: =IF(OR($A27="",$B27="",$E27="",$G27=""),"",ROUND($E27*$G27,2)) | J27: =IF(OR($A27="",$B27="",$F27="",$G27="",$H27=""),"",ROUND($F27*$G27*$H27,2)) | L27: =IF(OR($A27="",$B27="",$G27="",AND($E27="",$F27="",$K27="")),"",ROUND(IF($I27="",0,$I27)+IF($J27="",0,$J27)+IF($K27="",0,$K27),2)) | O27: =IF($L27="","",ROUND($L27+IF($M27="",0,$M27)-IF($N27="",0,$N27),2)) | Q27: =IF(AND($A27="",$B27="",$D27="",$E27="",$F27="",$K27="",$M27="",$N27="",$P27="",$R27=""),"",IF($A27="","Check pay period",IF($B27="","Check employee ID",IF($C27="","Check employee ID",IF(IFERROR(VLOOKUP($B27,Employees!$A$5:$F$104,6,FALSE),"")<>"Active","Check employee status",IF($D27="","Check crew",IF($G27="","Check employee rate",IF($H27="","Check OT multiplier",IF(AND($E27="",$F27="",$K27=""),"Check pay inputs",IF(IFERROR($E27+$F27,0)>$W$2,"Check hours",IF($P27="","Check approval status",IF(AND($P27="Approved",$O27<0),"Check negative amount","")))))))))))) | S27: =IF(Assumptions!$B$27="","",Assumptions!$B$27) | T27: =IF(Assumptions!$C$27="","",Assumptions!$C$27) | U27: =IF(Employees!$A$27="","",Employees!$A$27)
C28: =IF($B28="","",IFERROR(VLOOKUP($B28,Employees!$A$5:$F$104,2,FALSE),"")) | G28: =IF($B28="","",IFERROR(VLOOKUP($B28,Employees!$A$5:$F$104,4,FALSE),"")) | H28: =IF($B28="","",IFERROR(VLOOKUP($B28,Employees!$A$5:$F$104,5,FALSE),"")) | I28: =IF(OR($A28="",$B28="",$E28="",$G28=""),"",ROUND($E28*$G28,2)) | J28: =IF(OR($A28="",$B28="",$F28="",$G28="",$H28=""),"",ROUND($F28*$G28*$H28,2)) | L28: =IF(OR($A28="",$B28="",$G28="",AND($E28="",$F28="",$K28="")),"",ROUND(IF($I28="",0,$I28)+IF($J28="",0,$J28)+IF($K28="",0,$K28),2)) | O28: =IF($L28="","",ROUND($L28+IF($M28="",0,$M28)-IF($N28="",0,$N28),2)) | Q28: =IF(AND($A28="",$B28="",$D28="",$E28="",$F28="",$K28="",$M28="",$N28="",$P28="",$R28=""),"",IF($A28="","Check pay period",IF($B28="","Check employee ID",IF($C28="","Check employee ID",IF(IFERROR(VLOOKUP($B28,Employees!$A$5:$F$104,6,FALSE),"")<>"Active","Check employee status",IF($D28="","Check crew",IF($G28="","Check employee rate",IF($H28="","Check OT multiplier",IF(AND($E28="",$F28="",$K28=""),"Check pay inputs",IF(IFERROR($E28+$F28,0)>$W$2,"Check hours",IF($P28="","Check approval status",IF(AND($P28="Approved",$O28<0),"Check negative amount","")))))))))))) | S28: =IF(Assumptions!$B$28="","",Assumptions!$B$28) | T28: =IF(Assumptions!$C$28="","",Assumptions!$C$28) | U28: =IF(Employees!$A$28="","",Employees!$A$28)
C29: =IF($B29="","",IFERROR(VLOOKUP($B29,Employees!$A$5:$F$104,2,FALSE),"")) | G29: =IF($B29="","",IFERROR(VLOOKUP($B29,Employees!$A$5:$F$104,4,FALSE),"")) | H29: =IF($B29="","",IFERROR(VLOOKUP($B29,Employees!$A$5:$F$104,5,FALSE),"")) | I29: =IF(OR($A29="",$B29="",$E29="",$G29=""),"",ROUND($E29*$G29,2)) | J29: =IF(OR($A29="",$B29="",$F29="",$G29="",$H29=""),"",ROUND($F29*$G29*$H29,2)) | L29: =IF(OR($A29="",$B29="",$G29="",AND($E29="",$F29="",$K29="")),"",ROUND(IF($I29="",0,$I29)+IF($J29="",0,$J29)+IF($K29="",0,$K29),2)) | O29: =IF($L29="","",ROUND($L29+IF($M29="",0,$M29)-IF($N29="",0,$N29),2)) | Q29: =IF(AND($A29="",$B29="",$D29="",$E29="",$F29="",$K29="",$M29="",$N29="",$P29="",$R29=""),"",IF($A29="","Check pay period",IF($B29="","Check employee ID",IF($C29="","Check employee ID",IF(IFERROR(VLOOKUP($B29,Employees!$A$5:$F$104,6,FALSE),"")<>"Active","Check employee status",IF($D29="","Check crew",IF($G29="","Check employee rate",IF($H29="","Check OT multiplier",IF(AND($E29="",$F29="",$K29=""),"Check pay inputs",IF(IFERROR($E29+$F29,0)>$W$2,"Check hours",IF($P29="","Check approval status",IF(AND($P29="Approved",$O29<0),"Check negative amount","")))))))))))) | S29: =IF(Assumptions!$B$29="","",Assumptions!$B$29) | T29: =IF(Assumptions!$C$29="","",Assumptions!$C$29) | U29: =IF(Employees!$A$29="","",Employees!$A$29)
C30: =IF($B30="","",IFERROR(VLOOKUP($B30,Employees!$A$5:$F$104,2,FALSE),"")) | G30: =IF($B30="","",IFERROR(VLOOKUP($B30,Employees!$A$5:$F$104,4,FALSE),"")) | H30: =IF($B30="","",IFERROR(VLOOKUP($B30,Employees!$A$5:$F$104,5,FALSE),"")) | I30: =IF(OR($A30="",$B30="",$E30="",$G30=""),"",ROUND($E30*$G30,2)) | J30: =IF(OR($A30="",$B30="",$F30="",$G30="",$H30=""),"",ROUND($F30*$G30*$H30,2)) | L30: =IF(OR($A30="",$B30="",$G30="",AND($E30="",$F30="",$K30="")),"",ROUND(IF($I30="",0,$I30)+IF($J30="",0,$J30)+IF($K30="",0,$K30),2)) | O30: =IF($L30="","",ROUND($L30+IF($M30="",0,$M30)-IF($N30="",0,$N30),2)) | Q30: =IF(AND($A30="",$B30="",$D30="",$E30="",$F30="",$K30="",$M30="",$N30="",$P30="",$R30=""),"",IF($A30="","Check pay period",IF($B30="","Check employee ID",IF($C30="","Check employee ID",IF(IFERROR(VLOOKUP($B30,Employees!$A$5:$F$104,6,FALSE),"")<>"Active","Check employee status",IF($D30="","Check crew",IF($G30="","Check employee rate",IF($H30="","Check OT multiplier",IF(AND($E30="",$F30="",$K30=""),"Check pay inputs",IF(IFERROR($E30+$F30,0)>$W$2,"Check hours",IF($P30="","Check approval status",IF(AND($P30="Approved",$O30<0),"Check negative amount","")))))))))))) | S30: =IF(Assumptions!$B$30="","",Assumptions!$B$30) | T30: =IF(Assumptions!$C$30="","",Assumptions!$C$30) | U30: =IF(Employees!$A$30="","",Employees!$A$30)
C31: =IF($B31="","",IFERROR(VLOOKUP($B31,Employees!$A$5:$F$104,2,FALSE),"")) | G31: =IF($B31="","",IFERROR(VLOOKUP($B31,Employees!$A$5:$F$104,4,FALSE),"")) | H31: =IF($B31="","",IFERROR(VLOOKUP($B31,Employees!$A$5:$F$104,5,FALSE),"")) | I31: =IF(OR($A31="",$B31="",$E31="",$G31=""),"",ROUND($E31*$G31,2)) | J31: =IF(OR($A31="",$B31="",$F31="",$G31="",$H31=""),"",ROUND($F31*$G31*$H31,2)) | L31: =IF(OR($A31="",$B31="",$G31="",AND($E31="",$F31="",$K31="")),"",ROUND(IF($I31="",0,$I31)+IF($J31="",0,$J31)+IF($K31="",0,$K31),2)) | O31: =IF($L31="","",ROUND($L31+IF($M31="",0,$M31)-IF($N31="",0,$N31),2)) | Q31: =IF(AND($A31="",$B31="",$D31="",$E31="",$F31="",$K31="",$M31="",$N31="",$P31="",$R31=""),"",IF($A31="","Check pay period",IF($B31="","Check employee ID",IF($C31="","Check employee ID",IF(IFERROR(VLOOKUP($B31,Employees!$A$5:$F$104,6,FALSE),"")<>"Active","Check employee status",IF($D31="","Check crew",IF($G31="","Check employee rate",IF($H31="","Check OT multiplier",IF(AND($E31="",$F31="",$K31=""),"Check pay inputs",IF(IFERROR($E31+$F31,0)>$W$2,"Check hours",IF($P31="","Check approval status",IF(AND($P31="Approved",$O31<0),"Check negative amount","")))))))))))) | S31: =IF(Assumptions!$B$31="","",Assumptions!$B$31) | T31: =IF(Assumptions!$C$31="","",Assumptions!$C$31) | U31: =IF(Employees!$A$31="","",Employees!$A$31)
C32: =IF($B32="","",IFERROR(VLOOKUP($B32,Employees!$A$5:$F$104,2,FALSE),"")) | G32: =IF($B32="","",IFERROR(VLOOKUP($B32,Employees!$A$5:$F$104,4,FALSE),"")) | H32: =IF($B32="","",IFERROR(VLOOKUP($B32,Employees!$A$5:$F$104,5,FALSE),"")) | I32: =IF(OR($A32="",$B32="",$E32="",$G32=""),"",ROUND($E32*$G32,2)) | J32: =IF(OR($A32="",$B32="",$F32="",$G32="",$H32=""),"",ROUND($F32*$G32*$H32,2)) | L32: =IF(OR($A32="",$B32="",$G32="",AND($E32="",$F32="",$K32="")),"",ROUND(IF($I32="",0,$I32)+IF($J32="",0,$J32)+IF($K32="",0,$K32),2)) | O32: =IF($L32="","",ROUND($L32+IF($M32="",0,$M32)-IF($N32="",0,$N32),2)) | Q32: =IF(AND($A32="",$B32="",$D32="",$E32="",$F32="",$K32="",$M32="",$N32="",$P32="",$R32=""),"",IF($A32="","Check pay period",IF($B32="","Check employee ID",IF($C32="","Check employee ID",IF(IFERROR(VLOOKUP($B32,Employees!$A$5:$F$104,6,FALSE),"")<>"Active","Check employee status",IF($D32="","Check crew",IF($G32="","Check employee rate",IF($H32="","Check OT multiplier",IF(AND($E32="",$F32="",$K32=""),"Check pay inputs",IF(IFERROR($E32+$F32,0)>$W$2,"Check hours",IF($P32="","Check approval status",IF(AND($P32="Approved",$O32<0),"Check negative amount","")))))))))))) | S32: =IF(Assumptions!$B$32="","",Assumptions!$B$32) | T32: =IF(Assumptions!$C$32="","",Assumptions!$C$32) | U32: =IF(Employees!$A$32="","",Employees!$A$32)
C33: =IF($B33="","",IFERROR(VLOOKUP($B33,Employees!$A$5:$F$104,2,FALSE),"")) | G33: =IF($B33="","",IFERROR(VLOOKUP($B33,Employees!$A$5:$F$104,4,FALSE),"")) | H33: =IF($B33="","",IFERROR(VLOOKUP($B33,Employees!$A$5:$F$104,5,FALSE),"")) | I33: =IF(OR($A33="",$B33="",$E33="",$G33=""),"",ROUND($E33*$G33,2)) | J33: =IF(OR($A33="",$B33="",$F33="",$G33="",$H33=""),"",ROUND($F33*$G33*$H33,2)) | L33: =IF(OR($A33="",$B33="",$G33="",AND($E33="",$F33="",$K33="")),"",ROUND(IF($I33="",0,$I33)+IF($J33="",0,$J33)+IF($K33="",0,$K33),2)) | O33: =IF($L33="","",ROUND($L33+IF($M33="",0,$M33)-IF($N33="",0,$N33),2)) | Q33: =IF(AND($A33="",$B33="",$D33="",$E33="",$F33="",$K33="",$M33="",$N33="",$P33="",$R33=""),"",IF($A33="","Check pay period",IF($B33="","Check employee ID",IF($C33="","Check employee ID",IF(IFERROR(VLOOKUP($B33,Employees!$A$5:$F$104,6,FALSE),"")<>"Active","Check employee status",IF($D33="","Check crew",IF($G33="","Check employee rate",IF($H33="","Check OT multiplier",IF(AND($E33="",$F33="",$K33=""),"Check pay inputs",IF(IFERROR($E33+$F33,0)>$W$2,"Check hours",IF($P33="","Check approval status",IF(AND($P33="Approved",$O33<0),"Check negative amount","")))))))))))) | S33: =IF(Assumptions!$B$33="","",Assumptions!$B$33) | T33: =IF(Assumptions!$C$33="","",Assumptions!$C$33) | U33: =IF(Employees!$A$33="","",Employees!$A$33)
C34: =IF($B34="","",IFERROR(VLOOKUP($B34,Employees!$A$5:$F$104,2,FALSE),"")) | G34: =IF($B34="","",IFERROR(VLOOKUP($B34,Employees!$A$5:$F$104,4,FALSE),"")) | H34: =IF($B34="","",IFERROR(VLOOKUP($B34,Employees!$A$5:$F$104,5,FALSE),"")) | I34: =IF(OR($A34="",$B34="",$E34="",$G34=""),"",ROUND($E34*$G34,2)) | J34: =IF(OR($A34="",$B34="",$F34="",$G34="",$H34=""),"",ROUND($F34*$G34*$H34,2)) | L34: =IF(OR($A34="",$B34="",$G34="",AND($E34="",$F34="",$K34="")),"",ROUND(IF($I34="",0,$I34)+IF($J34="",0,$J34)+IF($K34="",0,$K34),2)) | O34: =IF($L34="","",ROUND($L34+IF($M34="",0,$M34)-IF($N34="",0,$N34),2)) | Q34: =IF(AND($A34="",$B34="",$D34="",$E34="",$F34="",$K34="",$M34="",$N34="",$P34="",$R34=""),"",IF($A34="","Check pay period",IF($B34="","Check employee ID",IF($C34="","Check employee ID",IF(IFERROR(VLOOKUP($B34,Employees!$A$5:$F$104,6,FALSE),"")<>"Active","Check employee status",IF($D34="","Check crew",IF($G34="","Check employee rate",IF($H34="","Check OT multiplier",IF(AND($E34="",$F34="",$K34=""),"Check pay inputs",IF(IFERROR($E34+$F34,0)>$W$2,"Check hours",IF($P34="","Check approval status",IF(AND($P34="Approved",$O34<0),"Check negative amount","")))))))))))) | S34: =IF(Assumptions!$B$34="","",Assumptions!$B$34) | T34: =IF(Assumptions!$C$34="","",Assumptions!$C$34) | U34: =IF(Employees!$A$34="","",Employees!$A$34)
C35: =IF($B35="","",IFERROR(VLOOKUP($B35,Employees!$A$5:$F$104,2,FALSE),"")) | G35: =IF($B35="","",IFERROR(VLOOKUP($B35,Employees!$A$5:$F$104,4,FALSE),"")) | H35: =IF($B35="","",IFERROR(VLOOKUP($B35,Employees!$A$5:$F$104,5,FALSE),"")) | I35: =IF(OR($A35="",$B35="",$E35="",$G35=""),"",ROUND($E35*$G35,2)) | J35: =IF(OR($A35="",$B35="",$F35="",$G35="",$H35=""),"",ROUND($F35*$G35*$H35,2)) | L35: =IF(OR($A35="",$B35="",$G35="",AND($E35="",$F35="",$K35="")),"",ROUND(IF($I35="",0,$I35)+IF($J35="",0,$J35)+IF($K35="",0,$K35),2)) | O35: =IF($L35="","",ROUND($L35+IF($M35="",0,$M35)-IF($N35="",0,$N35),2)) | Q35: =IF(AND($A35="",$B35="",$D35="",$E35="",$F35="",$K35="",$M35="",$N35="",$P35="",$R35=""),"",IF($A35="","Check pay period",IF($B35="","Check employee ID",IF($C35="","Check employee ID",IF(IFERROR(VLOOKUP($B35,Employees!$A$5:$F$104,6,FALSE),"")<>"Active","Check employee status",IF($D35="","Check crew",IF($G35="","Check employee rate",IF($H35="","Check OT multiplier",IF(AND($E35="",$F35="",$K35=""),"Check pay inputs",IF(IFERROR($E35+$F35,0)>$W$2,"Check hours",IF($P35="","Check approval status",IF(AND($P35="Approved",$O35<0),"Check negative amount","")))))))))))) | S35: =IF(Assumptions!$B$35="","",Assumptions!$B$35) | T35: =IF(Assumptions!$C$35="","",Assumptions!$C$35) | U35: =IF(Employees!$A$35="","",Employees!$A$35)
C36: =IF($B36="","",IFERROR(VLOOKUP($B36,Employees!$A$5:$F$104,2,FALSE),"")) | G36: =IF($B36="","",IFERROR(VLOOKUP($B36,Employees!$A$5:$F$104,4,FALSE),"")) | H36: =IF($B36="","",IFERROR(VLOOKUP($B36,Employees!$A$5:$F$104,5,FALSE),"")) | I36: =IF(OR($A36="",$B36="",$E36="",$G36=""),"",ROUND($E36*$G36,2)) | J36: =IF(OR($A36="",$B36="",$F36="",$G36="",$H36=""),"",ROUND($F36*$G36*$H36,2)) | L36: =IF(OR($A36="",$B36="",$G36="",AND($E36="",$F36="",$K36="")),"",ROUND(IF($I36="",0,$I36)+IF($J36="",0,$J36)+IF($K36="",0,$K36),2)) | O36: =IF($L36="","",ROUND($L36+IF($M36="",0,$M36)-IF($N36="",0,$N36),2)) | Q36: =IF(AND($A36="",$B36="",$D36="",$E36="",$F36="",$K36="",$M36="",$N36="",$P36="",$R36=""),"",IF($A36="","Check pay period",IF($B36="","Check employee ID",IF($C36="","Check employee ID",IF(IFERROR(VLOOKUP($B36,Employees!$A$5:$F$104,6,FALSE),"")<>"Active","Check employee status",IF($D36="","Check crew",IF($G36="","Check employee rate",IF($H36="","Check OT multiplier",IF(AND($E36="",$F36="",$K36=""),"Check pay inputs",IF(IFERROR($E36+$F36,0)>$W$2,"Check hours",IF($P36="","Check approval status",IF(AND($P36="Approved",$O36<0),"Check negative amount","")))))))))))) | S36: =IF(Assumptions!$B$36="","",Assumptions!$B$36) | T36: =IF(Assumptions!$C$36="","",Assumptions!$C$36) | U36: =IF(Employees!$A$36="","",Employees!$A$36)
C37: =IF($B37="","",IFERROR(VLOOKUP($B37,Employees!$A$5:$F$104,2,FALSE),"")) | G37: =IF($B37="","",IFERROR(VLOOKUP($B37,Employees!$A$5:$F$104,4,FALSE),"")) | H37: =IF($B37="","",IFERROR(VLOOKUP($B37,Employees!$A$5:$F$104,5,FALSE),"")) | I37: =IF(OR($A37="",$B37="",$E37="",$G37=""),"",ROUND($E37*$G37,2)) | J37: =IF(OR($A37="",$B37="",$F37="",$G37="",$H37=""),"",ROUND($F37*$G37*$H37,2)) | L37: =IF(OR($A37="",$B37="",$G37="",AND($E37="",$F37="",$K37="")),"",ROUND(IF($I37="",0,$I37)+IF($J37="",0,$J37)+IF($K37="",0,$K37),2)) | O37: =IF($L37="","",ROUND($L37+IF($M37="",0,$M37)-IF($N37="",0,$N37),2)) | Q37: =IF(AND($A37="",$B37="",$D37="",$E37="",$F37="",$K37="",$M37="",$N37="",$P37="",$R37=""),"",IF($A37="","Check pay period",IF($B37="","Check employee ID",IF($C37="","Check employee ID",IF(IFERROR(VLOOKUP($B37,Employees!$A$5:$F$104,6,FALSE),"")<>"Active","Check employee status",IF($D37="","Check crew",IF($G37="","Check employee rate",IF($H37="","Check OT multiplier",IF(AND($E37="",$F37="",$K37=""),"Check pay inputs",IF(IFERROR($E37+$F37,0)>$W$2,"Check hours",IF($P37="","Check approval status",IF(AND($P37="Approved",$O37<0),"Check negative amount","")))))))))))) | S37: =IF(Assumptions!$B$37="","",Assumptions!$B$37) | T37: =IF(Assumptions!$C$37="","",Assumptions!$C$37) | U37: =IF(Employees!$A$37="","",Employees!$A$37)
C38: =IF($B38="","",IFERROR(VLOOKUP($B38,Employees!$A$5:$F$104,2,FALSE),"")) | G38: =IF($B38="","",IFERROR(VLOOKUP($B38,Employees!$A$5:$F$104,4,FALSE),"")) | H38: =IF($B38="","",IFERROR(VLOOKUP($B38,Employees!$A$5:$F$104,5,FALSE),"")) | I38: =IF(OR($A38="",$B38="",$E38="",$G38=""),"",ROUND($E38*$G38,2)) | J38: =IF(OR($A38="",$B38="",$F38="",$G38="",$H38=""),"",ROUND($F38*$G38*$H38,2)) | L38: =IF(OR($A38="",$B38="",$G38="",AND($E38="",$F38="",$K38="")),"",ROUND(IF($I38="",0,$I38)+IF($J38="",0,$J38)+IF($K38="",0,$K38),2)) | O38: =IF($L38="","",ROUND($L38+IF($M38="",0,$M38)-IF($N38="",0,$N38),2)) | Q38: =IF(AND($A38="",$B38="",$D38="",$E38="",$F38="",$K38="",$M38="",$N38="",$P38="",$R38=""),"",IF($A38="","Check pay period",IF($B38="","Check employee ID",IF($C38="","Check employee ID",IF(IFERROR(VLOOKUP($B38,Employees!$A$5:$F$104,6,FALSE),"")<>"Active","Check employee status",IF($D38="","Check crew",IF($G38="","Check employee rate",IF($H38="","Check OT multiplier",IF(AND($E38="",$F38="",$K38=""),"Check pay inputs",IF(IFERROR($E38+$F38,0)>$W$2,"Check hours",IF($P38="","Check approval status",IF(AND($P38="Approved",$O38<0),"Check negative amount","")))))))))))) | S38: =IF(Assumptions!$B$38="","",Assumptions!$B$38) | T38: =IF(Assumptions!$C$38="","",Assumptions!$C$38) | U38: =IF(Employees!$A$38="","",Employees!$A$38)
C39: =IF($B39="","",IFERROR(VLOOKUP($B39,Employees!$A$5:$F$104,2,FALSE),"")) | G39: =IF($B39="","",IFERROR(VLOOKUP($B39,Employees!$A$5:$F$104,4,FALSE),"")) | H39: =IF($B39="","",IFERROR(VLOOKUP($B39,Employees!$A$5:$F$104,5,FALSE),"")) | I39: =IF(OR($A39="",$B39="",$E39="",$G39=""),"",ROUND($E39*$G39,2)) | J39: =IF(OR($A39="",$B39="",$F39="",$G39="",$H39=""),"",ROUND($F39*$G39*$H39,2)) | L39: =IF(OR($A39="",$B39="",$G39="",AND($E39="",$F39="",$K39="")),"",ROUND(IF($I39="",0,$I39)+IF($J39="",0,$J39)+IF($K39="",0,$K39),2)) | O39: =IF($L39="","",ROUND($L39+IF($M39="",0,$M39)-IF($N39="",0,$N39),2)) | Q39: =IF(AND($A39="",$B39="",$D39="",$E39="",$F39="",$K39="",$M39="",$N39="",$P39="",$R39=""),"",IF($A39="","Check pay period",IF($B39="","Check employee ID",IF($C39="","Check employee ID",IF(IFERROR(VLOOKUP($B39,Employees!$A$5:$F$104,6,FALSE),"")<>"Active","Check employee status",IF($D39="","Check crew",IF($G39="","Check employee rate",IF($H39="","Check OT multiplier",IF(AND($E39="",$F39="",$K39=""),"Check pay inputs",IF(IFERROR($E39+$F39,0)>$W$2,"Check hours",IF($P39="","Check approval status",IF(AND($P39="Approved",$O39<0),"Check negative amount","")))))))))))) | S39: =IF(Assumptions!$B$39="","",Assumptions!$B$39) | T39: =IF(Assumptions!$C$39="","",Assumptions!$C$39) | U39: =IF(Employees!$A$39="","",Employees!$A$39)
C40: =IF($B40="","",IFERROR(VLOOKUP($B40,Employees!$A$5:$F$104,2,FALSE),"")) | G40: =IF($B40="","",IFERROR(VLOOKUP($B40,Employees!$A$5:$F$104,4,FALSE),"")) | H40: =IF($B40="","",IFERROR(VLOOKUP($B40,Employees!$A$5:$F$104,5,FALSE),"")) | I40: =IF(OR($A40="",$B40="",$E40="",$G40=""),"",ROUND($E40*$G40,2)) | J40: =IF(OR($A40="",$B40="",$F40="",$G40="",$H40=""),"",ROUND($F40*$G40*$H40,2)) | L40: =IF(OR($A40="",$B40="",$G40="",AND($E40="",$F40="",$K40="")),"",ROUND(IF($I40="",0,$I40)+IF($J40="",0,$J40)+IF($K40="",0,$K40),2)) | O40: =IF($L40="","",ROUND($L40+IF($M40="",0,$M40)-IF($N40="",0,$N40),2)) | Q40: =IF(AND($A40="",$B40="",$D40="",$E40="",$F40="",$K40="",$M40="",$N40="",$P40="",$R40=""),"",IF($A40="","Check pay period",IF($B40="","Check employee ID",IF($C40="","Check employee ID",IF(IFERROR(VLOOKUP($B40,Employees!$A$5:$F$104,6,FALSE),"")<>"Active","Check employee status",IF($D40="","Check crew",IF($G40="","Check employee rate",IF($H40="","Check OT multiplier",IF(AND($E40="",$F40="",$K40=""),"Check pay inputs",IF(IFERROR($E40+$F40,0)>$W$2,"Check hours",IF($P40="","Check approval status",IF(AND($P40="Approved",$O40<0),"Check negative amount","")))))))))))) | S40: =IF(Assumptions!$B$40="","",Assumptions!$B$40) | T40: =IF(Assumptions!$C$40="","",Assumptions!$C$40) | U40: =IF(Employees!$A$40="","",Employees!$A$40)
C41: =IF($B41="","",IFERROR(VLOOKUP($B41,Employees!$A$5:$F$104,2,FALSE),"")) | G41: =IF($B41="","",IFERROR(VLOOKUP($B41,Employees!$A$5:$F$104,4,FALSE),"")) | H41: =IF($B41="","",IFERROR(VLOOKUP($B41,Employees!$A$5:$F$104,5,FALSE),"")) | I41: =IF(OR($A41="",$B41="",$E41="",$G41=""),"",ROUND($E41*$G41,2)) | J41: =IF(OR($A41="",$B41="",$F41="",$G41="",$H41=""),"",ROUND($F41*$G41*$H41,2)) | L41: =IF(OR($A41="",$B41="",$G41="",AND($E41="",$F41="",$K41="")),"",ROUND(IF($I41="",0,$I41)+IF($J41="",0,$J41)+IF($K41="",0,$K41),2)) | O41: =IF($L41="","",ROUND($L41+IF($M41="",0,$M41)-IF($N41="",0,$N41),2)) | Q41: =IF(AND($A41="",$B41="",$D41="",$E41="",$F41="",$K41="",$M41="",$N41="",$P41="",$R41=""),"",IF($A41="","Check pay period",IF($B41="","Check employee ID",IF($C41="","Check employee ID",IF(IFERROR(VLOOKUP($B41,Employees!$A$5:$F$104,6,FALSE),"")<>"Active","Check employee status",IF($D41="","Check crew",IF($G41="","Check employee rate",IF($H41="","Check OT multiplier",IF(AND($E41="",$F41="",$K41=""),"Check pay inputs",IF(IFERROR($E41+$F41,0)>$W$2,"Check hours",IF($P41="","Check approval status",IF(AND($P41="Approved",$O41<0),"Check negative amount","")))))))))))) | S41: =IF(Assumptions!$B$41="","",Assumptions!$B$41) | T41: =IF(Assumptions!$C$41="","",Assumptions!$C$41) | U41: =IF(Employees!$A$41="","",Employees!$A$41)
C42: =IF($B42="","",IFERROR(VLOOKUP($B42,Employees!$A$5:$F$104,2,FALSE),"")) | G42: =IF($B42="","",IFERROR(VLOOKUP($B42,Employees!$A$5:$F$104,4,FALSE),"")) | H42: =IF($B42="","",IFERROR(VLOOKUP($B42,Employees!$A$5:$F$104,5,FALSE),"")) | I42: =IF(OR($A42="",$B42="",$E42="",$G42=""),"",ROUND($E42*$G42,2)) | J42: =IF(OR($A42="",$B42="",$F42="",$G42="",$H42=""),"",ROUND($F42*$G42*$H42,2)) | L42: =IF(OR($A42="",$B42="",$G42="",AND($E42="",$F42="",$K42="")),"",ROUND(IF($I42="",0,$I42)+IF($J42="",0,$J42)+IF($K42="",0,$K42),2)) | O42: =IF($L42="","",ROUND($L42+IF($M42="",0,$M42)-IF($N42="",0,$N42),2)) | Q42: =IF(AND($A42="",$B42="",$D42="",$E42="",$F42="",$K42="",$M42="",$N42="",$P42="",$R42=""),"",IF($A42="","Check pay period",IF($B42="","Check employee ID",IF($C42="","Check employee ID",IF(IFERROR(VLOOKUP($B42,Employees!$A$5:$F$104,6,FALSE),"")<>"Active","Check employee status",IF($D42="","Check crew",IF($G42="","Check employee rate",IF($H42="","Check OT multiplier",IF(AND($E42="",$F42="",$K42=""),"Check pay inputs",IF(IFERROR($E42+$F42,0)>$W$2,"Check hours",IF($P42="","Check approval status",IF(AND($P42="Approved",$O42<0),"Check negative amount","")))))))))))) | S42: =IF(Assumptions!$B$42="","",Assumptions!$B$42) | T42: =IF(Assumptions!$C$42="","",Assumptions!$C$42) | U42: =IF(Employees!$A$42="","",Employees!$A$42)
C43: =IF($B43="","",IFERROR(VLOOKUP($B43,Employees!$A$5:$F$104,2,FALSE),"")) | G43: =IF($B43="","",IFERROR(VLOOKUP($B43,Employees!$A$5:$F$104,4,FALSE),"")) | H43: =IF($B43="","",IFERROR(VLOOKUP($B43,Employees!$A$5:$F$104,5,FALSE),"")) | I43: =IF(OR($A43="",$B43="",$E43="",$G43=""),"",ROUND($E43*$G43,2)) | J43: =IF(OR($A43="",$B43="",$F43="",$G43="",$H43=""),"",ROUND($F43*$G43*$H43,2)) | L43: =IF(OR($A43="",$B43="",$G43="",AND($E43="",$F43="",$K43="")),"",ROUND(IF($I43="",0,$I43)+IF($J43="",0,$J43)+IF($K43="",0,$K43),2)) | O43: =IF($L43="","",ROUND($L43+IF($M43="",0,$M43)-IF($N43="",0,$N43),2)) | Q43: =IF(AND($A43="",$B43="",$D43="",$E43="",$F43="",$K43="",$M43="",$N43="",$P43="",$R43=""),"",IF($A43="","Check pay period",IF($B43="","Check employee ID",IF($C43="","Check employee ID",IF(IFERROR(VLOOKUP($B43,Employees!$A$5:$F$104,6,FALSE),"")<>"Active","Check employee status",IF($D43="","Check crew",IF($G43="","Check employee rate",IF($H43="","Check OT multiplier",IF(AND($E43="",$F43="",$K43=""),"Check pay inputs",IF(IFERROR($E43+$F43,0)>$W$2,"Check hours",IF($P43="","Check approval status",IF(AND($P43="Approved",$O43<0),"Check negative amount","")))))))))))) | S43: =IF(Assumptions!$B$43="","",Assumptions!$B$43) | T43: =IF(Assumptions!$C$43="","",Assumptions!$C$43) | U43: =IF(Employees!$A$43="","",Employees!$A$43)
C44: =IF($B44="","",IFERROR(VLOOKUP($B44,Employees!$A$5:$F$104,2,FALSE),"")) | G44: =IF($B44="","",IFERROR(VLOOKUP($B44,Employees!$A$5:$F$104,4,FALSE),"")) | H44: =IF($B44="","",IFERROR(VLOOKUP($B44,Employees!$A$5:$F$104,5,FALSE),"")) | I44: =IF(OR($A44="",$B44="",$E44="",$G44=""),"",ROUND($E44*$G44,2)) | J44: =IF(OR($A44="",$B44="",$F44="",$G44="",$H44=""),"",ROUND($F44*$G44*$H44,2)) | L44: =IF(OR($A44="",$B44="",$G44="",AND($E44="",$F44="",$K44="")),"",ROUND(IF($I44="",0,$I44)+IF($J44="",0,$J44)+IF($K44="",0,$K44),2)) | O44: =IF($L44="","",ROUND($L44+IF($M44="",0,$M44)-IF($N44="",0,$N44),2)) | Q44: =IF(AND($A44="",$B44="",$D44="",$E44="",$F44="",$K44="",$M44="",$N44="",$P44="",$R44=""),"",IF($A44="","Check pay period",IF($B44="","Check employee ID",IF($C44="","Check employee ID",IF(IFERROR(VLOOKUP($B44,Employees!$A$5:$F$104,6,FALSE),"")<>"Active","Check employee status",IF($D44="","Check crew",IF($G44="","Check employee rate",IF($H44="","Check OT multiplier",IF(AND($E44="",$F44="",$K44=""),"Check pay inputs",IF(IFERROR($E44+$F44,0)>$W$2,"Check hours",IF($P44="","Check approval status",IF(AND($P44="Approved",$O44<0),"Check negative amount","")))))))))))) | S44: =IF(Assumptions!$B$44="","",Assumptions!$B$44) | T44: =IF(Assumptions!$C$44="","",Assumptions!$C$44) | U44: =IF(Employees!$A$44="","",Employees!$A$44)
C45: =IF($B45="","",IFERROR(VLOOKUP($B45,Employees!$A$5:$F$104,2,FALSE),"")) | G45: =IF($B45="","",IFERROR(VLOOKUP($B45,Employees!$A$5:$F$104,4,FALSE),"")) | H45: =IF($B45="","",IFERROR(VLOOKUP($B45,Employees!$A$5:$F$104,5,FALSE),"")) | I45: =IF(OR($A45="",$B45="",$E45="",$G45=""),"",ROUND($E45*$G45,2)) | J45: =IF(OR($A45="",$B45="",$F45="",$G45="",$H45=""),"",ROUND($F45*$G45*$H45,2)) | L45: =IF(OR($A45="",$B45="",$G45="",AND($E45="",$F45="",$K45="")),"",ROUND(IF($I45="",0,$I45)+IF($J45="",0,$J45)+IF($K45="",0,$K45),2)) | O45: =IF($L45="","",ROUND($L45+IF($M45="",0,$M45)-IF($N45="",0,$N45),2)) | Q45: =IF(AND($A45="",$B45="",$D45="",$E45="",$F45="",$K45="",$M45="",$N45="",$P45="",$R45=""),"",IF($A45="","Check pay period",IF($B45="","Check employee ID",IF($C45="","Check employee ID",IF(IFERROR(VLOOKUP($B45,Employees!$A$5:$F$104,6,FALSE),"")<>"Active","Check employee status",IF($D45="","Check crew",IF($G45="","Check employee rate",IF($H45="","Check OT multiplier",IF(AND($E45="",$F45="",$K45=""),"Check pay inputs",IF(IFERROR($E45+$F45,0)>$W$2,"Check hours",IF($P45="","Check approval status",IF(AND($P45="Approved",$O45<0),"Check negative amount","")))))))))))) | S45: =IF(Assumptions!$B$45="","",Assumptions!$B$45) | T45: =IF(Assumptions!$C$45="","",Assumptions!$C$45) | U45: =IF(Employees!$A$45="","",Employees!$A$45)
C46: =IF($B46="","",IFERROR(VLOOKUP($B46,Employees!$A$5:$F$104,2,FALSE),"")) | G46: =IF($B46="","",IFERROR(VLOOKUP($B46,Employees!$A$5:$F$104,4,FALSE),"")) | H46: =IF($B46="","",IFERROR(VLOOKUP($B46,Employees!$A$5:$F$104,5,FALSE),"")) | I46: =IF(OR($A46="",$B46="",$E46="",$G46=""),"",ROUND($E46*$G46,2)) | J46: =IF(OR($A46="",$B46="",$F46="",$G46="",$H46=""),"",ROUND($F46*$G46*$H46,2)) | L46: =IF(OR($A46="",$B46="",$G46="",AND($E46="",$F46="",$K46="")),"",ROUND(IF($I46="",0,$I46)+IF($J46="",0,$J46)+IF($K46="",0,$K46),2)) | O46: =IF($L46="","",ROUND($L46+IF($M46="",0,$M46)-IF($N46="",0,$N46),2)) | Q46: =IF(AND($A46="",$B46="",$D46="",$E46="",$F46="",$K46="",$M46="",$N46="",$P46="",$R46=""),"",IF($A46="","Check pay period",IF($B46="","Check employee ID",IF($C46="","Check employee ID",IF(IFERROR(VLOOKUP($B46,Employees!$A$5:$F$104,6,FALSE),"")<>"Active","Check employee status",IF($D46="","Check crew",IF($G46="","Check employee rate",IF($H46="","Check OT multiplier",IF(AND($E46="",$F46="",$K46=""),"Check pay inputs",IF(IFERROR($E46+$F46,0)>$W$2,"Check hours",IF($P46="","Check approval status",IF(AND($P46="Approved",$O46<0),"Check negative amount","")))))))))))) | S46: =IF(Assumptions!$B$46="","",Assumptions!$B$46) | T46: =IF(Assumptions!$C$46="","",Assumptions!$C$46) | U46: =IF(Employees!$A$46="","",Employees!$A$46)
C47: =IF($B47="","",IFERROR(VLOOKUP($B47,Employees!$A$5:$F$104,2,FALSE),"")) | G47: =IF($B47="","",IFERROR(VLOOKUP($B47,Employees!$A$5:$F$104,4,FALSE),"")) | H47: =IF($B47="","",IFERROR(VLOOKUP($B47,Employees!$A$5:$F$104,5,FALSE),"")) | I47: =IF(OR($A47="",$B47="",$E47="",$G47=""),"",ROUND($E47*$G47,2)) | J47: =IF(OR($A47="",$B47="",$F47="",$G47="",$H47=""),"",ROUND($F47*$G47*$H47,2)) | L47: =IF(OR($A47="",$B47="",$G47="",AND($E47="",$F47="",$K47="")),"",ROUND(IF($I47="",0,$I47)+IF($J47="",0,$J47)+IF($K47="",0,$K47),2)) | O47: =IF($L47="","",ROUND($L47+IF($M47="",0,$M47)-IF($N47="",0,$N47),2)) | Q47: =IF(AND($A47="",$B47="",$D47="",$E47="",$F47="",$K47="",$M47="",$N47="",$P47="",$R47=""),"",IF($A47="","Check pay period",IF($B47="","Check employee ID",IF($C47="","Check employee ID",IF(IFERROR(VLOOKUP($B47,Employees!$A$5:$F$104,6,FALSE),"")<>"Active","Check employee status",IF($D47="","Check crew",IF($G47="","Check employee rate",IF($H47="","Check OT multiplier",IF(AND($E47="",$F47="",$K47=""),"Check pay inputs",IF(IFERROR($E47+$F47,0)>$W$2,"Check hours",IF($P47="","Check approval status",IF(AND($P47="Approved",$O47<0),"Check negative amount","")))))))))))) | S47: =IF(Assumptions!$B$47="","",Assumptions!$B$47) | T47: =IF(Assumptions!$C$47="","",Assumptions!$C$47) | U47: =IF(Employees!$A$47="","",Employees!$A$47)
C48: =IF($B48="","",IFERROR(VLOOKUP($B48,Employees!$A$5:$F$104,2,FALSE),"")) | G48: =IF($B48="","",IFERROR(VLOOKUP($B48,Employees!$A$5:$F$104,4,FALSE),"")) | H48: =IF($B48="","",IFERROR(VLOOKUP($B48,Employees!$A$5:$F$104,5,FALSE),"")) | I48: =IF(OR($A48="",$B48="",$E48="",$G48=""),"",ROUND($E48*$G48,2)) | J48: =IF(OR($A48="",$B48="",$F48="",$G48="",$H48=""),"",ROUND($F48*$G48*$H48,2)) | L48: =IF(OR($A48="",$B48="",$G48="",AND($E48="",$F48="",$K48="")),"",ROUND(IF($I48="",0,$I48)+IF($J48="",0,$J48)+IF($K48="",0,$K48),2)) | O48: =IF($L48="","",ROUND($L48+IF($M48="",0,$M48)-IF($N48="",0,$N48),2)) | Q48: =IF(AND($A48="",$B48="",$D48="",$E48="",$F48="",$K48="",$M48="",$N48="",$P48="",$R48=""),"",IF($A48="","Check pay period",IF($B48="","Check employee ID",IF($C48="","Check employee ID",IF(IFERROR(VLOOKUP($B48,Employees!$A$5:$F$104,6,FALSE),"")<>"Active","Check employee status",IF($D48="","Check crew",IF($G48="","Check employee rate",IF($H48="","Check OT multiplier",IF(AND($E48="",$F48="",$K48=""),"Check pay inputs",IF(IFERROR($E48+$F48,0)>$W$2,"Check hours",IF($P48="","Check approval status",IF(AND($P48="Approved",$O48<0),"Check negative amount","")))))))))))) | S48: =IF(Assumptions!$B$48="","",Assumptions!$B$48) | T48: =IF(Assumptions!$C$48="","",Assumptions!$C$48) | U48: =IF(Employees!$A$48="","",Employees!$A$48)
C49: =IF($B49="","",IFERROR(VLOOKUP($B49,Employees!$A$5:$F$104,2,FALSE),"")) | G49: =IF($B49="","",IFERROR(VLOOKUP($B49,Employees!$A$5:$F$104,4,FALSE),"")) | H49: =IF($B49="","",IFERROR(VLOOKUP($B49,Employees!$A$5:$F$104,5,FALSE),"")) | I49: =IF(OR($A49="",$B49="",$E49="",$G49=""),"",ROUND($E49*$G49,2)) | J49: =IF(OR($A49="",$B49="",$F49="",$G49="",$H49=""),"",ROUND($F49*$G49*$H49,2)) | L49: =IF(OR($A49="",$B49="",$G49="",AND($E49="",$F49="",$K49="")),"",ROUND(IF($I49="",0,$I49)+IF($J49="",0,$J49)+IF($K49="",0,$K49),2)) | O49: =IF($L49="","",ROUND($L49+IF($M49="",0,$M49)-IF($N49="",0,$N49),2)) | Q49: =IF(AND($A49="",$B49="",$D49="",$E49="",$F49="",$K49="",$M49="",$N49="",$P49="",$R49=""),"",IF($A49="","Check pay period",IF($B49="","Check employee ID",IF($C49="","Check employee ID",IF(IFERROR(VLOOKUP($B49,Employees!$A$5:$F$104,6,FALSE),"")<>"Active","Check employee status",IF($D49="","Check crew",IF($G49="","Check employee rate",IF($H49="","Check OT multiplier",IF(AND($E49="",$F49="",$K49=""),"Check pay inputs",IF(IFERROR($E49+$F49,0)>$W$2,"Check hours",IF($P49="","Check approval status",IF(AND($P49="Approved",$O49<0),"Check negative amount","")))))))))))) | S49: =IF(Assumptions!$B$49="","",Assumptions!$B$49) | T49: =IF(Assumptions!$C$49="","",Assumptions!$C$49) | U49: =IF(Employees!$A$49="","",Employees!$A$49)
C50: =IF($B50="","",IFERROR(VLOOKUP($B50,Employees!$A$5:$F$104,2,FALSE),"")) | G50: =IF($B50="","",IFERROR(VLOOKUP($B50,Employees!$A$5:$F$104,4,FALSE),"")) | H50: =IF($B50="","",IFERROR(VLOOKUP($B50,Employees!$A$5:$F$104,5,FALSE),"")) | I50: =IF(OR($A50="",$B50="",$E50="",$G50=""),"",ROUND($E50*$G50,2)) | J50: =IF(OR($A50="",$B50="",$F50="",$G50="",$H50=""),"",ROUND($F50*$G50*$H50,2)) | L50: =IF(OR($A50="",$B50="",$G50="",AND($E50="",$F50="",$K50="")),"",ROUND(IF($I50="",0,$I50)+IF($J50="",0,$J50)+IF($K50="",0,$K50),2)) | O50: =IF($L50="","",ROUND($L50+IF($M50="",0,$M50)-IF($N50="",0,$N50),2)) | Q50: =IF(AND($A50="",$B50="",$D50="",$E50="",$F50="",$K50="",$M50="",$N50="",$P50="",$R50=""),"",IF($A50="","Check pay period",IF($B50="","Check employee ID",IF($C50="","Check employee ID",IF(IFERROR(VLOOKUP($B50,Employees!$A$5:$F$104,6,FALSE),"")<>"Active","Check employee status",IF($D50="","Check crew",IF($G50="","Check employee rate",IF($H50="","Check OT multiplier",IF(AND($E50="",$F50="",$K50=""),"Check pay inputs",IF(IFERROR($E50+$F50,0)>$W$2,"Check hours",IF($P50="","Check approval status",IF(AND($P50="Approved",$O50<0),"Check negative amount","")))))))))))) | S50: =IF(Assumptions!$B$50="","",Assumptions!$B$50) | T50: =IF(Assumptions!$C$50="","",Assumptions!$C$50) | U50: =IF(Employees!$A$50="","",Employees!$A$50)
C51: =IF($B51="","",IFERROR(VLOOKUP($B51,Employees!$A$5:$F$104,2,FALSE),"")) | G51: =IF($B51="","",IFERROR(VLOOKUP($B51,Employees!$A$5:$F$104,4,FALSE),"")) | H51: =IF($B51="","",IFERROR(VLOOKUP($B51,Employees!$A$5:$F$104,5,FALSE),"")) | I51: =IF(OR($A51="",$B51="",$E51="",$G51=""),"",ROUND($E51*$G51,2)) | J51: =IF(OR($A51="",$B51="",$F51="",$G51="",$H51=""),"",ROUND($F51*$G51*$H51,2)) | L51: =IF(OR($A51="",$B51="",$G51="",AND($E51="",$F51="",$K51="")),"",ROUND(IF($I51="",0,$I51)+IF($J51="",0,$J51)+IF($K51="",0,$K51),2)) | O51: =IF($L51="","",ROUND($L51+IF($M51="",0,$M51)-IF($N51="",0,$N51),2)) | Q51: =IF(AND($A51="",$B51="",$D51="",$E51="",$F51="",$K51="",$M51="",$N51="",$P51="",$R51=""),"",IF($A51="","Check pay period",IF($B51="","Check employee ID",IF($C51="","Check employee ID",IF(IFERROR(VLOOKUP($B51,Employees!$A$5:$F$104,6,FALSE),"")<>"Active","Check employee status",IF($D51="","Check crew",IF($G51="","Check employee rate",IF($H51="","Check OT multiplier",IF(AND($E51="",$F51="",$K51=""),"Check pay inputs",IF(IFERROR($E51+$F51,0)>$W$2,"Check hours",IF($P51="","Check approval status",IF(AND($P51="Approved",$O51<0),"Check negative amount","")))))))))))) | S51: =IF(Assumptions!$B$51="","",Assumptions!$B$51) | T51: =IF(Assumptions!$C$51="","",Assumptions!$C$51) | U51: =IF(Employees!$A$51="","",Employees!$A$51)
C52: =IF($B52="","",IFERROR(VLOOKUP($B52,Employees!$A$5:$F$104,2,FALSE),"")) | G52: =IF($B52="","",IFERROR(VLOOKUP($B52,Employees!$A$5:$F$104,4,FALSE),"")) | H52: =IF($B52="","",IFERROR(VLOOKUP($B52,Employees!$A$5:$F$104,5,FALSE),"")) | I52: =IF(OR($A52="",$B52="",$E52="",$G52=""),"",ROUND($E52*$G52,2)) | J52: =IF(OR($A52="",$B52="",$F52="",$G52="",$H52=""),"",ROUND($F52*$G52*$H52,2)) | L52: =IF(OR($A52="",$B52="",$G52="",AND($E52="",$F52="",$K52="")),"",ROUND(IF($I52="",0,$I52)+IF($J52="",0,$J52)+IF($K52="",0,$K52),2)) | O52: =IF($L52="","",ROUND($L52+IF($M52="",0,$M52)-IF($N52="",0,$N52),2)) | Q52: =IF(AND($A52="",$B52="",$D52="",$E52="",$F52="",$K52="",$M52="",$N52="",$P52="",$R52=""),"",IF($A52="","Check pay period",IF($B52="","Check employee ID",IF($C52="","Check employee ID",IF(IFERROR(VLOOKUP($B52,Employees!$A$5:$F$104,6,FALSE),"")<>"Active","Check employee status",IF($D52="","Check crew",IF($G52="","Check employee rate",IF($H52="","Check OT multiplier",IF(AND($E52="",$F52="",$K52=""),"Check pay inputs",IF(IFERROR($E52+$F52,0)>$W$2,"Check hours",IF($P52="","Check approval status",IF(AND($P52="Approved",$O52<0),"Check negative amount","")))))))))))) | S52: =IF(Assumptions!$B$52="","",Assumptions!$B$52) | T52: =IF(Assumptions!$C$52="","",Assumptions!$C$52) | U52: =IF(Employees!$A$52="","",Employees!$A$52)
C53: =IF($B53="","",IFERROR(VLOOKUP($B53,Employees!$A$5:$F$104,2,FALSE),"")) | G53: =IF($B53="","",IFERROR(VLOOKUP($B53,Employees!$A$5:$F$104,4,FALSE),"")) | H53: =IF($B53="","",IFERROR(VLOOKUP($B53,Employees!$A$5:$F$104,5,FALSE),"")) | I53: =IF(OR($A53="",$B53="",$E53="",$G53=""),"",ROUND($E53*$G53,2)) | J53: =IF(OR($A53="",$B53="",$F53="",$G53="",$H53=""),"",ROUND($F53*$G53*$H53,2)) | L53: =IF(OR($A53="",$B53="",$G53="",AND($E53="",$F53="",$K53="")),"",ROUND(IF($I53="",0,$I53)+IF($J53="",0,$J53)+IF($K53="",0,$K53),2)) | O53: =IF($L53="","",ROUND($L53+IF($M53="",0,$M53)-IF($N53="",0,$N53),2)) | Q53: =IF(AND($A53="",$B53="",$D53="",$E53="",$F53="",$K53="",$M53="",$N53="",$P53="",$R53=""),"",IF($A53="","Check pay period",IF($B53="","Check employee ID",IF($C53="","Check employee ID",IF(IFERROR(VLOOKUP($B53,Employees!$A$5:$F$104,6,FALSE),"")<>"Active","Check employee status",IF($D53="","Check crew",IF($G53="","Check employee rate",IF($H53="","Check OT multiplier",IF(AND($E53="",$F53="",$K53=""),"Check pay inputs",IF(IFERROR($E53+$F53,0)>$W$2,"Check hours",IF($P53="","Check approval status",IF(AND($P53="Approved",$O53<0),"Check negative amount","")))))))))))) | S53: =IF(Assumptions!$B$53="","",Assumptions!$B$53) | T53: =IF(Assumptions!$C$53="","",Assumptions!$C$53) | U53: =IF(Employees!$A$53="","",Employees!$A$53)
C54: =IF($B54="","",IFERROR(VLOOKUP($B54,Employees!$A$5:$F$104,2,FALSE),"")) | G54: =IF($B54="","",IFERROR(VLOOKUP($B54,Employees!$A$5:$F$104,4,FALSE),"")) | H54: =IF($B54="","",IFERROR(VLOOKUP($B54,Employees!$A$5:$F$104,5,FALSE),"")) | I54: =IF(OR($A54="",$B54="",$E54="",$G54=""),"",ROUND($E54*$G54,2)) | J54: =IF(OR($A54="",$B54="",$F54="",$G54="",$H54=""),"",ROUND($F54*$G54*$H54,2)) | L54: =IF(OR($A54="",$B54="",$G54="",AND($E54="",$F54="",$K54="")),"",ROUND(IF($I54="",0,$I54)+IF($J54="",0,$J54)+IF($K54="",0,$K54),2)) | O54: =IF($L54="","",ROUND($L54+IF($M54="",0,$M54)-IF($N54="",0,$N54),2)) | Q54: =IF(AND($A54="",$B54="",$D54="",$E54="",$F54="",$K54="",$M54="",$N54="",$P54="",$R54=""),"",IF($A54="","Check pay period",IF($B54="","Check employee ID",IF($C54="","Check employee ID",IF(IFERROR(VLOOKUP($B54,Employees!$A$5:$F$104,6,FALSE),"")<>"Active","Check employee status",IF($D54="","Check crew",IF($G54="","Check employee rate",IF($H54="","Check OT multiplier",IF(AND($E54="",$F54="",$K54=""),"Check pay inputs",IF(IFERROR($E54+$F54,0)>$W$2,"Check hours",IF($P54="","Check approval status",IF(AND($P54="Approved",$O54<0),"Check negative amount","")))))))))))) | S54: =IF(Assumptions!$B$54="","",Assumptions!$B$54) | T54: =IF(Assumptions!$C$54="","",Assumptions!$C$54) | U54: =IF(Employees!$A$54="","",Employees!$A$54)
C55: =IF($B55="","",IFERROR(VLOOKUP($B55,Employees!$A$5:$F$104,2,FALSE),"")) | G55: =IF($B55="","",IFERROR(VLOOKUP($B55,Employees!$A$5:$F$104,4,FALSE),"")) | H55: =IF($B55="","",IFERROR(VLOOKUP($B55,Employees!$A$5:$F$104,5,FALSE),"")) | I55: =IF(OR($A55="",$B55="",$E55="",$G55=""),"",ROUND($E55*$G55,2)) | J55: =IF(OR($A55="",$B55="",$F55="",$G55="",$H55=""),"",ROUND($F55*$G55*$H55,2)) | L55: =IF(OR($A55="",$B55="",$G55="",AND($E55="",$F55="",$K55="")),"",ROUND(IF($I55="",0,$I55)+IF($J55="",0,$J55)+IF($K55="",0,$K55),2)) | O55: =IF($L55="","",ROUND($L55+IF($M55="",0,$M55)-IF($N55="",0,$N55),2)) | Q55: =IF(AND($A55="",$B55="",$D55="",$E55="",$F55="",$K55="",$M55="",$N55="",$P55="",$R55=""),"",IF($A55="","Check pay period",IF($B55="","Check employee ID",IF($C55="","Check employee ID",IF(IFERROR(VLOOKUP($B55,Employees!$A$5:$F$104,6,FALSE),"")<>"Active","Check employee status",IF($D55="","Check crew",IF($G55="","Check employee rate",IF($H55="","Check OT multiplier",IF(AND($E55="",$F55="",$K55=""),"Check pay inputs",IF(IFERROR($E55+$F55,0)>$W$2,"Check hours",IF($P55="","Check approval status",IF(AND($P55="Approved",$O55<0),"Check negative amount","")))))))))))) | S55: =IF(Assumptions!$B$55="","",Assumptions!$B$55) | T55: =IF(Assumptions!$C$55="","",Assumptions!$C$55) | U55: =IF(Employees!$A$55="","",Employees!$A$55)
C56: =IF($B56="","",IFERROR(VLOOKUP($B56,Employees!$A$5:$F$104,2,FALSE),"")) | G56: =IF($B56="","",IFERROR(VLOOKUP($B56,Employees!$A$5:$F$104,4,FALSE),"")) | H56: =IF($B56="","",IFERROR(VLOOKUP($B56,Employees!$A$5:$F$104,5,FALSE),"")) | I56: =IF(OR($A56="",$B56="",$E56="",$G56=""),"",ROUND($E56*$G56,2)) | J56: =IF(OR($A56="",$B56="",$F56="",$G56="",$H56=""),"",ROUND($F56*$G56*$H56,2)) | L56: =IF(OR($A56="",$B56="",$G56="",AND($E56="",$F56="",$K56="")),"",ROUND(IF($I56="",0,$I56)+IF($J56="",0,$J56)+IF($K56="",0,$K56),2)) | O56: =IF($L56="","",ROUND($L56+IF($M56="",0,$M56)-IF($N56="",0,$N56),2)) | Q56: =IF(AND($A56="",$B56="",$D56="",$E56="",$F56="",$K56="",$M56="",$N56="",$P56="",$R56=""),"",IF($A56="","Check pay period",IF($B56="","Check employee ID",IF($C56="","Check employee ID",IF(IFERROR(VLOOKUP($B56,Employees!$A$5:$F$104,6,FALSE),"")<>"Active","Check employee status",IF($D56="","Check crew",IF($G56="","Check employee rate",IF($H56="","Check OT multiplier",IF(AND($E56="",$F56="",$K56=""),"Check pay inputs",IF(IFERROR($E56+$F56,0)>$W$2,"Check hours",IF($P56="","Check approval status",IF(AND($P56="Approved",$O56<0),"Check negative amount","")))))))))))) | S56: =IF(Assumptions!$B$56="","",Assumptions!$B$56) | T56: =IF(Assumptions!$C$56="","",Assumptions!$C$56) | U56: =IF(Employees!$A$56="","",Employees!$A$56)
C57: =IF($B57="","",IFERROR(VLOOKUP($B57,Employees!$A$5:$F$104,2,FALSE),"")) | G57: =IF($B57="","",IFERROR(VLOOKUP($B57,Employees!$A$5:$F$104,4,FALSE),"")) | H57: =IF($B57="","",IFERROR(VLOOKUP($B57,Employees!$A$5:$F$104,5,FALSE),"")) | I57: =IF(OR($A57="",$B57="",$E57="",$G57=""),"",ROUND($E57*$G57,2)) | J57: =IF(OR($A57="",$B57="",$F57="",$G57="",$H57=""),"",ROUND($F57*$G57*$H57,2)) | L57: =IF(OR($A57="",$B57="",$G57="",AND($E57="",$F57="",$K57="")),"",ROUND(IF($I57="",0,$I57)+IF($J57="",0,$J57)+IF($K57="",0,$K57),2)) | O57: =IF($L57="","",ROUND($L57+IF($M57="",0,$M57)-IF($N57="",0,$N57),2)) | Q57: =IF(AND($A57="",$B57="",$D57="",$E57="",$F57="",$K57="",$M57="",$N57="",$P57="",$R57=""),"",IF($A57="","Check pay period",IF($B57="","Check employee ID",IF($C57="","Check employee ID",IF(IFERROR(VLOOKUP($B57,Employees!$A$5:$F$104,6,FALSE),"")<>"Active","Check employee status",IF($D57="","Check crew",IF($G57="","Check employee rate",IF($H57="","Check OT multiplier",IF(AND($E57="",$F57="",$K57=""),"Check pay inputs",IF(IFERROR($E57+$F57,0)>$W$2,"Check hours",IF($P57="","Check approval status",IF(AND($P57="Approved",$O57<0),"Check negative amount","")))))))))))) | S57: =IF(Assumptions!$B$57="","",Assumptions!$B$57) | T57: =IF(Assumptions!$C$57="","",Assumptions!$C$57) | U57: =IF(Employees!$A$57="","",Employees!$A$57)
C58: =IF($B58="","",IFERROR(VLOOKUP($B58,Employees!$A$5:$F$104,2,FALSE),"")) | G58: =IF($B58="","",IFERROR(VLOOKUP($B58,Employees!$A$5:$F$104,4,FALSE),"")) | H58: =IF($B58="","",IFERROR(VLOOKUP($B58,Employees!$A$5:$F$104,5,FALSE),"")) | I58: =IF(OR($A58="",$B58="",$E58="",$G58=""),"",ROUND($E58*$G58,2)) | J58: =IF(OR($A58="",$B58="",$F58="",$G58="",$H58=""),"",ROUND($F58*$G58*$H58,2)) | L58: =IF(OR($A58="",$B58="",$G58="",AND($E58="",$F58="",$K58="")),"",ROUND(IF($I58="",0,$I58)+IF($J58="",0,$J58)+IF($K58="",0,$K58),2)) | O58: =IF($L58="","",ROUND($L58+IF($M58="",0,$M58)-IF($N58="",0,$N58),2)) | Q58: =IF(AND($A58="",$B58="",$D58="",$E58="",$F58="",$K58="",$M58="",$N58="",$P58="",$R58=""),"",IF($A58="","Check pay period",IF($B58="","Check employee ID",IF($C58="","Check employee ID",IF(IFERROR(VLOOKUP($B58,Employees!$A$5:$F$104,6,FALSE),"")<>"Active","Check employee status",IF($D58="","Check crew",IF($G58="","Check employee rate",IF($H58="","Check OT multiplier",IF(AND($E58="",$F58="",$K58=""),"Check pay inputs",IF(IFERROR($E58+$F58,0)>$W$2,"Check hours",IF($P58="","Check approval status",IF(AND($P58="Approved",$O58<0),"Check negative amount","")))))))))))) | S58: =IF(Assumptions!$B$58="","",Assumptions!$B$58) | T58: =IF(Assumptions!$C$58="","",Assumptions!$C$58) | U58: =IF(Employees!$A$58="","",Employees!$A$58)
C59: =IF($B59="","",IFERROR(VLOOKUP($B59,Employees!$A$5:$F$104,2,FALSE),"")) | G59: =IF($B59="","",IFERROR(VLOOKUP($B59,Employees!$A$5:$F$104,4,FALSE),"")) | H59: =IF($B59="","",IFERROR(VLOOKUP($B59,Employees!$A$5:$F$104,5,FALSE),"")) | I59: =IF(OR($A59="",$B59="",$E59="",$G59=""),"",ROUND($E59*$G59,2)) | J59: =IF(OR($A59="",$B59="",$F59="",$G59="",$H59=""),"",ROUND($F59*$G59*$H59,2)) | L59: =IF(OR($A59="",$B59="",$G59="",AND($E59="",$F59="",$K59="")),"",ROUND(IF($I59="",0,$I59)+IF($J59="",0,$J59)+IF($K59="",0,$K59),2)) | O59: =IF($L59="","",ROUND($L59+IF($M59="",0,$M59)-IF($N59="",0,$N59),2)) | Q59: =IF(AND($A59="",$B59="",$D59="",$E59="",$F59="",$K59="",$M59="",$N59="",$P59="",$R59=""),"",IF($A59="","Check pay period",IF($B59="","Check employee ID",IF($C59="","Check employee ID",IF(IFERROR(VLOOKUP($B59,Employees!$A$5:$F$104,6,FALSE),"")<>"Active","Check employee status",IF($D59="","Check crew",IF($G59="","Check employee rate",IF($H59="","Check OT multiplier",IF(AND($E59="",$F59="",$K59=""),"Check pay inputs",IF(IFERROR($E59+$F59,0)>$W$2,"Check hours",IF($P59="","Check approval status",IF(AND($P59="Approved",$O59<0),"Check negative amount","")))))))))))) | S59: =IF(Assumptions!$B$59="","",Assumptions!$B$59) | T59: =IF(Assumptions!$C$59="","",Assumptions!$C$59) | U59: =IF(Employees!$A$59="","",Employees!$A$59)
C60: =IF($B60="","",IFERROR(VLOOKUP($B60,Employees!$A$5:$F$104,2,FALSE),"")) | G60: =IF($B60="","",IFERROR(VLOOKUP($B60,Employees!$A$5:$F$104,4,FALSE),"")) | H60: =IF($B60="","",IFERROR(VLOOKUP($B60,Employees!$A$5:$F$104,5,FALSE),"")) | I60: =IF(OR($A60="",$B60="",$E60="",$G60=""),"",ROUND($E60*$G60,2)) | J60: =IF(OR($A60="",$B60="",$F60="",$G60="",$H60=""),"",ROUND($F60*$G60*$H60,2)) | L60: =IF(OR($A60="",$B60="",$G60="",AND($E60="",$F60="",$K60="")),"",ROUND(IF($I60="",0,$I60)+IF($J60="",0,$J60)+IF($K60="",0,$K60),2)) | O60: =IF($L60="","",ROUND($L60+IF($M60="",0,$M60)-IF($N60="",0,$N60),2)) | Q60: =IF(AND($A60="",$B60="",$D60="",$E60="",$F60="",$K60="",$M60="",$N60="",$P60="",$R60=""),"",IF($A60="","Check pay period",IF($B60="","Check employee ID",IF($C60="","Check employee ID",IF(IFERROR(VLOOKUP($B60,Employees!$A$5:$F$104,6,FALSE),"")<>"Active","Check employee status",IF($D60="","Check crew",IF($G60="","Check employee rate",IF($H60="","Check OT multiplier",IF(AND($E60="",$F60="",$K60=""),"Check pay inputs",IF(IFERROR($E60+$F60,0)>$W$2,"Check hours",IF($P60="","Check approval status",IF(AND($P60="Approved",$O60<0),"Check negative amount","")))))))))))) | S60: =IF(Assumptions!$B$60="","",Assumptions!$B$60) | T60: =IF(Assumptions!$C$60="","",Assumptions!$C$60) | U60: =IF(Employees!$A$60="","",Employees!$A$60)
C61: =IF($B61="","",IFERROR(VLOOKUP($B61,Employees!$A$5:$F$104,2,FALSE),"")) | G61: =IF($B61="","",IFERROR(VLOOKUP($B61,Employees!$A$5:$F$104,4,FALSE),"")) | H61: =IF($B61="","",IFERROR(VLOOKUP($B61,Employees!$A$5:$F$104,5,FALSE),"")) | I61: =IF(OR($A61="",$B61="",$E61="",$G61=""),"",ROUND($E61*$G61,2)) | J61: =IF(OR($A61="",$B61="",$F61="",$G61="",$H61=""),"",ROUND($F61*$G61*$H61,2)) | L61: =IF(OR($A61="",$B61="",$G61="",AND($E61="",$F61="",$K61="")),"",ROUND(IF($I61="",0,$I61)+IF($J61="",0,$J61)+IF($K61="",0,$K61),2)) | O61: =IF($L61="","",ROUND($L61+IF($M61="",0,$M61)-IF($N61="",0,$N61),2)) | Q61: =IF(AND($A61="",$B61="",$D61="",$E61="",$F61="",$K61="",$M61="",$N61="",$P61="",$R61=""),"",IF($A61="","Check pay period",IF($B61="","Check employee ID",IF($C61="","Check employee ID",IF(IFERROR(VLOOKUP($B61,Employees!$A$5:$F$104,6,FALSE),"")<>"Active","Check employee status",IF($D61="","Check crew",IF($G61="","Check employee rate",IF($H61="","Check OT multiplier",IF(AND($E61="",$F61="",$K61=""),"Check pay inputs",IF(IFERROR($E61+$F61,0)>$W$2,"Check hours",IF($P61="","Check approval status",IF(AND($P61="Approved",$O61<0),"Check negative amount","")))))))))))) | S61: =IF(Assumptions!$B$61="","",Assumptions!$B$61) | T61: =IF(Assumptions!$C$61="","",Assumptions!$C$61) | U61: =IF(Employees!$A$61="","",Employees!$A$61)
C62: =IF($B62="","",IFERROR(VLOOKUP($B62,Employees!$A$5:$F$104,2,FALSE),"")) | G62: =IF($B62="","",IFERROR(VLOOKUP($B62,Employees!$A$5:$F$104,4,FALSE),"")) | H62: =IF($B62="","",IFERROR(VLOOKUP($B62,Employees!$A$5:$F$104,5,FALSE),"")) | I62: =IF(OR($A62="",$B62="",$E62="",$G62=""),"",ROUND($E62*$G62,2)) | J62: =IF(OR($A62="",$B62="",$F62="",$G62="",$H62=""),"",ROUND($F62*$G62*$H62,2)) | L62: =IF(OR($A62="",$B62="",$G62="",AND($E62="",$F62="",$K62="")),"",ROUND(IF($I62="",0,$I62)+IF($J62="",0,$J62)+IF($K62="",0,$K62),2)) | O62: =IF($L62="","",ROUND($L62+IF($M62="",0,$M62)-IF($N62="",0,$N62),2)) | Q62: =IF(AND($A62="",$B62="",$D62="",$E62="",$F62="",$K62="",$M62="",$N62="",$P62="",$R62=""),"",IF($A62="","Check pay period",IF($B62="","Check employee ID",IF($C62="","Check employee ID",IF(IFERROR(VLOOKUP($B62,Employees!$A$5:$F$104,6,FALSE),"")<>"Active","Check employee status",IF($D62="","Check crew",IF($G62="","Check employee rate",IF($H62="","Check OT multiplier",IF(AND($E62="",$F62="",$K62=""),"Check pay inputs",IF(IFERROR($E62+$F62,0)>$W$2,"Check hours",IF($P62="","Check approval status",IF(AND($P62="Approved",$O62<0),"Check negative amount","")))))))))))) | S62: =IF(Assumptions!$B$62="","",Assumptions!$B$62) | T62: =IF(Assumptions!$C$62="","",Assumptions!$C$62) | U62: =IF(Employees!$A$62="","",Employees!$A$62)
C63: =IF($B63="","",IFERROR(VLOOKUP($B63,Employees!$A$5:$F$104,2,FALSE),"")) | G63: =IF($B63="","",IFERROR(VLOOKUP($B63,Employees!$A$5:$F$104,4,FALSE),"")) | H63: =IF($B63="","",IFERROR(VLOOKUP($B63,Employees!$A$5:$F$104,5,FALSE),"")) | I63: =IF(OR($A63="",$B63="",$E63="",$G63=""),"",ROUND($E63*$G63,2)) | J63: =IF(OR($A63="",$B63="",$F63="",$G63="",$H63=""),"",ROUND($F63*$G63*$H63,2)) | L63: =IF(OR($A63="",$B63="",$G63="",AND($E63="",$F63="",$K63="")),"",ROUND(IF($I63="",0,$I63)+IF($J63="",0,$J63)+IF($K63="",0,$K63),2)) | O63: =IF($L63="","",ROUND($L63+IF($M63="",0,$M63)-IF($N63="",0,$N63),2)) | Q63: =IF(AND($A63="",$B63="",$D63="",$E63="",$F63="",$K63="",$M63="",$N63="",$P63="",$R63=""),"",IF($A63="","Check pay period",IF($B63="","Check employee ID",IF($C63="","Check employee ID",IF(IFERROR(VLOOKUP($B63,Employees!$A$5:$F$104,6,FALSE),"")<>"Active","Check employee status",IF($D63="","Check crew",IF($G63="","Check employee rate",IF($H63="","Check OT multiplier",IF(AND($E63="",$F63="",$K63=""),"Check pay inputs",IF(IFERROR($E63+$F63,0)>$W$2,"Check hours",IF($P63="","Check approval status",IF(AND($P63="Approved",$O63<0),"Check negative amount","")))))))))))) | S63: =IF(Assumptions!$B$63="","",Assumptions!$B$63) | T63: =IF(Assumptions!$C$63="","",Assumptions!$C$63) | U63: =IF(Employees!$A$63="","",Employees!$A$63)
C64: =IF($B64="","",IFERROR(VLOOKUP($B64,Employees!$A$5:$F$104,2,FALSE),"")) | G64: =IF($B64="","",IFERROR(VLOOKUP($B64,Employees!$A$5:$F$104,4,FALSE),"")) | H64: =IF($B64="","",IFERROR(VLOOKUP($B64,Employees!$A$5:$F$104,5,FALSE),"")) | I64: =IF(OR($A64="",$B64="",$E64="",$G64=""),"",ROUND($E64*$G64,2)) | J64: =IF(OR($A64="",$B64="",$F64="",$G64="",$H64=""),"",ROUND($F64*$G64*$H64,2)) | L64: =IF(OR($A64="",$B64="",$G64="",AND($E64="",$F64="",$K64="")),"",ROUND(IF($I64="",0,$I64)+IF($J64="",0,$J64)+IF($K64="",0,$K64),2)) | O64: =IF($L64="","",ROUND($L64+IF($M64="",0,$M64)-IF($N64="",0,$N64),2)) | Q64: =IF(AND($A64="",$B64="",$D64="",$E64="",$F64="",$K64="",$M64="",$N64="",$P64="",$R64=""),"",IF($A64="","Check pay period",IF($B64="","Check employee ID",IF($C64="","Check employee ID",IF(IFERROR(VLOOKUP($B64,Employees!$A$5:$F$104,6,FALSE),"")<>"Active","Check employee status",IF($D64="","Check crew",IF($G64="","Check employee rate",IF($H64="","Check OT multiplier",IF(AND($E64="",$F64="",$K64=""),"Check pay inputs",IF(IFERROR($E64+$F64,0)>$W$2,"Check hours",IF($P64="","Check approval status",IF(AND($P64="Approved",$O64<0),"Check negative amount","")))))))))))) | S64: =IF(Assumptions!$B$64="","",Assumptions!$B$64) | T64: =IF(Assumptions!$C$64="","",Assumptions!$C$64) | U64: =IF(Employees!$A$64="","",Employees!$A$64)
C65: =IF($B65="","",IFERROR(VLOOKUP($B65,Employees!$A$5:$F$104,2,FALSE),"")) | G65: =IF($B65="","",IFERROR(VLOOKUP($B65,Employees!$A$5:$F$104,4,FALSE),"")) | H65: =IF($B65="","",IFERROR(VLOOKUP($B65,Employees!$A$5:$F$104,5,FALSE),"")) | I65: =IF(OR($A65="",$B65="",$E65="",$G65=""),"",ROUND($E65*$G65,2)) | J65: =IF(OR($A65="",$B65="",$F65="",$G65="",$H65=""),"",ROUND($F65*$G65*$H65,2)) | L65: =IF(OR($A65="",$B65="",$G65="",AND($E65="",$F65="",$K65="")),"",ROUND(IF($I65="",0,$I65)+IF($J65="",0,$J65)+IF($K65="",0,$K65),2)) | O65: =IF($L65="","",ROUND($L65+IF($M65="",0,$M65)-IF($N65="",0,$N65),2)) | Q65: =IF(AND($A65="",$B65="",$D65="",$E65="",$F65="",$K65="",$M65="",$N65="",$P65="",$R65=""),"",IF($A65="","Check pay period",IF($B65="","Check employee ID",IF($C65="","Check employee ID",IF(IFERROR(VLOOKUP($B65,Employees!$A$5:$F$104,6,FALSE),"")<>"Active","Check employee status",IF($D65="","Check crew",IF($G65="","Check employee rate",IF($H65="","Check OT multiplier",IF(AND($E65="",$F65="",$K65=""),"Check pay inputs",IF(IFERROR($E65+$F65,0)>$W$2,"Check hours",IF($P65="","Check approval status",IF(AND($P65="Approved",$O65<0),"Check negative amount","")))))))))))) | S65: =IF(Assumptions!$B$65="","",Assumptions!$B$65) | T65: =IF(Assumptions!$C$65="","",Assumptions!$C$65) | U65: =IF(Employees!$A$65="","",Employees!$A$65)
C66: =IF($B66="","",IFERROR(VLOOKUP($B66,Employees!$A$5:$F$104,2,FALSE),"")) | G66: =IF($B66="","",IFERROR(VLOOKUP($B66,Employees!$A$5:$F$104,4,FALSE),"")) | H66: =IF($B66="","",IFERROR(VLOOKUP($B66,Employees!$A$5:$F$104,5,FALSE),"")) | I66: =IF(OR($A66="",$B66="",$E66="",$G66=""),"",ROUND($E66*$G66,2)) | J66: =IF(OR($A66="",$B66="",$F66="",$G66="",$H66=""),"",ROUND($F66*$G66*$H66,2)) | L66: =IF(OR($A66="",$B66="",$G66="",AND($E66="",$F66="",$K66="")),"",ROUND(IF($I66="",0,$I66)+IF($J66="",0,$J66)+IF($K66="",0,$K66),2)) | O66: =IF($L66="","",ROUND($L66+IF($M66="",0,$M66)-IF($N66="",0,$N66),2)) | Q66: =IF(AND($A66="",$B66="",$D66="",$E66="",$F66="",$K66="",$M66="",$N66="",$P66="",$R66=""),"",IF($A66="","Check pay period",IF($B66="","Check employee ID",IF($C66="","Check employee ID",IF(IFERROR(VLOOKUP($B66,Employees!$A$5:$F$104,6,FALSE),"")<>"Active","Check employee status",IF($D66="","Check crew",IF($G66="","Check employee rate",IF($H66="","Check OT multiplier",IF(AND($E66="",$F66="",$K66=""),"Check pay inputs",IF(IFERROR($E66+$F66,0)>$W$2,"Check hours",IF($P66="","Check approval status",IF(AND($P66="Approved",$O66<0),"Check negative amount","")))))))))))) | S66: =IF(Assumptions!$B$66="","",Assumptions!$B$66) | T66: =IF(Assumptions!$C$66="","",Assumptions!$C$66) | U66: =IF(Employees!$A$66="","",Employees!$A$66)
C67: =IF($B67="","",IFERROR(VLOOKUP($B67,Employees!$A$5:$F$104,2,FALSE),"")) | G67: =IF($B67="","",IFERROR(VLOOKUP($B67,Employees!$A$5:$F$104,4,FALSE),"")) | H67: =IF($B67="","",IFERROR(VLOOKUP($B67,Employees!$A$5:$F$104,5,FALSE),"")) | I67: =IF(OR($A67="",$B67="",$E67="",$G67=""),"",ROUND($E67*$G67,2)) | J67: =IF(OR($A67="",$B67="",$F67="",$G67="",$H67=""),"",ROUND($F67*$G67*$H67,2)) | L67: =IF(OR($A67="",$B67="",$G67="",AND($E67="",$F67="",$K67="")),"",ROUND(IF($I67="",0,$I67)+IF($J67="",0,$J67)+IF($K67="",0,$K67),2)) | O67: =IF($L67="","",ROUND($L67+IF($M67="",0,$M67)-IF($N67="",0,$N67),2)) | Q67: =IF(AND($A67="",$B67="",$D67="",$E67="",$F67="",$K67="",$M67="",$N67="",$P67="",$R67=""),"",IF($A67="","Check pay period",IF($B67="","Check employee ID",IF($C67="","Check employee ID",IF(IFERROR(VLOOKUP($B67,Employees!$A$5:$F$104,6,FALSE),"")<>"Active","Check employee status",IF($D67="","Check crew",IF($G67="","Check employee rate",IF($H67="","Check OT multiplier",IF(AND($E67="",$F67="",$K67=""),"Check pay inputs",IF(IFERROR($E67+$F67,0)>$W$2,"Check hours",IF($P67="","Check approval status",IF(AND($P67="Approved",$O67<0),"Check negative amount","")))))))))))) | S67: =IF(Assumptions!$B$67="","",Assumptions!$B$67) | T67: =IF(Assumptions!$C$67="","",Assumptions!$C$67) | U67: =IF(Employees!$A$67="","",Employees!$A$67)
C68: =IF($B68="","",IFERROR(VLOOKUP($B68,Employees!$A$5:$F$104,2,FALSE),"")) | G68: =IF($B68="","",IFERROR(VLOOKUP($B68,Employees!$A$5:$F$104,4,FALSE),"")) | H68: =IF($B68="","",IFERROR(VLOOKUP($B68,Employees!$A$5:$F$104,5,FALSE),"")) | I68: =IF(OR($A68="",$B68="",$E68="",$G68=""),"",ROUND($E68*$G68,2)) | J68: =IF(OR($A68="",$B68="",$F68="",$G68="",$H68=""),"",ROUND($F68*$G68*$H68,2)) | L68: =IF(OR($A68="",$B68="",$G68="",AND($E68="",$F68="",$K68="")),"",ROUND(IF($I68="",0,$I68)+IF($J68="",0,$J68)+IF($K68="",0,$K68),2)) | O68: =IF($L68="","",ROUND($L68+IF($M68="",0,$M68)-IF($N68="",0,$N68),2)) | Q68: =IF(AND($A68="",$B68="",$D68="",$E68="",$F68="",$K68="",$M68="",$N68="",$P68="",$R68=""),"",IF($A68="","Check pay period",IF($B68="","Check employee ID",IF($C68="","Check employee ID",IF(IFERROR(VLOOKUP($B68,Employees!$A$5:$F$104,6,FALSE),"")<>"Active","Check employee status",IF($D68="","Check crew",IF($G68="","Check employee rate",IF($H68="","Check OT multiplier",IF(AND($E68="",$F68="",$K68=""),"Check pay inputs",IF(IFERROR($E68+$F68,0)>$W$2,"Check hours",IF($P68="","Check approval status",IF(AND($P68="Approved",$O68<0),"Check negative amount","")))))))))))) | S68: =IF(Assumptions!$B$68="","",Assumptions!$B$68) | T68: =IF(Assumptions!$C$68="","",Assumptions!$C$68) | U68: =IF(Employees!$A$68="","",Employees!$A$68)
C69: =IF($B69="","",IFERROR(VLOOKUP($B69,Employees!$A$5:$F$104,2,FALSE),"")) | G69: =IF($B69="","",IFERROR(VLOOKUP($B69,Employees!$A$5:$F$104,4,FALSE),"")) | H69: =IF($B69="","",IFERROR(VLOOKUP($B69,Employees!$A$5:$F$104,5,FALSE),"")) | I69: =IF(OR($A69="",$B69="",$E69="",$G69=""),"",ROUND($E69*$G69,2)) | J69: =IF(OR($A69="",$B69="",$F69="",$G69="",$H69=""),"",ROUND($F69*$G69*$H69,2)) | L69: =IF(OR($A69="",$B69="",$G69="",AND($E69="",$F69="",$K69="")),"",ROUND(IF($I69="",0,$I69)+IF($J69="",0,$J69)+IF($K69="",0,$K69),2)) | O69: =IF($L69="","",ROUND($L69+IF($M69="",0,$M69)-IF($N69="",0,$N69),2)) | Q69: =IF(AND($A69="",$B69="",$D69="",$E69="",$F69="",$K69="",$M69="",$N69="",$P69="",$R69=""),"",IF($A69="","Check pay period",IF($B69="","Check employee ID",IF($C69="","Check employee ID",IF(IFERROR(VLOOKUP($B69,Employees!$A$5:$F$104,6,FALSE),"")<>"Active","Check employee status",IF($D69="","Check crew",IF($G69="","Check employee rate",IF($H69="","Check OT multiplier",IF(AND($E69="",$F69="",$K69=""),"Check pay inputs",IF(IFERROR($E69+$F69,0)>$W$2,"Check hours",IF($P69="","Check approval status",IF(AND($P69="Approved",$O69<0),"Check negative amount","")))))))))))) | S69: =IF(Assumptions!$B$69="","",Assumptions!$B$69) | T69: =IF(Assumptions!$C$69="","",Assumptions!$C$69) | U69: =IF(Employees!$A$69="","",Employees!$A$69)
C70: =IF($B70="","",IFERROR(VLOOKUP($B70,Employees!$A$5:$F$104,2,FALSE),"")) | G70: =IF($B70="","",IFERROR(VLOOKUP($B70,Employees!$A$5:$F$104,4,FALSE),"")) | H70: =IF($B70="","",IFERROR(VLOOKUP($B70,Employees!$A$5:$F$104,5,FALSE),"")) | I70: =IF(OR($A70="",$B70="",$E70="",$G70=""),"",ROUND($E70*$G70,2)) | J70: =IF(OR($A70="",$B70="",$F70="",$G70="",$H70=""),"",ROUND($F70*$G70*$H70,2)) | L70: =IF(OR($A70="",$B70="",$G70="",AND($E70="",$F70="",$K70="")),"",ROUND(IF($I70="",0,$I70)+IF($J70="",0,$J70)+IF($K70="",0,$K70),2)) | O70: =IF($L70="","",ROUND($L70+IF($M70="",0,$M70)-IF($N70="",0,$N70),2)) | Q70: =IF(AND($A70="",$B70="",$D70="",$E70="",$F70="",$K70="",$M70="",$N70="",$P70="",$R70=""),"",IF($A70="","Check pay period",IF($B70="","Check employee ID",IF($C70="","Check employee ID",IF(IFERROR(VLOOKUP($B70,Employees!$A$5:$F$104,6,FALSE),"")<>"Active","Check employee status",IF($D70="","Check crew",IF($G70="","Check employee rate",IF($H70="","Check OT multiplier",IF(AND($E70="",$F70="",$K70=""),"Check pay inputs",IF(IFERROR($E70+$F70,0)>$W$2,"Check hours",IF($P70="","Check approval status",IF(AND($P70="Approved",$O70<0),"Check negative amount","")))))))))))) | S70: =IF(Assumptions!$B$70="","",Assumptions!$B$70) | T70: =IF(Assumptions!$C$70="","",Assumptions!$C$70) | U70: =IF(Employees!$A$70="","",Employees!$A$70)
C71: =IF($B71="","",IFERROR(VLOOKUP($B71,Employees!$A$5:$F$104,2,FALSE),"")) | G71: =IF($B71="","",IFERROR(VLOOKUP($B71,Employees!$A$5:$F$104,4,FALSE),"")) | H71: =IF($B71="","",IFERROR(VLOOKUP($B71,Employees!$A$5:$F$104,5,FALSE),"")) | I71: =IF(OR($A71="",$B71="",$E71="",$G71=""),"",ROUND($E71*$G71,2)) | J71: =IF(OR($A71="",$B71="",$F71="",$G71="",$H71=""),"",ROUND($F71*$G71*$H71,2)) | L71: =IF(OR($A71="",$B71="",$G71="",AND($E71="",$F71="",$K71="")),"",ROUND(IF($I71="",0,$I71)+IF($J71="",0,$J71)+IF($K71="",0,$K71),2)) | O71: =IF($L71="","",ROUND($L71+IF($M71="",0,$M71)-IF($N71="",0,$N71),2)) | Q71: =IF(AND($A71="",$B71="",$D71="",$E71="",$F71="",$K71="",$M71="",$N71="",$P71="",$R71=""),"",IF($A71="","Check pay period",IF($B71="","Check employee ID",IF($C71="","Check employee ID",IF(IFERROR(VLOOKUP($B71,Employees!$A$5:$F$104,6,FALSE),"")<>"Active","Check employee status",IF($D71="","Check crew",IF($G71="","Check employee rate",IF($H71="","Check OT multiplier",IF(AND($E71="",$F71="",$K71=""),"Check pay inputs",IF(IFERROR($E71+$F71,0)>$W$2,"Check hours",IF($P71="","Check approval status",IF(AND($P71="Approved",$O71<0),"Check negative amount","")))))))))))) | S71: =IF(Assumptions!$B$71="","",Assumptions!$B$71) | T71: =IF(Assumptions!$C$71="","",Assumptions!$C$71) | U71: =IF(Employees!$A$71="","",Employees!$A$71)
C72: =IF($B72="","",IFERROR(VLOOKUP($B72,Employees!$A$5:$F$104,2,FALSE),"")) | G72: =IF($B72="","",IFERROR(VLOOKUP($B72,Employees!$A$5:$F$104,4,FALSE),"")) | H72: =IF($B72="","",IFERROR(VLOOKUP($B72,Employees!$A$5:$F$104,5,FALSE),"")) | I72: =IF(OR($A72="",$B72="",$E72="",$G72=""),"",ROUND($E72*$G72,2)) | J72: =IF(OR($A72="",$B72="",$F72="",$G72="",$H72=""),"",ROUND($F72*$G72*$H72,2)) | L72: =IF(OR($A72="",$B72="",$G72="",AND($E72="",$F72="",$K72="")),"",ROUND(IF($I72="",0,$I72)+IF($J72="",0,$J72)+IF($K72="",0,$K72),2)) | O72: =IF($L72="","",ROUND($L72+IF($M72="",0,$M72)-IF($N72="",0,$N72),2)) | Q72: =IF(AND($A72="",$B72="",$D72="",$E72="",$F72="",$K72="",$M72="",$N72="",$P72="",$R72=""),"",IF($A72="","Check pay period",IF($B72="","Check employee ID",IF($C72="","Check employee ID",IF(IFERROR(VLOOKUP($B72,Employees!$A$5:$F$104,6,FALSE),"")<>"Active","Check employee status",IF($D72="","Check crew",IF($G72="","Check employee rate",IF($H72="","Check OT multiplier",IF(AND($E72="",$F72="",$K72=""),"Check pay inputs",IF(IFERROR($E72+$F72,0)>$W$2,"Check hours",IF($P72="","Check approval status",IF(AND($P72="Approved",$O72<0),"Check negative amount","")))))))))))) | S72: =IF(Assumptions!$B$72="","",Assumptions!$B$72) | T72: =IF(Assumptions!$C$72="","",Assumptions!$C$72) | U72: =IF(Employees!$A$72="","",Employees!$A$72)
C73: =IF($B73="","",IFERROR(VLOOKUP($B73,Employees!$A$5:$F$104,2,FALSE),"")) | G73: =IF($B73="","",IFERROR(VLOOKUP($B73,Employees!$A$5:$F$104,4,FALSE),"")) | H73: =IF($B73="","",IFERROR(VLOOKUP($B73,Employees!$A$5:$F$104,5,FALSE),"")) | I73: =IF(OR($A73="",$B73="",$E73="",$G73=""),"",ROUND($E73*$G73,2)) | J73: =IF(OR($A73="",$B73="",$F73="",$G73="",$H73=""),"",ROUND($F73*$G73*$H73,2)) | L73: =IF(OR($A73="",$B73="",$G73="",AND($E73="",$F73="",$K73="")),"",ROUND(IF($I73="",0,$I73)+IF($J73="",0,$J73)+IF($K73="",0,$K73),2)) | O73: =IF($L73="","",ROUND($L73+IF($M73="",0,$M73)-IF($N73="",0,$N73),2)) | Q73: =IF(AND($A73="",$B73="",$D73="",$E73="",$F73="",$K73="",$M73="",$N73="",$P73="",$R73=""),"",IF($A73="","Check pay period",IF($B73="","Check employee ID",IF($C73="","Check employee ID",IF(IFERROR(VLOOKUP($B73,Employees!$A$5:$F$104,6,FALSE),"")<>"Active","Check employee status",IF($D73="","Check crew",IF($G73="","Check employee rate",IF($H73="","Check OT multiplier",IF(AND($E73="",$F73="",$K73=""),"Check pay inputs",IF(IFERROR($E73+$F73,0)>$W$2,"Check hours",IF($P73="","Check approval status",IF(AND($P73="Approved",$O73<0),"Check negative amount","")))))))))))) | S73: =IF(Assumptions!$B$73="","",Assumptions!$B$73) | T73: =IF(Assumptions!$C$73="","",Assumptions!$C$73) | U73: =IF(Employees!$A$73="","",Employees!$A$73)
C74: =IF($B74="","",IFERROR(VLOOKUP($B74,Employees!$A$5:$F$104,2,FALSE),"")) | G74: =IF($B74="","",IFERROR(VLOOKUP($B74,Employees!$A$5:$F$104,4,FALSE),"")) | H74: =IF($B74="","",IFERROR(VLOOKUP($B74,Employees!$A$5:$F$104,5,FALSE),"")) | I74: =IF(OR($A74="",$B74="",$E74="",$G74=""),"",ROUND($E74*$G74,2)) | J74: =IF(OR($A74="",$B74="",$F74="",$G74="",$H74=""),"",ROUND($F74*$G74*$H74,2)) | L74: =IF(OR($A74="",$B74="",$G74="",AND($E74="",$F74="",$K74="")),"",ROUND(IF($I74="",0,$I74)+IF($J74="",0,$J74)+IF($K74="",0,$K74),2)) | O74: =IF($L74="","",ROUND($L74+IF($M74="",0,$M74)-IF($N74="",0,$N74),2)) | Q74: =IF(AND($A74="",$B74="",$D74="",$E74="",$F74="",$K74="",$M74="",$N74="",$P74="",$R74=""),"",IF($A74="","Check pay period",IF($B74="","Check employee ID",IF($C74="","Check employee ID",IF(IFERROR(VLOOKUP($B74,Employees!$A$5:$F$104,6,FALSE),"")<>"Active","Check employee status",IF($D74="","Check crew",IF($G74="","Check employee rate",IF($H74="","Check OT multiplier",IF(AND($E74="",$F74="",$K74=""),"Check pay inputs",IF(IFERROR($E74+$F74,0)>$W$2,"Check hours",IF($P74="","Check approval status",IF(AND($P74="Approved",$O74<0),"Check negative amount","")))))))))))) | S74: =IF(Assumptions!$B$74="","",Assumptions!$B$74) | T74: =IF(Assumptions!$C$74="","",Assumptions!$C$74) | U74: =IF(Employees!$A$74="","",Employees!$A$74)
C75: =IF($B75="","",IFERROR(VLOOKUP($B75,Employees!$A$5:$F$104,2,FALSE),"")) | G75: =IF($B75="","",IFERROR(VLOOKUP($B75,Employees!$A$5:$F$104,4,FALSE),"")) | H75: =IF($B75="","",IFERROR(VLOOKUP($B75,Employees!$A$5:$F$104,5,FALSE),"")) | I75: =IF(OR($A75="",$B75="",$E75="",$G75=""),"",ROUND($E75*$G75,2)) | J75: =IF(OR($A75="",$B75="",$F75="",$G75="",$H75=""),"",ROUND($F75*$G75*$H75,2)) | L75: =IF(OR($A75="",$B75="",$G75="",AND($E75="",$F75="",$K75="")),"",ROUND(IF($I75="",0,$I75)+IF($J75="",0,$J75)+IF($K75="",0,$K75),2)) | O75: =IF($L75="","",ROUND($L75+IF($M75="",0,$M75)-IF($N75="",0,$N75),2)) | Q75: =IF(AND($A75="",$B75="",$D75="",$E75="",$F75="",$K75="",$M75="",$N75="",$P75="",$R75=""),"",IF($A75="","Check pay period",IF($B75="","Check employee ID",IF($C75="","Check employee ID",IF(IFERROR(VLOOKUP($B75,Employees!$A$5:$F$104,6,FALSE),"")<>"Active","Check employee status",IF($D75="","Check crew",IF($G75="","Check employee rate",IF($H75="","Check OT multiplier",IF(AND($E75="",$F75="",$K75=""),"Check pay inputs",IF(IFERROR($E75+$F75,0)>$W$2,"Check hours",IF($P75="","Check approval status",IF(AND($P75="Approved",$O75<0),"Check negative amount","")))))))))))) | S75: =IF(Assumptions!$B$75="","",Assumptions!$B$75) | T75: =IF(Assumptions!$C$75="","",Assumptions!$C$75) | U75: =IF(Employees!$A$75="","",Employees!$A$75)
C76: =IF($B76="","",IFERROR(VLOOKUP($B76,Employees!$A$5:$F$104,2,FALSE),"")) | G76: =IF($B76="","",IFERROR(VLOOKUP($B76,Employees!$A$5:$F$104,4,FALSE),"")) | H76: =IF($B76="","",IFERROR(VLOOKUP($B76,Employees!$A$5:$F$104,5,FALSE),"")) | I76: =IF(OR($A76="",$B76="",$E76="",$G76=""),"",ROUND($E76*$G76,2)) | J76: =IF(OR($A76="",$B76="",$F76="",$G76="",$H76=""),"",ROUND($F76*$G76*$H76,2)) | L76: =IF(OR($A76="",$B76="",$G76="",AND($E76="",$F76="",$K76="")),"",ROUND(IF($I76="",0,$I76)+IF($J76="",0,$J76)+IF($K76="",0,$K76),2)) | O76: =IF($L76="","",ROUND($L76+IF($M76="",0,$M76)-IF($N76="",0,$N76),2)) | Q76: =IF(AND($A76="",$B76="",$D76="",$E76="",$F76="",$K76="",$M76="",$N76="",$P76="",$R76=""),"",IF($A76="","Check pay period",IF($B76="","Check employee ID",IF($C76="","Check employee ID",IF(IFERROR(VLOOKUP($B76,Employees!$A$5:$F$104,6,FALSE),"")<>"Active","Check employee status",IF($D76="","Check crew",IF($G76="","Check employee rate",IF($H76="","Check OT multiplier",IF(AND($E76="",$F76="",$K76=""),"Check pay inputs",IF(IFERROR($E76+$F76,0)>$W$2,"Check hours",IF($P76="","Check approval status",IF(AND($P76="Approved",$O76<0),"Check negative amount","")))))))))))) | S76: =IF(Assumptions!$B$76="","",Assumptions!$B$76) | T76: =IF(Assumptions!$C$76="","",Assumptions!$C$76) | U76: =IF(Employees!$A$76="","",Employees!$A$76)
C77: =IF($B77="","",IFERROR(VLOOKUP($B77,Employees!$A$5:$F$104,2,FALSE),"")) | G77: =IF($B77="","",IFERROR(VLOOKUP($B77,Employees!$A$5:$F$104,4,FALSE),"")) | H77: =IF($B77="","",IFERROR(VLOOKUP($B77,Employees!$A$5:$F$104,5,FALSE),"")) | I77: =IF(OR($A77="",$B77="",$E77="",$G77=""),"",ROUND($E77*$G77,2)) | J77: =IF(OR($A77="",$B77="",$F77="",$G77="",$H77=""),"",ROUND($F77*$G77*$H77,2)) | L77: =IF(OR($A77="",$B77="",$G77="",AND($E77="",$F77="",$K77="")),"",ROUND(IF($I77="",0,$I77)+IF($J77="",0,$J77)+IF($K77="",0,$K77),2)) | O77: =IF($L77="","",ROUND($L77+IF($M77="",0,$M77)-IF($N77="",0,$N77),2)) | Q77: =IF(AND($A77="",$B77="",$D77="",$E77="",$F77="",$K77="",$M77="",$N77="",$P77="",$R77=""),"",IF($A77="","Check pay period",IF($B77="","Check employee ID",IF($C77="","Check employee ID",IF(IFERROR(VLOOKUP($B77,Employees!$A$5:$F$104,6,FALSE),"")<>"Active","Check employee status",IF($D77="","Check crew",IF($G77="","Check employee rate",IF($H77="","Check OT multiplier",IF(AND($E77="",$F77="",$K77=""),"Check pay inputs",IF(IFERROR($E77+$F77,0)>$W$2,"Check hours",IF($P77="","Check approval status",IF(AND($P77="Approved",$O77<0),"Check negative amount","")))))))))))) | S77: =IF(Assumptions!$B$77="","",Assumptions!$B$77) | T77: =IF(Assumptions!$C$77="","",Assumptions!$C$77) | U77: =IF(Employees!$A$77="","",Employees!$A$77)
C78: =IF($B78="","",IFERROR(VLOOKUP($B78,Employees!$A$5:$F$104,2,FALSE),"")) | G78: =IF($B78="","",IFERROR(VLOOKUP($B78,Employees!$A$5:$F$104,4,FALSE),"")) | H78: =IF($B78="","",IFERROR(VLOOKUP($B78,Employees!$A$5:$F$104,5,FALSE),"")) | I78: =IF(OR($A78="",$B78="",$E78="",$G78=""),"",ROUND($E78*$G78,2)) | J78: =IF(OR($A78="",$B78="",$F78="",$G78="",$H78=""),"",ROUND($F78*$G78*$H78,2)) | L78: =IF(OR($A78="",$B78="",$G78="",AND($E78="",$F78="",$K78="")),"",ROUND(IF($I78="",0,$I78)+IF($J78="",0,$J78)+IF($K78="",0,$K78),2)) | O78: =IF($L78="","",ROUND($L78+IF($M78="",0,$M78)-IF($N78="",0,$N78),2)) | Q78: =IF(AND($A78="",$B78="",$D78="",$E78="",$F78="",$K78="",$M78="",$N78="",$P78="",$R78=""),"",IF($A78="","Check pay period",IF($B78="","Check employee ID",IF($C78="","Check employee ID",IF(IFERROR(VLOOKUP($B78,Employees!$A$5:$F$104,6,FALSE),"")<>"Active","Check employee status",IF($D78="","Check crew",IF($G78="","Check employee rate",IF($H78="","Check OT multiplier",IF(AND($E78="",$F78="",$K78=""),"Check pay inputs",IF(IFERROR($E78+$F78,0)>$W$2,"Check hours",IF($P78="","Check approval status",IF(AND($P78="Approved",$O78<0),"Check negative amount","")))))))))))) | S78: =IF(Assumptions!$B$78="","",Assumptions!$B$78) | T78: =IF(Assumptions!$C$78="","",Assumptions!$C$78) | U78: =IF(Employees!$A$78="","",Employees!$A$78)
C79: =IF($B79="","",IFERROR(VLOOKUP($B79,Employees!$A$5:$F$104,2,FALSE),"")) | G79: =IF($B79="","",IFERROR(VLOOKUP($B79,Employees!$A$5:$F$104,4,FALSE),"")) | H79: =IF($B79="","",IFERROR(VLOOKUP($B79,Employees!$A$5:$F$104,5,FALSE),"")) | I79: =IF(OR($A79="",$B79="",$E79="",$G79=""),"",ROUND($E79*$G79,2)) | J79: =IF(OR($A79="",$B79="",$F79="",$G79="",$H79=""),"",ROUND($F79*$G79*$H79,2)) | L79: =IF(OR($A79="",$B79="",$G79="",AND($E79="",$F79="",$K79="")),"",ROUND(IF($I79="",0,$I79)+IF($J79="",0,$J79)+IF($K79="",0,$K79),2)) | O79: =IF($L79="","",ROUND($L79+IF($M79="",0,$M79)-IF($N79="",0,$N79),2)) | Q79: =IF(AND($A79="",$B79="",$D79="",$E79="",$F79="",$K79="",$M79="",$N79="",$P79="",$R79=""),"",IF($A79="","Check pay period",IF($B79="","Check employee ID",IF($C79="","Check employee ID",IF(IFERROR(VLOOKUP($B79,Employees!$A$5:$F$104,6,FALSE),"")<>"Active","Check employee status",IF($D79="","Check crew",IF($G79="","Check employee rate",IF($H79="","Check OT multiplier",IF(AND($E79="",$F79="",$K79=""),"Check pay inputs",IF(IFERROR($E79+$F79,0)>$W$2,"Check hours",IF($P79="","Check approval status",IF(AND($P79="Approved",$O79<0),"Check negative amount","")))))))))))) | S79: =IF(Assumptions!$B$79="","",Assumptions!$B$79) | T79: =IF(Assumptions!$C$79="","",Assumptions!$C$79) | U79: =IF(Employees!$A$79="","",Employees!$A$79)
C80: =IF($B80="","",IFERROR(VLOOKUP($B80,Employees!$A$5:$F$104,2,FALSE),"")) | G80: =IF($B80="","",IFERROR(VLOOKUP($B80,Employees!$A$5:$F$104,4,FALSE),"")) | H80: =IF($B80="","",IFERROR(VLOOKUP($B80,Employees!$A$5:$F$104,5,FALSE),"")) | I80: =IF(OR($A80="",$B80="",$E80="",$G80=""),"",ROUND($E80*$G80,2)) | J80: =IF(OR($A80="",$B80="",$F80="",$G80="",$H80=""),"",ROUND($F80*$G80*$H80,2)) | L80: =IF(OR($A80="",$B80="",$G80="",AND($E80="",$F80="",$K80="")),"",ROUND(IF($I80="",0,$I80)+IF($J80="",0,$J80)+IF($K80="",0,$K80),2)) | O80: =IF($L80="","",ROUND($L80+IF($M80="",0,$M80)-IF($N80="",0,$N80),2)) | Q80: =IF(AND($A80="",$B80="",$D80="",$E80="",$F80="",$K80="",$M80="",$N80="",$P80="",$R80=""),"",IF($A80="","Check pay period",IF($B80="","Check employee ID",IF($C80="","Check employee ID",IF(IFERROR(VLOOKUP($B80,Employees!$A$5:$F$104,6,FALSE),"")<>"Active","Check employee status",IF($D80="","Check crew",IF($G80="","Check employee rate",IF($H80="","Check OT multiplier",IF(AND($E80="",$F80="",$K80=""),"Check pay inputs",IF(IFERROR($E80+$F80,0)>$W$2,"Check hours",IF($P80="","Check approval status",IF(AND($P80="Approved",$O80<0),"Check negative amount","")))))))))))) | S80: =IF(Assumptions!$B$80="","",Assumptions!$B$80) | T80: =IF(Assumptions!$C$80="","",Assumptions!$C$80) | U80: =IF(Employees!$A$80="","",Employees!$A$80)
C81: =IF($B81="","",IFERROR(VLOOKUP($B81,Employees!$A$5:$F$104,2,FALSE),"")) | G81: =IF($B81="","",IFERROR(VLOOKUP($B81,Employees!$A$5:$F$104,4,FALSE),"")) | H81: =IF($B81="","",IFERROR(VLOOKUP($B81,Employees!$A$5:$F$104,5,FALSE),"")) | I81: =IF(OR($A81="",$B81="",$E81="",$G81=""),"",ROUND($E81*$G81,2)) | J81: =IF(OR($A81="",$B81="",$F81="",$G81="",$H81=""),"",ROUND($F81*$G81*$H81,2)) | L81: =IF(OR($A81="",$B81="",$G81="",AND($E81="",$F81="",$K81="")),"",ROUND(IF($I81="",0,$I81)+IF($J81="",0,$J81)+IF($K81="",0,$K81),2)) | O81: =IF($L81="","",ROUND($L81+IF($M81="",0,$M81)-IF($N81="",0,$N81),2)) | Q81: =IF(AND($A81="",$B81="",$D81="",$E81="",$F81="",$K81="",$M81="",$N81="",$P81="",$R81=""),"",IF($A81="","Check pay period",IF($B81="","Check employee ID",IF($C81="","Check employee ID",IF(IFERROR(VLOOKUP($B81,Employees!$A$5:$F$104,6,FALSE),"")<>"Active","Check employee status",IF($D81="","Check crew",IF($G81="","Check employee rate",IF($H81="","Check OT multiplier",IF(AND($E81="",$F81="",$K81=""),"Check pay inputs",IF(IFERROR($E81+$F81,0)>$W$2,"Check hours",IF($P81="","Check approval status",IF(AND($P81="Approved",$O81<0),"Check negative amount","")))))))))))) | S81: =IF(Assumptions!$B$81="","",Assumptions!$B$81) | T81: =IF(Assumptions!$C$81="","",Assumptions!$C$81) | U81: =IF(Employees!$A$81="","",Employees!$A$81)
C82: =IF($B82="","",IFERROR(VLOOKUP($B82,Employees!$A$5:$F$104,2,FALSE),"")) | G82: =IF($B82="","",IFERROR(VLOOKUP($B82,Employees!$A$5:$F$104,4,FALSE),"")) | H82: =IF($B82="","",IFERROR(VLOOKUP($B82,Employees!$A$5:$F$104,5,FALSE),"")) | I82: =IF(OR($A82="",$B82="",$E82="",$G82=""),"",ROUND($E82*$G82,2)) | J82: =IF(OR($A82="",$B82="",$F82="",$G82="",$H82=""),"",ROUND($F82*$G82*$H82,2)) | L82: =IF(OR($A82="",$B82="",$G82="",AND($E82="",$F82="",$K82="")),"",ROUND(IF($I82="",0,$I82)+IF($J82="",0,$J82)+IF($K82="",0,$K82),2)) | O82: =IF($L82="","",ROUND($L82+IF($M82="",0,$M82)-IF($N82="",0,$N82),2)) | Q82: =IF(AND($A82="",$B82="",$D82="",$E82="",$F82="",$K82="",$M82="",$N82="",$P82="",$R82=""),"",IF($A82="","Check pay period",IF($B82="","Check employee ID",IF($C82="","Check employee ID",IF(IFERROR(VLOOKUP($B82,Employees!$A$5:$F$104,6,FALSE),"")<>"Active","Check employee status",IF($D82="","Check crew",IF($G82="","Check employee rate",IF($H82="","Check OT multiplier",IF(AND($E82="",$F82="",$K82=""),"Check pay inputs",IF(IFERROR($E82+$F82,0)>$W$2,"Check hours",IF($P82="","Check approval status",IF(AND($P82="Approved",$O82<0),"Check negative amount","")))))))))))) | S82: =IF(Assumptions!$B$82="","",Assumptions!$B$82) | T82: =IF(Assumptions!$C$82="","",Assumptions!$C$82) | U82: =IF(Employees!$A$82="","",Employees!$A$82)
C83: =IF($B83="","",IFERROR(VLOOKUP($B83,Employees!$A$5:$F$104,2,FALSE),"")) | G83: =IF($B83="","",IFERROR(VLOOKUP($B83,Employees!$A$5:$F$104,4,FALSE),"")) | H83: =IF($B83="","",IFERROR(VLOOKUP($B83,Employees!$A$5:$F$104,5,FALSE),"")) | I83: =IF(OR($A83="",$B83="",$E83="",$G83=""),"",ROUND($E83*$G83,2)) | J83: =IF(OR($A83="",$B83="",$F83="",$G83="",$H83=""),"",ROUND($F83*$G83*$H83,2)) | L83: =IF(OR($A83="",$B83="",$G83="",AND($E83="",$F83="",$K83="")),"",ROUND(IF($I83="",0,$I83)+IF($J83="",0,$J83)+IF($K83="",0,$K83),2)) | O83: =IF($L83="","",ROUND($L83+IF($M83="",0,$M83)-IF($N83="",0,$N83),2)) | Q83: =IF(AND($A83="",$B83="",$D83="",$E83="",$F83="",$K83="",$M83="",$N83="",$P83="",$R83=""),"",IF($A83="","Check pay period",IF($B83="","Check employee ID",IF($C83="","Check employee ID",IF(IFERROR(VLOOKUP($B83,Employees!$A$5:$F$104,6,FALSE),"")<>"Active","Check employee status",IF($D83="","Check crew",IF($G83="","Check employee rate",IF($H83="","Check OT multiplier",IF(AND($E83="",$F83="",$K83=""),"Check pay inputs",IF(IFERROR($E83+$F83,0)>$W$2,"Check hours",IF($P83="","Check approval status",IF(AND($P83="Approved",$O83<0),"Check negative amount","")))))))))))) | S83: =IF(Assumptions!$B$83="","",Assumptions!$B$83) | T83: =IF(Assumptions!$C$83="","",Assumptions!$C$83) | U83: =IF(Employees!$A$83="","",Employees!$A$83)
C84: =IF($B84="","",IFERROR(VLOOKUP($B84,Employees!$A$5:$F$104,2,FALSE),"")) | G84: =IF($B84="","",IFERROR(VLOOKUP($B84,Employees!$A$5:$F$104,4,FALSE),"")) | H84: =IF($B84="","",IFERROR(VLOOKUP($B84,Employees!$A$5:$F$104,5,FALSE),"")) | I84: =IF(OR($A84="",$B84="",$E84="",$G84=""),"",ROUND($E84*$G84,2)) | J84: =IF(OR($A84="",$B84="",$F84="",$G84="",$H84=""),"",ROUND($F84*$G84*$H84,2)) | L84: =IF(OR($A84="",$B84="",$G84="",AND($E84="",$F84="",$K84="")),"",ROUND(IF($I84="",0,$I84)+IF($J84="",0,$J84)+IF($K84="",0,$K84),2)) | O84: =IF($L84="","",ROUND($L84+IF($M84="",0,$M84)-IF($N84="",0,$N84),2)) | Q84: =IF(AND($A84="",$B84="",$D84="",$E84="",$F84="",$K84="",$M84="",$N84="",$P84="",$R84=""),"",IF($A84="","Check pay period",IF($B84="","Check employee ID",IF($C84="","Check employee ID",IF(IFERROR(VLOOKUP($B84,Employees!$A$5:$F$104,6,FALSE),"")<>"Active","Check employee status",IF($D84="","Check crew",IF($G84="","Check employee rate",IF($H84="","Check OT multiplier",IF(AND($E84="",$F84="",$K84=""),"Check pay inputs",IF(IFERROR($E84+$F84,0)>$W$2,"Check hours",IF($P84="","Check approval status",IF(AND($P84="Approved",$O84<0),"Check negative amount","")))))))))))) | S84: =IF(Assumptions!$B$84="","",Assumptions!$B$84) | T84: =IF(Assumptions!$C$84="","",Assumptions!$C$84) | U84: =IF(Employees!$A$84="","",Employees!$A$84)
C85: =IF($B85="","",IFERROR(VLOOKUP($B85,Employees!$A$5:$F$104,2,FALSE),"")) | G85: =IF($B85="","",IFERROR(VLOOKUP($B85,Employees!$A$5:$F$104,4,FALSE),"")) | H85: =IF($B85="","",IFERROR(VLOOKUP($B85,Employees!$A$5:$F$104,5,FALSE),"")) | I85: =IF(OR($A85="",$B85="",$E85="",$G85=""),"",ROUND($E85*$G85,2)) | J85: =IF(OR($A85="",$B85="",$F85="",$G85="",$H85=""),"",ROUND($F85*$G85*$H85,2)) | L85: =IF(OR($A85="",$B85="",$G85="",AND($E85="",$F85="",$K85="")),"",ROUND(IF($I85="",0,$I85)+IF($J85="",0,$J85)+IF($K85="",0,$K85),2)) | O85: =IF($L85="","",ROUND($L85+IF($M85="",0,$M85)-IF($N85="",0,$N85),2)) | Q85: =IF(AND($A85="",$B85="",$D85="",$E85="",$F85="",$K85="",$M85="",$N85="",$P85="",$R85=""),"",IF($A85="","Check pay period",IF($B85="","Check employee ID",IF($C85="","Check employee ID",IF(IFERROR(VLOOKUP($B85,Employees!$A$5:$F$104,6,FALSE),"")<>"Active","Check employee status",IF($D85="","Check crew",IF($G85="","Check employee rate",IF($H85="","Check OT multiplier",IF(AND($E85="",$F85="",$K85=""),"Check pay inputs",IF(IFERROR($E85+$F85,0)>$W$2,"Check hours",IF($P85="","Check approval status",IF(AND($P85="Approved",$O85<0),"Check negative amount","")))))))))))) | S85: =IF(Assumptions!$B$85="","",Assumptions!$B$85) | T85: =IF(Assumptions!$C$85="","",Assumptions!$C$85) | U85: =IF(Employees!$A$85="","",Employees!$A$85)
C86: =IF($B86="","",IFERROR(VLOOKUP($B86,Employees!$A$5:$F$104,2,FALSE),"")) | G86: =IF($B86="","",IFERROR(VLOOKUP($B86,Employees!$A$5:$F$104,4,FALSE),"")) | H86: =IF($B86="","",IFERROR(VLOOKUP($B86,Employees!$A$5:$F$104,5,FALSE),"")) | I86: =IF(OR($A86="",$B86="",$E86="",$G86=""),"",ROUND($E86*$G86,2)) | J86: =IF(OR($A86="",$B86="",$F86="",$G86="",$H86=""),"",ROUND($F86*$G86*$H86,2)) | L86: =IF(OR($A86="",$B86="",$G86="",AND($E86="",$F86="",$K86="")),"",ROUND(IF($I86="",0,$I86)+IF($J86="",0,$J86)+IF($K86="",0,$K86),2)) | O86: =IF($L86="","",ROUND($L86+IF($M86="",0,$M86)-IF($N86="",0,$N86),2)) | Q86: =IF(AND($A86="",$B86="",$D86="",$E86="",$F86="",$K86="",$M86="",$N86="",$P86="",$R86=""),"",IF($A86="","Check pay period",IF($B86="","Check employee ID",IF($C86="","Check employee ID",IF(IFERROR(VLOOKUP($B86,Employees!$A$5:$F$104,6,FALSE),"")<>"Active","Check employee status",IF($D86="","Check crew",IF($G86="","Check employee rate",IF($H86="","Check OT multiplier",IF(AND($E86="",$F86="",$K86=""),"Check pay inputs",IF(IFERROR($E86+$F86,0)>$W$2,"Check hours",IF($P86="","Check approval status",IF(AND($P86="Approved",$O86<0),"Check negative amount","")))))))))))) | S86: =IF(Assumptions!$B$86="","",Assumptions!$B$86) | T86: =IF(Assumptions!$C$86="","",Assumptions!$C$86) | U86: =IF(Employees!$A$86="","",Employees!$A$86)
C87: =IF($B87="","",IFERROR(VLOOKUP($B87,Employees!$A$5:$F$104,2,FALSE),"")) | G87: =IF($B87="","",IFERROR(VLOOKUP($B87,Employees!$A$5:$F$104,4,FALSE),"")) | H87: =IF($B87="","",IFERROR(VLOOKUP($B87,Employees!$A$5:$F$104,5,FALSE),"")) | I87: =IF(OR($A87="",$B87="",$E87="",$G87=""),"",ROUND($E87*$G87,2)) | J87: =IF(OR($A87="",$B87="",$F87="",$G87="",$H87=""),"",ROUND($F87*$G87*$H87,2)) | L87: =IF(OR($A87="",$B87="",$G87="",AND($E87="",$F87="",$K87="")),"",ROUND(IF($I87="",0,$I87)+IF($J87="",0,$J87)+IF($K87="",0,$K87),2)) | O87: =IF($L87="","",ROUND($L87+IF($M87="",0,$M87)-IF($N87="",0,$N87),2)) | Q87: =IF(AND($A87="",$B87="",$D87="",$E87="",$F87="",$K87="",$M87="",$N87="",$P87="",$R87=""),"",IF($A87="","Check pay period",IF($B87="","Check employee ID",IF($C87="","Check employee ID",IF(IFERROR(VLOOKUP($B87,Employees!$A$5:$F$104,6,FALSE),"")<>"Active","Check employee status",IF($D87="","Check crew",IF($G87="","Check employee rate",IF($H87="","Check OT multiplier",IF(AND($E87="",$F87="",$K87=""),"Check pay inputs",IF(IFERROR($E87+$F87,0)>$W$2,"Check hours",IF($P87="","Check approval status",IF(AND($P87="Approved",$O87<0),"Check negative amount","")))))))))))) | S87: =IF(Assumptions!$B$87="","",Assumptions!$B$87) | T87: =IF(Assumptions!$C$87="","",Assumptions!$C$87) | U87: =IF(Employees!$A$87="","",Employees!$A$87)
C88: =IF($B88="","",IFERROR(VLOOKUP($B88,Employees!$A$5:$F$104,2,FALSE),"")) | G88: =IF($B88="","",IFERROR(VLOOKUP($B88,Employees!$A$5:$F$104,4,FALSE),"")) | H88: =IF($B88="","",IFERROR(VLOOKUP($B88,Employees!$A$5:$F$104,5,FALSE),"")) | I88: =IF(OR($A88="",$B88="",$E88="",$G88=""),"",ROUND($E88*$G88,2)) | J88: =IF(OR($A88="",$B88="",$F88="",$G88="",$H88=""),"",ROUND($F88*$G88*$H88,2)) | L88: =IF(OR($A88="",$B88="",$G88="",AND($E88="",$F88="",$K88="")),"",ROUND(IF($I88="",0,$I88)+IF($J88="",0,$J88)+IF($K88="",0,$K88),2)) | O88: =IF($L88="","",ROUND($L88+IF($M88="",0,$M88)-IF($N88="",0,$N88),2)) | Q88: =IF(AND($A88="",$B88="",$D88="",$E88="",$F88="",$K88="",$M88="",$N88="",$P88="",$R88=""),"",IF($A88="","Check pay period",IF($B88="","Check employee ID",IF($C88="","Check employee ID",IF(IFERROR(VLOOKUP($B88,Employees!$A$5:$F$104,6,FALSE),"")<>"Active","Check employee status",IF($D88="","Check crew",IF($G88="","Check employee rate",IF($H88="","Check OT multiplier",IF(AND($E88="",$F88="",$K88=""),"Check pay inputs",IF(IFERROR($E88+$F88,0)>$W$2,"Check hours",IF($P88="","Check approval status",IF(AND($P88="Approved",$O88<0),"Check negative amount","")))))))))))) | S88: =IF(Assumptions!$B$88="","",Assumptions!$B$88) | T88: =IF(Assumptions!$C$88="","",Assumptions!$C$88) | U88: =IF(Employees!$A$88="","",Employees!$A$88)
C89: =IF($B89="","",IFERROR(VLOOKUP($B89,Employees!$A$5:$F$104,2,FALSE),"")) | G89: =IF($B89="","",IFERROR(VLOOKUP($B89,Employees!$A$5:$F$104,4,FALSE),"")) | H89: =IF($B89="","",IFERROR(VLOOKUP($B89,Employees!$A$5:$F$104,5,FALSE),"")) | I89: =IF(OR($A89="",$B89="",$E89="",$G89=""),"",ROUND($E89*$G89,2)) | J89: =IF(OR($A89="",$B89="",$F89="",$G89="",$H89=""),"",ROUND($F89*$G89*$H89,2)) | L89: =IF(OR($A89="",$B89="",$G89="",AND($E89="",$F89="",$K89="")),"",ROUND(IF($I89="",0,$I89)+IF($J89="",0,$J89)+IF($K89="",0,$K89),2)) | O89: =IF($L89="","",ROUND($L89+IF($M89="",0,$M89)-IF($N89="",0,$N89),2)) | Q89: =IF(AND($A89="",$B89="",$D89="",$E89="",$F89="",$K89="",$M89="",$N89="",$P89="",$R89=""),"",IF($A89="","Check pay period",IF($B89="","Check employee ID",IF($C89="","Check employee ID",IF(IFERROR(VLOOKUP($B89,Employees!$A$5:$F$104,6,FALSE),"")<>"Active","Check employee status",IF($D89="","Check crew",IF($G89="","Check employee rate",IF($H89="","Check OT multiplier",IF(AND($E89="",$F89="",$K89=""),"Check pay inputs",IF(IFERROR($E89+$F89,0)>$W$2,"Check hours",IF($P89="","Check approval status",IF(AND($P89="Approved",$O89<0),"Check negative amount","")))))))))))) | S89: =IF(Assumptions!$B$89="","",Assumptions!$B$89) | T89: =IF(Assumptions!$C$89="","",Assumptions!$C$89) | U89: =IF(Employees!$A$89="","",Employees!$A$89)
C90: =IF($B90="","",IFERROR(VLOOKUP($B90,Employees!$A$5:$F$104,2,FALSE),"")) | G90: =IF($B90="","",IFERROR(VLOOKUP($B90,Employees!$A$5:$F$104,4,FALSE),"")) | H90: =IF($B90="","",IFERROR(VLOOKUP($B90,Employees!$A$5:$F$104,5,FALSE),"")) | I90: =IF(OR($A90="",$B90="",$E90="",$G90=""),"",ROUND($E90*$G90,2)) | J90: =IF(OR($A90="",$B90="",$F90="",$G90="",$H90=""),"",ROUND($F90*$G90*$H90,2)) | L90: =IF(OR($A90="",$B90="",$G90="",AND($E90="",$F90="",$K90="")),"",ROUND(IF($I90="",0,$I90)+IF($J90="",0,$J90)+IF($K90="",0,$K90),2)) | O90: =IF($L90="","",ROUND($L90+IF($M90="",0,$M90)-IF($N90="",0,$N90),2)) | Q90: =IF(AND($A90="",$B90="",$D90="",$E90="",$F90="",$K90="",$M90="",$N90="",$P90="",$R90=""),"",IF($A90="","Check pay period",IF($B90="","Check employee ID",IF($C90="","Check employee ID",IF(IFERROR(VLOOKUP($B90,Employees!$A$5:$F$104,6,FALSE),"")<>"Active","Check employee status",IF($D90="","Check crew",IF($G90="","Check employee rate",IF($H90="","Check OT multiplier",IF(AND($E90="",$F90="",$K90=""),"Check pay inputs",IF(IFERROR($E90+$F90,0)>$W$2,"Check hours",IF($P90="","Check approval status",IF(AND($P90="Approved",$O90<0),"Check negative amount","")))))))))))) | S90: =IF(Assumptions!$B$90="","",Assumptions!$B$90) | T90: =IF(Assumptions!$C$90="","",Assumptions!$C$90) | U90: =IF(Employees!$A$90="","",Employees!$A$90)
C91: =IF($B91="","",IFERROR(VLOOKUP($B91,Employees!$A$5:$F$104,2,FALSE),"")) | G91: =IF($B91="","",IFERROR(VLOOKUP($B91,Employees!$A$5:$F$104,4,FALSE),"")) | H91: =IF($B91="","",IFERROR(VLOOKUP($B91,Employees!$A$5:$F$104,5,FALSE),"")) | I91: =IF(OR($A91="",$B91="",$E91="",$G91=""),"",ROUND($E91*$G91,2)) | J91: =IF(OR($A91="",$B91="",$F91="",$G91="",$H91=""),"",ROUND($F91*$G91*$H91,2)) | L91: =IF(OR($A91="",$B91="",$G91="",AND($E91="",$F91="",$K91="")),"",ROUND(IF($I91="",0,$I91)+IF($J91="",0,$J91)+IF($K91="",0,$K91),2)) | O91: =IF($L91="","",ROUND($L91+IF($M91="",0,$M91)-IF($N91="",0,$N91),2)) | Q91: =IF(AND($A91="",$B91="",$D91="",$E91="",$F91="",$K91="",$M91="",$N91="",$P91="",$R91=""),"",IF($A91="","Check pay period",IF($B91="","Check employee ID",IF($C91="","Check employee ID",IF(IFERROR(VLOOKUP($B91,Employees!$A$5:$F$104,6,FALSE),"")<>"Active","Check employee status",IF($D91="","Check crew",IF($G91="","Check employee rate",IF($H91="","Check OT multiplier",IF(AND($E91="",$F91="",$K91=""),"Check pay inputs",IF(IFERROR($E91+$F91,0)>$W$2,"Check hours",IF($P91="","Check approval status",IF(AND($P91="Approved",$O91<0),"Check negative amount","")))))))))))) | S91: =IF(Assumptions!$B$91="","",Assumptions!$B$91) | T91: =IF(Assumptions!$C$91="","",Assumptions!$C$91) | U91: =IF(Employees!$A$91="","",Employees!$A$91)
C92: =IF($B92="","",IFERROR(VLOOKUP($B92,Employees!$A$5:$F$104,2,FALSE),"")) | G92: =IF($B92="","",IFERROR(VLOOKUP($B92,Employees!$A$5:$F$104,4,FALSE),"")) | H92: =IF($B92="","",IFERROR(VLOOKUP($B92,Employees!$A$5:$F$104,5,FALSE),"")) | I92: =IF(OR($A92="",$B92="",$E92="",$G92=""),"",ROUND($E92*$G92,2)) | J92: =IF(OR($A92="",$B92="",$F92="",$G92="",$H92=""),"",ROUND($F92*$G92*$H92,2)) | L92: =IF(OR($A92="",$B92="",$G92="",AND($E92="",$F92="",$K92="")),"",ROUND(IF($I92="",0,$I92)+IF($J92="",0,$J92)+IF($K92="",0,$K92),2)) | O92: =IF($L92="","",ROUND($L92+IF($M92="",0,$M92)-IF($N92="",0,$N92),2)) | Q92: =IF(AND($A92="",$B92="",$D92="",$E92="",$F92="",$K92="",$M92="",$N92="",$P92="",$R92=""),"",IF($A92="","Check pay period",IF($B92="","Check employee ID",IF($C92="","Check employee ID",IF(IFERROR(VLOOKUP($B92,Employees!$A$5:$F$104,6,FALSE),"")<>"Active","Check employee status",IF($D92="","Check crew",IF($G92="","Check employee rate",IF($H92="","Check OT multiplier",IF(AND($E92="",$F92="",$K92=""),"Check pay inputs",IF(IFERROR($E92+$F92,0)>$W$2,"Check hours",IF($P92="","Check approval status",IF(AND($P92="Approved",$O92<0),"Check negative amount","")))))))))))) | S92: =IF(Assumptions!$B$92="","",Assumptions!$B$92) | T92: =IF(Assumptions!$C$92="","",Assumptions!$C$92) | U92: =IF(Employees!$A$92="","",Employees!$A$92)
C93: =IF($B93="","",IFERROR(VLOOKUP($B93,Employees!$A$5:$F$104,2,FALSE),"")) | G93: =IF($B93="","",IFERROR(VLOOKUP($B93,Employees!$A$5:$F$104,4,FALSE),"")) | H93: =IF($B93="","",IFERROR(VLOOKUP($B93,Employees!$A$5:$F$104,5,FALSE),"")) | I93: =IF(OR($A93="",$B93="",$E93="",$G93=""),"",ROUND($E93*$G93,2)) | J93: =IF(OR($A93="",$B93="",$F93="",$G93="",$H93=""),"",ROUND($F93*$G93*$H93,2)) | L93: =IF(OR($A93="",$B93="",$G93="",AND($E93="",$F93="",$K93="")),"",ROUND(IF($I93="",0,$I93)+IF($J93="",0,$J93)+IF($K93="",0,$K93),2)) | O93: =IF($L93="","",ROUND($L93+IF($M93="",0,$M93)-IF($N93="",0,$N93),2)) | Q93: =IF(AND($A93="",$B93="",$D93="",$E93="",$F93="",$K93="",$M93="",$N93="",$P93="",$R93=""),"",IF($A93="","Check pay period",IF($B93="","Check employee ID",IF($C93="","Check employee ID",IF(IFERROR(VLOOKUP($B93,Employees!$A$5:$F$104,6,FALSE),"")<>"Active","Check employee status",IF($D93="","Check crew",IF($G93="","Check employee rate",IF($H93="","Check OT multiplier",IF(AND($E93="",$F93="",$K93=""),"Check pay inputs",IF(IFERROR($E93+$F93,0)>$W$2,"Check hours",IF($P93="","Check approval status",IF(AND($P93="Approved",$O93<0),"Check negative amount","")))))))))))) | S93: =IF(Assumptions!$B$93="","",Assumptions!$B$93) | T93: =IF(Assumptions!$C$93="","",Assumptions!$C$93) | U93: =IF(Employees!$A$93="","",Employees!$A$93)
C94: =IF($B94="","",IFERROR(VLOOKUP($B94,Employees!$A$5:$F$104,2,FALSE),"")) | G94: =IF($B94="","",IFERROR(VLOOKUP($B94,Employees!$A$5:$F$104,4,FALSE),"")) | H94: =IF($B94="","",IFERROR(VLOOKUP($B94,Employees!$A$5:$F$104,5,FALSE),"")) | I94: =IF(OR($A94="",$B94="",$E94="",$G94=""),"",ROUND($E94*$G94,2)) | J94: =IF(OR($A94="",$B94="",$F94="",$G94="",$H94=""),"",ROUND($F94*$G94*$H94,2)) | L94: =IF(OR($A94="",$B94="",$G94="",AND($E94="",$F94="",$K94="")),"",ROUND(IF($I94="",0,$I94)+IF($J94="",0,$J94)+IF($K94="",0,$K94),2)) | O94: =IF($L94="","",ROUND($L94+IF($M94="",0,$M94)-IF($N94="",0,$N94),2)) | Q94: =IF(AND($A94="",$B94="",$D94="",$E94="",$F94="",$K94="",$M94="",$N94="",$P94="",$R94=""),"",IF($A94="","Check pay period",IF($B94="","Check employee ID",IF($C94="","Check employee ID",IF(IFERROR(VLOOKUP($B94,Employees!$A$5:$F$104,6,FALSE),"")<>"Active","Check employee status",IF($D94="","Check crew",IF($G94="","Check employee rate",IF($H94="","Check OT multiplier",IF(AND($E94="",$F94="",$K94=""),"Check pay inputs",IF(IFERROR($E94+$F94,0)>$W$2,"Check hours",IF($P94="","Check approval status",IF(AND($P94="Approved",$O94<0),"Check negative amount","")))))))))))) | S94: =IF(Assumptions!$B$94="","",Assumptions!$B$94) | T94: =IF(Assumptions!$C$94="","",Assumptions!$C$94) | U94: =IF(Employees!$A$94="","",Employees!$A$94)
C95: =IF($B95="","",IFERROR(VLOOKUP($B95,Employees!$A$5:$F$104,2,FALSE),"")) | G95: =IF($B95="","",IFERROR(VLOOKUP($B95,Employees!$A$5:$F$104,4,FALSE),"")) | H95: =IF($B95="","",IFERROR(VLOOKUP($B95,Employees!$A$5:$F$104,5,FALSE),"")) | I95: =IF(OR($A95="",$B95="",$E95="",$G95=""),"",ROUND($E95*$G95,2)) | J95: =IF(OR($A95="",$B95="",$F95="",$G95="",$H95=""),"",ROUND($F95*$G95*$H95,2)) | L95: =IF(OR($A95="",$B95="",$G95="",AND($E95="",$F95="",$K95="")),"",ROUND(IF($I95="",0,$I95)+IF($J95="",0,$J95)+IF($K95="",0,$K95),2)) | O95: =IF($L95="","",ROUND($L95+IF($M95="",0,$M95)-IF($N95="",0,$N95),2)) | Q95: =IF(AND($A95="",$B95="",$D95="",$E95="",$F95="",$K95="",$M95="",$N95="",$P95="",$R95=""),"",IF($A95="","Check pay period",IF($B95="","Check employee ID",IF($C95="","Check employee ID",IF(IFERROR(VLOOKUP($B95,Employees!$A$5:$F$104,6,FALSE),"")<>"Active","Check employee status",IF($D95="","Check crew",IF($G95="","Check employee rate",IF($H95="","Check OT multiplier",IF(AND($E95="",$F95="",$K95=""),"Check pay inputs",IF(IFERROR($E95+$F95,0)>$W$2,"Check hours",IF($P95="","Check approval status",IF(AND($P95="Approved",$O95<0),"Check negative amount","")))))))))))) | S95: =IF(Assumptions!$B$95="","",Assumptions!$B$95) | T95: =IF(Assumptions!$C$95="","",Assumptions!$C$95) | U95: =IF(Employees!$A$95="","",Employees!$A$95)
C96: =IF($B96="","",IFERROR(VLOOKUP($B96,Employees!$A$5:$F$104,2,FALSE),"")) | G96: =IF($B96="","",IFERROR(VLOOKUP($B96,Employees!$A$5:$F$104,4,FALSE),"")) | H96: =IF($B96="","",IFERROR(VLOOKUP($B96,Employees!$A$5:$F$104,5,FALSE),"")) | I96: =IF(OR($A96="",$B96="",$E96="",$G96=""),"",ROUND($E96*$G96,2)) | J96: =IF(OR($A96="",$B96="",$F96="",$G96="",$H96=""),"",ROUND($F96*$G96*$H96,2)) | L96: =IF(OR($A96="",$B96="",$G96="",AND($E96="",$F96="",$K96="")),"",ROUND(IF($I96="",0,$I96)+IF($J96="",0,$J96)+IF($K96="",0,$K96),2)) | O96: =IF($L96="","",ROUND($L96+IF($M96="",0,$M96)-IF($N96="",0,$N96),2)) | Q96: =IF(AND($A96="",$B96="",$D96="",$E96="",$F96="",$K96="",$M96="",$N96="",$P96="",$R96=""),"",IF($A96="","Check pay period",IF($B96="","Check employee ID",IF($C96="","Check employee ID",IF(IFERROR(VLOOKUP($B96,Employees!$A$5:$F$104,6,FALSE),"")<>"Active","Check employee status",IF($D96="","Check crew",IF($G96="","Check employee rate",IF($H96="","Check OT multiplier",IF(AND($E96="",$F96="",$K96=""),"Check pay inputs",IF(IFERROR($E96+$F96,0)>$W$2,"Check hours",IF($P96="","Check approval status",IF(AND($P96="Approved",$O96<0),"Check negative amount","")))))))))))) | S96: =IF(Assumptions!$B$96="","",Assumptions!$B$96) | T96: =IF(Assumptions!$C$96="","",Assumptions!$C$96) | U96: =IF(Employees!$A$96="","",Employees!$A$96)
C97: =IF($B97="","",IFERROR(VLOOKUP($B97,Employees!$A$5:$F$104,2,FALSE),"")) | G97: =IF($B97="","",IFERROR(VLOOKUP($B97,Employees!$A$5:$F$104,4,FALSE),"")) | H97: =IF($B97="","",IFERROR(VLOOKUP($B97,Employees!$A$5:$F$104,5,FALSE),"")) | I97: =IF(OR($A97="",$B97="",$E97="",$G97=""),"",ROUND($E97*$G97,2)) | J97: =IF(OR($A97="",$B97="",$F97="",$G97="",$H97=""),"",ROUND($F97*$G97*$H97,2)) | L97: =IF(OR($A97="",$B97="",$G97="",AND($E97="",$F97="",$K97="")),"",ROUND(IF($I97="",0,$I97)+IF($J97="",0,$J97)+IF($K97="",0,$K97),2)) | O97: =IF($L97="","",ROUND($L97+IF($M97="",0,$M97)-IF($N97="",0,$N97),2)) | Q97: =IF(AND($A97="",$B97="",$D97="",$E97="",$F97="",$K97="",$M97="",$N97="",$P97="",$R97=""),"",IF($A97="","Check pay period",IF($B97="","Check employee ID",IF($C97="","Check employee ID",IF(IFERROR(VLOOKUP($B97,Employees!$A$5:$F$104,6,FALSE),"")<>"Active","Check employee status",IF($D97="","Check crew",IF($G97="","Check employee rate",IF($H97="","Check OT multiplier",IF(AND($E97="",$F97="",$K97=""),"Check pay inputs",IF(IFERROR($E97+$F97,0)>$W$2,"Check hours",IF($P97="","Check approval status",IF(AND($P97="Approved",$O97<0),"Check negative amount","")))))))))))) | S97: =IF(Assumptions!$B$97="","",Assumptions!$B$97) | T97: =IF(Assumptions!$C$97="","",Assumptions!$C$97) | U97: =IF(Employees!$A$97="","",Employees!$A$97)
C98: =IF($B98="","",IFERROR(VLOOKUP($B98,Employees!$A$5:$F$104,2,FALSE),"")) | G98: =IF($B98="","",IFERROR(VLOOKUP($B98,Employees!$A$5:$F$104,4,FALSE),"")) | H98: =IF($B98="","",IFERROR(VLOOKUP($B98,Employees!$A$5:$F$104,5,FALSE),"")) | I98: =IF(OR($A98="",$B98="",$E98="",$G98=""),"",ROUND($E98*$G98,2)) | J98: =IF(OR($A98="",$B98="",$F98="",$G98="",$H98=""),"",ROUND($F98*$G98*$H98,2)) | L98: =IF(OR($A98="",$B98="",$G98="",AND($E98="",$F98="",$K98="")),"",ROUND(IF($I98="",0,$I98)+IF($J98="",0,$J98)+IF($K98="",0,$K98),2)) | O98: =IF($L98="","",ROUND($L98+IF($M98="",0,$M98)-IF($N98="",0,$N98),2)) | Q98: =IF(AND($A98="",$B98="",$D98="",$E98="",$F98="",$K98="",$M98="",$N98="",$P98="",$R98=""),"",IF($A98="","Check pay period",IF($B98="","Check employee ID",IF($C98="","Check employee ID",IF(IFERROR(VLOOKUP($B98,Employees!$A$5:$F$104,6,FALSE),"")<>"Active","Check employee status",IF($D98="","Check crew",IF($G98="","Check employee rate",IF($H98="","Check OT multiplier",IF(AND($E98="",$F98="",$K98=""),"Check pay inputs",IF(IFERROR($E98+$F98,0)>$W$2,"Check hours",IF($P98="","Check approval status",IF(AND($P98="Approved",$O98<0),"Check negative amount","")))))))))))) | S98: =IF(Assumptions!$B$98="","",Assumptions!$B$98) | T98: =IF(Assumptions!$C$98="","",Assumptions!$C$98) | U98: =IF(Employees!$A$98="","",Employees!$A$98)
C99: =IF($B99="","",IFERROR(VLOOKUP($B99,Employees!$A$5:$F$104,2,FALSE),"")) | G99: =IF($B99="","",IFERROR(VLOOKUP($B99,Employees!$A$5:$F$104,4,FALSE),"")) | H99: =IF($B99="","",IFERROR(VLOOKUP($B99,Employees!$A$5:$F$104,5,FALSE),"")) | I99: =IF(OR($A99="",$B99="",$E99="",$G99=""),"",ROUND($E99*$G99,2)) | J99: =IF(OR($A99="",$B99="",$F99="",$G99="",$H99=""),"",ROUND($F99*$G99*$H99,2)) | L99: =IF(OR($A99="",$B99="",$G99="",AND($E99="",$F99="",$K99="")),"",ROUND(IF($I99="",0,$I99)+IF($J99="",0,$J99)+IF($K99="",0,$K99),2)) | O99: =IF($L99="","",ROUND($L99+IF($M99="",0,$M99)-IF($N99="",0,$N99),2)) | Q99: =IF(AND($A99="",$B99="",$D99="",$E99="",$F99="",$K99="",$M99="",$N99="",$P99="",$R99=""),"",IF($A99="","Check pay period",IF($B99="","Check employee ID",IF($C99="","Check employee ID",IF(IFERROR(VLOOKUP($B99,Employees!$A$5:$F$104,6,FALSE),"")<>"Active","Check employee status",IF($D99="","Check crew",IF($G99="","Check employee rate",IF($H99="","Check OT multiplier",IF(AND($E99="",$F99="",$K99=""),"Check pay inputs",IF(IFERROR($E99+$F99,0)>$W$2,"Check hours",IF($P99="","Check approval status",IF(AND($P99="Approved",$O99<0),"Check negative amount","")))))))))))) | S99: =IF(Assumptions!$B$99="","",Assumptions!$B$99) | T99: =IF(Assumptions!$C$99="","",Assumptions!$C$99) | U99: =IF(Employees!$A$99="","",Employees!$A$99)
C100: =IF($B100="","",IFERROR(VLOOKUP($B100,Employees!$A$5:$F$104,2,FALSE),"")) | G100: =IF($B100="","",IFERROR(VLOOKUP($B100,Employees!$A$5:$F$104,4,FALSE),"")) | H100: =IF($B100="","",IFERROR(VLOOKUP($B100,Employees!$A$5:$F$104,5,FALSE),"")) | I100: =IF(OR($A100="",$B100="",$E100="",$G100=""),"",ROUND($E100*$G100,2)) | J100: =IF(OR($A100="",$B100="",$F100="",$G100="",$H100=""),"",ROUND($F100*$G100*$H100,2)) | L100: =IF(OR($A100="",$B100="",$G100="",AND($E100="",$F100="",$K100="")),"",ROUND(IF($I100="",0,$I100)+IF($J100="",0,$J100)+IF($K100="",0,$K100),2)) | O100: =IF($L100="","",ROUND($L100+IF($M100="",0,$M100)-IF($N100="",0,$N100),2)) | Q100: =IF(AND($A100="",$B100="",$D100="",$E100="",$F100="",$K100="",$M100="",$N100="",$P100="",$R100=""),"",IF($A100="","Check pay period",IF($B100="","Check employee ID",IF($C100="","Check employee ID",IF(IFERROR(VLOOKUP($B100,Employees!$A$5:$F$104,6,FALSE),"")<>"Active","Check employee status",IF($D100="","Check crew",IF($G100="","Check employee rate",IF($H100="","Check OT multiplier",IF(AND($E100="",$F100="",$K100=""),"Check pay inputs",IF(IFERROR($E100+$F100,0)>$W$2,"Check hours",IF($P100="","Check approval status",IF(AND($P100="Approved",$O100<0),"Check negative amount","")))))))))))) | S100: =IF(Assumptions!$B$100="","",Assumptions!$B$100) | T100: =IF(Assumptions!$C$100="","",Assumptions!$C$100) | U100: =IF(Employees!$A$100="","",Employees!$A$100)
...

Sheet Employees
A1: Employees and Pay Rates
A2: All employees are fictional samples. Edit yellow cells and confirm each rate, multiplier, and status before preparing payroll inputs. | J2: =Assumptions!$F$11 | K2: =Assumptions!$F$12 | L2: =Assumptions!$F$13 | M2: =Assumptions!$F$14
A4: Employee ID | B4: Employee Name | C4: Role | D4: Hourly Rate | E4: OT Multiplier | F4: Employee Status
A5: DEMO-001 | B5: Sample Employee 01 | C5: Crew Lead | D5: 29 | E5: 1.5 | F5: Active | H5: =IF(Assumptions!$A$5="","",Assumptions!$A$5) | I5: =IF(Assumptions!$D$5="","",Assumptions!$D$5)
A6: DEMO-002 | B6: Sample Employee 02 | C6: Lawn Technician | D6: 21.5 | E6: 1.5 | F6: Active | H6: =IF(Assumptions!$A$6="","",Assumptions!$A$6) | I6: =IF(Assumptions!$D$6="","",Assumptions!$D$6)
A7: DEMO-003 | B7: Sample Employee 03 | C7: Landscape Technician | D7: 23.75 | E7: 1.5 | F7: Active | H7: =IF(Assumptions!$A$7="","",Assumptions!$A$7) | I7: =IF(Assumptions!$D$7="","",Assumptions!$D$7)
A8: DEMO-004 | B8: Sample Employee 04 | C8: Equipment Operator | D8: 27 | E8: 1.5 | F8: Active | H8: =IF(Assumptions!$A$8="","",Assumptions!$A$8) | I8: =IF(Assumptions!$D$8="","",Assumptions!$D$8)
A9: DEMO-005 | B9: Sample Employee 05 | C9: Lawn Technician | D9: 20 | E9: 1.5 | F9: Active | H9: =IF(Assumptions!$A$9="","",Assumptions!$A$9) | I9: =IF(Assumptions!$D$9="","",Assumptions!$D$9)
A10: DEMO-006 | B10: Sample Employee 06 | C10: Shop Technician | D10: 25.5 | E10: 1.5 | F10: Active | H10: =IF(Assumptions!$A$10="","",Assumptions!$A$10) | I10: =IF(Assumptions!$D$10="","",Assumptions!$D$10)
A11: DEMO-007 | B11: Sample Employee 07 | C11: Seasonal Crew | D11: 18.5 | E11: 1.5 | F11: Active | H11: =IF(Assumptions!$A$11="","",Assumptions!$A$11) | I11: =IF(Assumptions!$D$11="","",Assumptions!$D$11)
A12: DEMO-008 | B12: Sample Employee 08 | C12: Crew Lead | D12: 28.25 | E12: 1.5 | F12: Active | H12: =IF(Assumptions!$A$12="","",Assumptions!$A$12) | I12: =IF(Assumptions!$D$12="","",Assumptions!$D$12)
A13: DEMO-009 | B13: Sample Employee 09 | C13: Landscape Technician | D13: 22.75 | E13: 1.5 | F13: Active | H13: =IF(Assumptions!$A$13="","",Assumptions!$A$13) | I13: =IF(Assumptions!$D$13="","",Assumptions!$D$13)
A14: DEMO-010 | B14: Sample Employee 10 | C14: Shop Technician | D14: 24 | E14: 1.5 | F14: Inactive | H14: =IF(Assumptions!$A$14="","",Assumptions!$A$14) | I14: =IF(Assumptions!$D$14="","",Assumptions!$D$14)
H15: =IF(Assumptions!$A$15="","",Assumptions!$A$15) | I15: =IF(Assumptions!$D$15="","",Assumptions!$D$15)
H16: =IF(Assumptions!$A$16="","",Assumptions!$A$16) | I16: =IF(Assumptions!$D$16="","",Assumptions!$D$16)
H17: =IF(Assumptions!$A$17="","",Assumptions!$A$17) | I17: =IF(Assumptions!$D$17="","",Assumptions!$D$17)
H18: =IF(Assumptions!$A$18="","",Assumptions!$A$18) | I18: =IF(Assumptions!$D$18="","",Assumptions!$D$18)
H19: =IF(Assumptions!$A$19="","",Assumptions!$A$19) | I19: =IF(Assumptions!$D$19="","",Assumptions!$D$19)
H20: =IF(Assumptions!$A$20="","",Assumptions!$A$20) | I20: =IF(Assumptions!$D$20="","",Assumptions!$D$20)
H21: =IF(Assumptions!$A$21="","",Assumptions!$A$21) | I21: =IF(Assumptions!$D$21="","",Assumptions!$D$21)
H22: =IF(Assumptions!$A$22="","",Assumptions!$A$22) | I22: =IF(Assumptions!$D$22="","",Assumptions!$D$22)
H23: =IF(Assumptions!$A$23="","",Assumptions!$A$23) | I23: =IF(Assumptions!$D$23="","",Assumptions!$D$23)
H24: =IF(Assumptions!$A$24="","",Assumptions!$A$24) | I24: =IF(Assumptions!$D$24="","",Assumptions!$D$24)
H25: =IF(Assumptions!$A$25="","",Assumptions!$A$25) | I25: =IF(Assumptions!$D$25="","",Assumptions!$D$25)
H26: =IF(Assumptions!$A$26="","",Assumptions!$A$26) | I26: =IF(Assumptions!$D$26="","",Assumptions!$D$26)
H27: =IF(Assumptions!$A$27="","",Assumptions!$A$27) | I27: =IF(Assumptions!$D$27="","",Assumptions!$D$27)
H28: =IF(Assumptions!$A$28="","",Assumptions!$A$28) | I28: =IF(Assumptions!$D$28="","",Assumptions!$D$28)
H29: =IF(Assumptions!$A$29="","",Assumptions!$A$29) | I29: =IF(Assumptions!$D$29="","",Assumptions!$D$29)
H30: =IF(Assumptions!$A$30="","",Assumptions!$A$30) | I30: =IF(Assumptions!$D$30="","",Assumptions!$D$30)
H31: =IF(Assumptions!$A$31="","",Assumptions!$A$31) | I31: =IF(Assumptions!$D$31="","",Assumptions!$D$31)
H32: =IF(Assumptions!$A$32="","",Assumptions!$A$32) | I32: =IF(Assumptions!$D$32="","",Assumptions!$D$32)
H33: =IF(Assumptions!$A$33="","",Assumptions!$A$33) | I33: =IF(Assumptions!$D$33="","",Assumptions!$D$33)
H34: =IF(Assumptions!$A$34="","",Assumptions!$A$34) | I34: =IF(Assumptions!$D$34="","",Assumptions!$D$34)
H35: =IF(Assumptions!$A$35="","",Assumptions!$A$35) | I35: =IF(Assumptions!$D$35="","",Assumptions!$D$35)
H36: =IF(Assumptions!$A$36="","",Assumptions!$A$36) | I36: =IF(Assumptions!$D$36="","",Assumptions!$D$36)
H37: =IF(Assumptions!$A$37="","",Assumptions!$A$37) | I37: =IF(Assumptions!$D$37="","",Assumptions!$D$37)
H38: =IF(Assumptions!$A$38="","",Assumptions!$A$38) | I38: =IF(Assumptions!$D$38="","",Assumptions!$D$38)
H39: =IF(Assumptions!$A$39="","",Assumptions!$A$39) | I39: =IF(Assumptions!$D$39="","",Assumptions!$D$39)
H40: =IF(Assumptions!$A$40="","",Assumptions!$A$40) | I40: =IF(Assumptions!$D$40="","",Assumptions!$D$40)
H41: =IF(Assumptions!$A$41="","",Assumptions!$A$41) | I41: =IF(Assumptions!$D$41="","",Assumptions!$D$41)
H42: =IF(Assumptions!$A$42="","",Assumptions!$A$42) | I42: =IF(Assumptions!$D$42="","",Assumptions!$D$42)
H43: =IF(Assumptions!$A$43="","",Assumptions!$A$43) | I43: =IF(Assumptions!$D$43="","",Assumptions!$D$43)
H44: =IF(Assumptions!$A$44="","",Assumptions!$A$44) | I44: =IF(Assumptions!$D$44="","",Assumptions!$D$44)
H45: =IF(Assumptions!$A$45="","",Assumptions!$A$45) | I45: =IF(Assumptions!$D$45="","",Assumptions!$D$45)
H46: =IF(Assumptions!$A$46="","",Assumptions!$A$46) | I46: =IF(Assumptions!$D$46="","",Assumptions!$D$46)
H47: =IF(Assumptions!$A$47="","",Assumptions!$A$47) | I47: =IF(Assumptions!$D$47="","",Assumptions!$D$47)
H48: =IF(Assumptions!$A$48="","",Assumptions!$A$48) | I48: =IF(Assumptions!$D$48="","",Assumptions!$D$48)
H49: =IF(Assumptions!$A$49="","",Assumptions!$A$49) | I49: =IF(Assumptions!$D$49="","",Assumptions!$D$49)
H50: =IF(Assumptions!$A$50="","",Assumptions!$A$50) | I50: =IF(Assumptions!$D$50="","",Assumptions!$D$50)
H51: =IF(Assumptions!$A$51="","",Assumptions!$A$51) | I51: =IF(Assumptions!$D$51="","",Assumptions!$D$51)
H52: =IF(Assumptions!$A$52="","",Assumptions!$A$52) | I52: =IF(Assumptions!$D$52="","",Assumptions!$D$52)
H53: =IF(Assumptions!$A$53="","",Assumptions!$A$53) | I53: =IF(Assumptions!$D$53="","",Assumptions!$D$53)
H54: =IF(Assumptions!$A$54="","",Assumptions!$A$54) | I54: =IF(Assumptions!$D$54="","",Assumptions!$D$54)
H55: =IF(Assumptions!$A$55="","",Assumptions!$A$55) | I55: =IF(Assumptions!$D$55="","",Assumptions!$D$55)
H56: =IF(Assumptions!$A$56="","",Assumptions!$A$56) | I56: =IF(Assumptions!$D$56="","",Assumptions!$D$56)
H57: =IF(Assumptions!$A$57="","",Assumptions!$A$57) | I57: =IF(Assumptions!$D$57="","",Assumptions!$D$57)
H58: =IF(Assumptions!$A$58="","",Assumptions!$A$58) | I58: =IF(Assumptions!$D$58="","",Assumptions!$D$58)
H59: =IF(Assumptions!$A$59="","",Assumptions!$A$59) | I59: =IF(Assumptions!$D$59="","",Assumptions!$D$59)
H60: =IF(Assumptions!$A$60="","",Assumptions!$A$60) | I60: =IF(Assumptions!$D$60="","",Assumptions!$D$60)
H61: =IF(Assumptions!$A$61="","",Assumptions!$A$61) | I61: =IF(Assumptions!$D$61="","",Assumptions!$D$61)
H62: =IF(Assumptions!$A$62="","",Assumptions!$A$62) | I62: =IF(Assumptions!$D$62="","",Assumptions!$D$62)
H63: =IF(Assumptions!$A$63="","",Assumptions!$A$63) | I63: =IF(Assumptions!$D$63="","",Assumptions!$D$63)
H64: =IF(Assumptions!$A$64="","",Assumptions!$A$64) | I64: =IF(Assumptions!$D$64="","",Assumptions!$D$64)
H65: =IF(Assumptions!$A$65="","",Assumptions!$A$65) | I65: =IF(Assumptions!$D$65="","",Assumptions!$D$65)
H66: =IF(Assumptions!$A$66="","",Assumptions!$A$66) | I66: =IF(Assumptions!$D$66="","",Assumptions!$D$66)
H67: =IF(Assumptions!$A$67="","",Assumptions!$A$67) | I67: =IF(Assumptions!$D$67="","",Assumptions!$D$67)
H68: =IF(Assumptions!$A$68="","",Assumptions!$A$68) | I68: =IF(Assumptions!$D$68="","",Assumptions!$D$68)
H69: =IF(Assumptions!$A$69="","",Assumptions!$A$69) | I69: =IF(Assumptions!$D$69="","",Assumptions!$D$69)
H70: =IF(Assumptions!$A$70="","",Assumptions!$A$70) | I70: =IF(Assumptions!$D$70="","",Assumptions!$D$70)
H71: =IF(Assumptions!$A$71="","",Assumptions!$A$71) | I71: =IF(Assumptions!$D$71="","",Assumptions!$D$71)
H72: =IF(Assumptions!$A$72="","",Assumptions!$A$72) | I72: =IF(Assumptions!$D$72="","",Assumptions!$D$72)
H73: =IF(Assumptions!$A$73="","",Assumptions!$A$73) | I73: =IF(Assumptions!$D$73="","",Assumptions!$D$73)
H74: =IF(Assumptions!$A$74="","",Assumptions!$A$74) | I74: =IF(Assumptions!$D$74="","",Assumptions!$D$74)
H75: =IF(Assumptions!$A$75="","",Assumptions!$A$75) | I75: =IF(Assumptions!$D$75="","",Assumptions!$D$75)
H76: =IF(Assumptions!$A$76="","",Assumptions!$A$76) | I76: =IF(Assumptions!$D$76="","",Assumptions!$D$76)
H77: =IF(Assumptions!$A$77="","",Assumptions!$A$77) | I77: =IF(Assumptions!$D$77="","",Assumptions!$D$77)
H78: =IF(Assumptions!$A$78="","",Assumptions!$A$78) | I78: =IF(Assumptions!$D$78="","",Assumptions!$D$78)
H79: =IF(Assumptions!$A$79="","",Assumptions!$A$79) | I79: =IF(Assumptions!$D$79="","",Assumptions!$D$79)
H80: =IF(Assumptions!$A$80="","",Assumptions!$A$80) | I80: =IF(Assumptions!$D$80="","",Assumptions!$D$80)
H81: =IF(Assumptions!$A$81="","",Assumptions!$A$81) | I81: =IF(Assumptions!$D$81="","",Assumptions!$D$81)
H82: =IF(Assumptions!$A$82="","",Assumptions!$A$82) | I82: =IF(Assumptions!$D$82="","",Assumptions!$D$82)
H83: =IF(Assumptions!$A$83="","",Assumptions!$A$83) | I83: =IF(Assumptions!$D$83="","",Assumptions!$D$83)
H84: =IF(Assumptions!$A$84="","",Assumptions!$A$84) | I84: =IF(Assumptions!$D$84="","",Assumptions!$D$84)
H85: =IF(Assumptions!$A$85="","",Assumptions!$A$85) | I85: =IF(Assumptions!$D$85="","",Assumptions!$D$85)
H86: =IF(Assumptions!$A$86="","",Assumptions!$A$86) | I86: =IF(Assumptions!$D$86="","",Assumptions!$D$86)
H87: =IF(Assumptions!$A$87="","",Assumptions!$A$87) | I87: =IF(Assumptions!$D$87="","",Assumptions!$D$87)
H88: =IF(Assumptions!$A$88="","",Assumptions!$A$88) | I88: =IF(Assumptions!$D$88="","",Assumptions!$D$88)
H89: =IF(Assumptions!$A$89="","",Assumptions!$A$89) | I89: =IF(Assumptions!$D$89="","",Assumptions!$D$89)
H90: =IF(Assumptions!$A$90="","",Assumptions!$A$90) | I90: =IF(Assumptions!$D$90="","",Assumptions!$D$90)
H91: =IF(Assumptions!$A$91="","",Assumptions!$A$91) | I91: =IF(Assumptions!$D$91="","",Assumptions!$D$91)
H92: =IF(Assumptions!$A$92="","",Assumptions!$A$92) | I92: =IF(Assumptions!$D$92="","",Assumptions!$D$92)
H93: =IF(Assumptions!$A$93="","",Assumptions!$A$93) | I93: =IF(Assumptions!$D$93="","",Assumptions!$D$93)
H94: =IF(Assumptions!$A$94="","",Assumptions!$A$94) | I94: =IF(Assumptions!$D$94="","",Assumptions!$D$94)
H95: =IF(Assumptions!$A$95="","",Assumptions!$A$95) | I95: =IF(Assumptions!$D$95="","",Assumptions!$D$95)
H96: =IF(Assumptions!$A$96="","",Assumptions!$A$96) | I96: =IF(Assumptions!$D$96="","",Assumptions!$D$96)
H97: =IF(Assumptions!$A$97="","",Assumptions!$A$97) | I97: =IF(Assumptions!$D$97="","",Assumptions!$D$97)
H98: =IF(Assumptions!$A$98="","",Assumptions!$A$98) | I98: =IF(Assumptions!$D$98="","",Assumptions!$D$98)
H99: =IF(Assumptions!$A$99="","",Assumptions!$A$99) | I99: =IF(Assumptions!$D$99="","",Assumptions!$D$99)
H100: =IF(Assumptions!$A$100="","",Assumptions!$A$100) | I100: =IF(Assumptions!$D$100="","",Assumptions!$D$100)
H101: =IF(Assumptions!$A$101="","",Assumptions!$A$101) | I101: =IF(Assumptions!$D$101="","",Assumptions!$D$101)
...

Sheet Assumptions
A1: Assumptions, Lists, and Input Limits
A2: Edit yellow cells. Lists feed dropdowns and limits control input checks. Confirm payroll policy and withholding outside this administrative workbook.
A3: Blank list rows are available for additional stable choices.
A4: Roles | B4: Crews | C4: Payroll Statuses | D4: Employee Statuses | E4: Input Limit | F4: Value
A5: Crew Lead | B5: Green Team | C5: Approved | D5: Active | E5: Earliest Pay Period | F5: 44197
A6: Lawn Technician | B6: Gold Team | C6: Draft | D6: Inactive | E6: Latest Pay Period | F6: 50040
A7: Landscape Technician | B7: Field Support | C7: Hold | E7: Minimum Hours per Line | F7: 0
A8: Equipment Operator | B8: Shop | E8: Maximum Hours per Line | F8: 168
A9: Shop Technician | E9: Minimum Dollar Input | F9: 0
A10: Seasonal Crew | E10: Maximum Dollar Input | F10: 10000
E11: Minimum Hourly Rate | F11: 0.01
E12: Maximum Hourly Rate | F12: 500
E13: Minimum OT Multiplier | F13: 0
E14: Maximum OT Multiplier | F14: 5
