Workbook

Sheet Summary
A1: Lawn Care Payroll Input Summary
A2: Fictional Greenline Grounds LLC. Administrative payroll inputs only; confirm rates, deductions, approvals, and withholding outside this workbook. | J2: =Assumptions!$F$5 | K2: =Assumptions!$F$6
A3: Selected Pay Period End | B3: 46269
A5: Approved Indicator | B5: Value | D5: Approval Status | E5: Rows | F5: Prepared Amount
A6: Approved Payroll Rows | B6: =IF($B$3="","",COUNTIFS('Payroll Input'!$A$5:$A$104,$B$3,'Payroll Input'!$P$5:$P$104,"Approved")) | D6: Approved | E6: =IF($B$3="","",COUNTIFS('Payroll Input'!$A$5:$A$104,$B$3,'Payroll Input'!$P$5:$P$104,$D6)) | F6: =IF($B$3="","",SUMIFS('Payroll Input'!$O$5:$O$104,'Payroll Input'!$A$5:$A$104,$B$3,'Payroll Input'!$P$5:$P$104,$D6))
A7: Approved Total Hours | B7: =IF($B$3="","",SUMIFS('Payroll Input'!$E$5:$E$104,'Payroll Input'!$A$5:$A$104,$B$3,'Payroll Input'!$P$5:$P$104,"Approved")+SUMIFS('Payroll Input'!$F$5:$F$104,'Payroll Input'!$A$5:$A$104,$B$3,'Payroll Input'!$P$5:$P$104,"Approved")) | D7: Draft | E7: =IF($B$3="","",COUNTIFS('Payroll Input'!$A$5:$A$104,$B$3,'Payroll Input'!$P$5:$P$104,$D7)) | F7: =IF($B$3="","",SUMIFS('Payroll Input'!$O$5:$O$104,'Payroll Input'!$A$5:$A$104,$B$3,'Payroll Input'!$P$5:$P$104,$D7))
A8: Approved Regular Hours | B8: =IF($B$3="","",SUMIFS('Payroll Input'!$E$5:$E$104,'Payroll Input'!$A$5:$A$104,$B$3,'Payroll Input'!$P$5:$P$104,"Approved")) | D8: Hold | E8: =IF($B$3="","",COUNTIFS('Payroll Input'!$A$5:$A$104,$B$3,'Payroll Input'!$P$5:$P$104,$D8)) | F8: =IF($B$3="","",SUMIFS('Payroll Input'!$O$5:$O$104,'Payroll Input'!$A$5:$A$104,$B$3,'Payroll Input'!$P$5:$P$104,$D8))
A9: Approved Overtime Hours | B9: =IF($B$3="","",SUMIFS('Payroll Input'!$F$5:$F$104,'Payroll Input'!$A$5:$A$104,$B$3,'Payroll Input'!$P$5:$P$104,"Approved"))
A10: Approved Gross Earnings | B10: =IF($B$3="","",SUMIFS('Payroll Input'!$L$5:$L$104,'Payroll Input'!$A$5:$A$104,$B$3,'Payroll Input'!$P$5:$P$104,"Approved"))
A11: Approved Reimbursements | B11: =IF($B$3="","",SUMIFS('Payroll Input'!$M$5:$M$104,'Payroll Input'!$A$5:$A$104,$B$3,'Payroll Input'!$P$5:$P$104,"Approved"))
A12: Approved Other Deductions | B12: =IF($B$3="","",SUMIFS('Payroll Input'!$N$5:$N$104,'Payroll Input'!$A$5:$A$104,$B$3,'Payroll Input'!$P$5:$P$104,"Approved"))
A13: Approved Prepared Amount | B13: =IF($B$3="","",SUMIFS('Payroll Input'!$O$5:$O$104,'Payroll Input'!$A$5:$A$104,$B$3,'Payroll Input'!$P$5:$P$104,"Approved"))
A14: Non-approved Payroll Rows | B14: =IF($B$3="","",COUNTIFS('Payroll Input'!$A$5:$A$104,$B$3,'Payroll Input'!$B$5:$B$104,"<>",'Payroll Input'!$P$5:$P$104,"<>Approved"))
A15: Rows With Review Flags | B15: =IF($B$3="","",COUNTIFS('Payroll Input'!$A$5:$A$104,$B$3,'Payroll Input'!$Q$5:$Q$104,"<>"))
A17: Yellow cells are editable. A review flag is a prompt for human verification.

Sheet Payroll Input
A1: Payroll Input
A2: Fictional sample entries. Prepared Amount equals gross earnings plus reimbursement minus other deduction; withholding is not calculated. | V2: =Assumptions!$F$7 | W2: =Assumptions!$F$8 | X2: =Assumptions!$F$9 | Y2: =Assumptions!$F$10 | Z2: =Assumptions!$F$5 | AA2: =Assumptions!$F$6
A3: Enter data in yellow cells. Review flags require a human check before use.
A4: Pay Period End | B4: Employee ID | C4: Employee Name | D4: Crew | E4: Regular Hours | F4: Overtime Hours | G4: Hourly Rate | H4: OT Multiplier | I4: Regular Pay | J4: Overtime Pay | K4: Bonus | L4: Gross Earnings | M4: Reimbursement | N4: Other Deduction | O4: Prepared Amount | P4: Approval Status | Q4: Review Flag | R4: Notes
A5: 46269 | B5: DEMO-001 | C5: =IF($B5="","",IFERROR(VLOOKUP($B5,Employees!$A$5:$F$104,2,FALSE),"")) | D5: Green Team | E5: 40 | F5: 4 | G5: =IF($B5="","",IFERROR(VLOOKUP($B5,Employees!$A$5:$F$104,4,FALSE),"")) | H5: =IF($B5="","",IFERROR(VLOOKUP($B5,Employees!$A$5:$F$104,5,FALSE),"")) | I5: =IF(OR($A5="",$B5="",$E5="",$G5=""),"",ROUND($E5*$G5,2)) | J5: =IF(OR($A5="",$B5="",$F5="",$G5="",$H5=""),"",ROUND($F5*$G5*$H5,2)) | K5: 0 | L5: =IF(OR($A5="",$B5="",$G5="",AND($E5="",$F5="",$K5="")),"",ROUND(IF($I5="",0,$I5)+IF($J5="",0,$J5)+IF($K5="",0,$K5),2)) | M5: 25 | N5: 0 | O5: =IF($L5="","",ROUND($L5+IF($M5="",0,$M5)-IF($N5="",0,$N5),2)) | P5: Approved | Q5: =IF(AND($A5="",$B5="",$D5="",$E5="",$F5="",$K5="",$M5="",$N5="",$P5="",$R5=""),"",IF($A5="","Check pay period",IF($B5="","Check employee ID",IF($C5="","Check employee ID",IF(IFERROR(VLOOKUP($B5,Employees!$A$5:$F$104,6,FALSE),"")<>"Active","Check employee status",IF($D5="","Check crew",IF($G5="","Check employee rate",IF($H5="","Check OT multiplier",IF(AND($E5="",$F5="",$K5=""),"Check pay inputs",IF(IFERROR($E5+$F5,0)>$W$2,"Check hours",IF($P5="","Check approval status",IF(AND($P5="Approved",$O5<0),"Check negative amount","")))))))))))) | R5: Fictional sample entry. | S5: =IF(Assumptions!$B$5="","",Assumptions!$B$5) | T5: =IF(Assumptions!$C$5="","",Assumptions!$C$5) | U5: =IF(Employees!$A$5="","",Employees!$A$5)
A6: 46269 | B6: DEMO-002 | C6: =IF($B6="","",IFERROR(VLOOKUP($B6,Employees!$A$5:$F$104,2,FALSE),"")) | D6: Green Team | E6: 40 | F6: 0 | G6: =IF($B6="","",IFERROR(VLOOKUP($B6,Employees!$A$5:$F$104,4,FALSE),"")) | H6: =IF($B6="","",IFERROR(VLOOKUP($B6,Employees!$A$5:$F$104,5,FALSE),"")) | I6: =IF(OR($A6="",$B6="",$E6="",$G6=""),"",ROUND($E6*$G6,2)) | J6: =IF(OR($A6="",$B6="",$F6="",$G6="",$H6=""),"",ROUND($F6*$G6*$H6,2)) | K6: 50 | L6: =IF(OR($A6="",$B6="",$G6="",AND($E6="",$F6="",$K6="")),"",ROUND(IF($I6="",0,$I6)+IF($J6="",0,$J6)+IF($K6="",0,$K6),2)) | M6: 0 | N6: 15 | O6: =IF($L6="","",ROUND($L6+IF($M6="",0,$M6)-IF($N6="",0,$N6),2)) | P6: Approved | Q6: =IF(AND($A6="",$B6="",$D6="",$E6="",$F6="",$K6="",$M6="",$N6="",$P6="",$R6=""),"",IF($A6="","Check pay period",IF($B6="","Check employee ID",IF($C6="","Check employee ID",IF(IFERROR(VLOOKUP($B6,Employees!$A$5:$F$104,6,FALSE),"")<>"Active","Check employee status",IF($D6="","Check crew",IF($G6="","Check employee rate",IF($H6="","Check OT multiplier",IF(AND($E6="",$F6="",$K6=""),"Check pay inputs",IF(IFERROR($E6+$F6,0)>$W$2,"Check hours",IF($P6="","Check approval status",IF(AND($P6="Approved",$O6<0),"Check negative amount","")))))))))))) | R6: Fictional sample entry. | S6: =IF(Assumptions!$B$6="","",Assumptions!$B$6) | T6: =IF(Assumptions!$C$6="","",Assumptions!$C$6) | U6: =IF(Employees!$A$6="","",Employees!$A$6)
A7: 46269 | B7: DEMO-003 | C7: =IF($B7="","",IFERROR(VLOOKUP($B7,Employees!$A$5:$F$104,2,FALSE),"")) | D7: Gold Team | E7: 36.5 | F7: 2 | G7: =IF($B7="","",IFERROR(VLOOKUP($B7,Employees!$A$5:$F$104,4,FALSE),"")) | H7: =IF($B7="","",IFERROR(VLOOKUP($B7,Employees!$A$5:$F$104,5,FALSE),"")) | I7: =IF(OR($A7="",$B7="",$E7="",$G7=""),"",ROUND($E7*$G7,2)) | J7: =IF(OR($A7="",$B7="",$F7="",$G7="",$H7=""),"",ROUND($F7*$G7*$H7,2)) | K7: 0 | L7: =IF(OR($A7="",$B7="",$G7="",AND($E7="",$F7="",$K7="")),"",ROUND(IF($I7="",0,$I7)+IF($J7="",0,$J7)+IF($K7="",0,$K7),2)) | M7: 18.75 | N7: 0 | O7: =IF($L7="","",ROUND($L7+IF($M7="",0,$M7)-IF($N7="",0,$N7),2)) | P7: Approved | Q7: =IF(AND($A7="",$B7="",$D7="",$E7="",$F7="",$K7="",$M7="",$N7="",$P7="",$R7=""),"",IF($A7="","Check pay period",IF($B7="","Check employee ID",IF($C7="","Check employee ID",IF(IFERROR(VLOOKUP($B7,Employees!$A$5:$F$104,6,FALSE),"")<>"Active","Check employee status",IF($D7="","Check crew",IF($G7="","Check employee rate",IF($H7="","Check OT multiplier",IF(AND($E7="",$F7="",$K7=""),"Check pay inputs",IF(IFERROR($E7+$F7,0)>$W$2,"Check hours",IF($P7="","Check approval status",IF(AND($P7="Approved",$O7<0),"Check negative amount","")))))))))))) | R7: Fictional sample entry. | S7: =IF(Assumptions!$B$7="","",Assumptions!$B$7) | T7: =IF(Assumptions!$C$7="","",Assumptions!$C$7) | U7: =IF(Employees!$A$7="","",Employees!$A$7)
A8: 46269 | B8: DEMO-004 | C8: =IF($B8="","",IFERROR(VLOOKUP($B8,Employees!$A$5:$F$104,2,FALSE),"")) | D8: Gold Team | E8: 40 | F8: 5 | G8: =IF($B8="","",IFERROR(VLOOKUP($B8,Employees!$A$5:$F$104,4,FALSE),"")) | H8: =IF($B8="","",IFERROR(VLOOKUP($B8,Employees!$A$5:$F$104,5,FALSE),"")) | I8: =IF(OR($A8="",$B8="",$E8="",$G8=""),"",ROUND($E8*$G8,2)) | J8: =IF(OR($A8="",$B8="",$F8="",$G8="",$H8=""),"",ROUND($F8*$G8*$H8,2)) | K8: 100 | L8: =IF(OR($A8="",$B8="",$G8="",AND($E8="",$F8="",$K8="")),"",ROUND(IF($I8="",0,$I8)+IF($J8="",0,$J8)+IF($K8="",0,$K8),2)) | M8: 0 | N8: 25 | O8: =IF($L8="","",ROUND($L8+IF($M8="",0,$M8)-IF($N8="",0,$N8),2)) | P8: Approved | Q8: =IF(AND($A8="",$B8="",$D8="",$E8="",$F8="",$K8="",$M8="",$N8="",$P8="",$R8=""),"",IF($A8="","Check pay period",IF($B8="","Check employee ID",IF($C8="","Check employee ID",IF(IFERROR(VLOOKUP($B8,Employees!$A$5:$F$104,6,FALSE),"")<>"Active","Check employee status",IF($D8="","Check crew",IF($G8="","Check employee rate",IF($H8="","Check OT multiplier",IF(AND($E8="",$F8="",$K8=""),"Check pay inputs",IF(IFERROR($E8+$F8,0)>$W$2,"Check hours",IF($P8="","Check approval status",IF(AND($P8="Approved",$O8<0),"Check negative amount","")))))))))))) | R8: Fictional sample entry. | S8: =IF(Assumptions!$B$8="","",Assumptions!$B$8) | T8: =IF(Assumptions!$C$8="","",Assumptions!$C$8) | U8: =IF(Employees!$A$8="","",Employees!$A$8)
A9: 46269 | B9: DEMO-005 | C9: =IF($B9="","",IFERROR(VLOOKUP($B9,Employees!$A$5:$F$104,2,FALSE),"")) | D9: Field Support | E9: 32 | F9: 0 | G9: =IF($B9="","",IFERROR(VLOOKUP($B9,Employees!$A$5:$F$104,4,FALSE),"")) | H9: =IF($B9="","",IFERROR(VLOOKUP($B9,Employees!$A$5:$F$104,5,FALSE),"")) | I9: =IF(OR($A9="",$B9="",$E9="",$G9=""),"",ROUND($E9*$G9,2)) | J9: =IF(OR($A9="",$B9="",$F9="",$G9="",$H9=""),"",ROUND($F9*$G9*$H9,2)) | K9: 0 | L9: =IF(OR($A9="",$B9="",$G9="",AND($E9="",$F9="",$K9="")),"",ROUND(IF($I9="",0,$I9)+IF($J9="",0,$J9)+IF($K9="",0,$K9),2)) | M9: 42.5 | N9: 0 | O9: =IF($L9="","",ROUND($L9+IF($M9="",0,$M9)-IF($N9="",0,$N9),2)) | P9: Draft | Q9: =IF(AND($A9="",$B9="",$D9="",$E9="",$F9="",$K9="",$M9="",$N9="",$P9="",$R9=""),"",IF($A9="","Check pay period",IF($B9="","Check employee ID",IF($C9="","Check employee ID",IF(IFERROR(VLOOKUP($B9,Employees!$A$5:$F$104,6,FALSE),"")<>"Active","Check employee status",IF($D9="","Check crew",IF($G9="","Check employee rate",IF($H9="","Check OT multiplier",IF(AND($E9="",$F9="",$K9=""),"Check pay inputs",IF(IFERROR($E9+$F9,0)>$W$2,"Check hours",IF($P9="","Check approval status",IF(AND($P9="Approved",$O9<0),"Check negative amount","")))))))))))) | R9: Fictional sample entry. | S9: =IF(Assumptions!$B$9="","",Assumptions!$B$9) | T9: =IF(Assumptions!$C$9="","",Assumptions!$C$9) | U9: =IF(Employees!$A$9="","",Employees!$A$9)
A10: 46269 | B10: DEMO-006 | C10: =IF($B10="","",IFERROR(VLOOKUP($B10,Employees!$A$5:$F$104,2,FALSE),"")) | D10: Shop | E10: 40 | F10: 1.5 | G10: =IF($B10="","",IFERROR(VLOOKUP($B10,Employees!$A$5:$F$104,4,FALSE),"")) | H10: =IF($B10="","",IFERROR(VLOOKUP($B10,Employees!$A$5:$F$104,5,FALSE),"")) | I10: =IF(OR($A10="",$B10="",$E10="",$G10=""),"",ROUND($E10*$G10,2)) | J10: =IF(OR($A10="",$B10="",$F10="",$G10="",$H10=""),"",ROUND($F10*$G10*$H10,2)) | K10: 0 | L10: =IF(OR($A10="",$B10="",$G10="",AND($E10="",$F10="",$K10="")),"",ROUND(IF($I10="",0,$I10)+IF($J10="",0,$J10)+IF($K10="",0,$K10),2)) | M10: 0 | N10: 20 | O10: =IF($L10="","",ROUND($L10+IF($M10="",0,$M10)-IF($N10="",0,$N10),2)) | P10: Approved | Q10: =IF(AND($A10="",$B10="",$D10="",$E10="",$F10="",$K10="",$M10="",$N10="",$P10="",$R10=""),"",IF($A10="","Check pay period",IF($B10="","Check employee ID",IF($C10="","Check employee ID",IF(IFERROR(VLOOKUP($B10,Employees!$A$5:$F$104,6,FALSE),"")<>"Active","Check employee status",IF($D10="","Check crew",IF($G10="","Check employee rate",IF($H10="","Check OT multiplier",IF(AND($E10="",$F10="",$K10=""),"Check pay inputs",IF(IFERROR($E10+$F10,0)>$W$2,"Check hours",IF($P10="","Check approval status",IF(AND($P10="Approved",$O10<0),"Check negative amount","")))))))))))) | R10: Fictional sample entry. | S10: =IF(Assumptions!$B$10="","",Assumptions!$B$10) | T10: =IF(Assumptions!$C$10="","",Assumptions!$C$10) | U10: =IF(Employees!$A$10="","",Employees!$A$10)
A11: 46269 | B11: DEMO-007 | C11: =IF($B11="","",IFERROR(VLOOKUP($B11,Employees!$A$5:$F$104,2,FALSE),"")) | D11: Green Team | E11: 24 | F11: 0 | G11: =IF($B11="","",IFERROR(VLOOKUP($B11,Employees!$A$5:$F$104,4,FALSE),"")) | H11: =IF($B11="","",IFERROR(VLOOKUP($B11,Employees!$A$5:$F$104,5,FALSE),"")) | I11: =IF(OR($A11="",$B11="",$E11="",$G11=""),"",ROUND($E11*$G11,2)) | J11: =IF(OR($A11="",$B11="",$F11="",$G11="",$H11=""),"",ROUND($F11*$G11*$H11,2)) | K11: 0 | L11: =IF(OR($A11="",$B11="",$G11="",AND($E11="",$F11="",$K11="")),"",ROUND(IF($I11="",0,$I11)+IF($J11="",0,$J11)+IF($K11="",0,$K11),2)) | M11: 0 | N11: 0 | O11: =IF($L11="","",ROUND($L11+IF($M11="",0,$M11)-IF($N11="",0,$N11),2)) | P11: Approved | Q11: =IF(AND($A11="",$B11="",$D11="",$E11="",$F11="",$K11="",$M11="",$N11="",$P11="",$R11=""),"",IF($A11="","Check pay period",IF($B11="","Check employee ID",IF($C11="","Check employee ID",IF(IFERROR(VLOOKUP($B11,Employees!$A$5:$F$104,6,FALSE),"")<>"Active","Check employee status",IF($D11="","Check crew",IF($G11="","Check employee rate",IF($H11="","Check OT multiplier",IF(AND($E11="",$F11="",$K11=""),"Check pay inputs",IF(IFERROR($E11+$F11,0)>$W$2,"Check hours",IF($P11="","Check approval status",IF(AND($P11="Approved",$O11<0),"Check negative amount","")))))))))))) | R11: Fictional sample entry. | S11: =IF(Assumptions!$B$11="","",Assumptions!$B$11) | T11: =IF(Assumptions!$C$11="","",Assumptions!$C$11) | U11: =IF(Employees!$A$11="","",Employees!$A$11)
A12: 46269 | B12: DEMO-008 | C12: =IF($B12="","",IFERROR(VLOOKUP($B12,Employees!$A$5:$F$104,2,FALSE),"")) | D12: Gold Team | E12: 40 | F12: 6 | G12: =IF($B12="","",IFERROR(VLOOKUP($B12,Employees!$A$5:$F$104,4,FALSE),"")) | H12: =IF($B12="","",IFERROR(VLOOKUP($B12,Employees!$A$5:$F$104,5,FALSE),"")) | I12: =IF(OR($A12="",$B12="",$E12="",$G12=""),"",ROUND($E12*$G12,2)) | J12: =IF(OR($A12="",$B12="",$F12="",$G12="",$H12=""),"",ROUND($F12*$G12*$H12,2)) | K12: 75 | L12: =IF(OR($A12="",$B12="",$G12="",AND($E12="",$F12="",$K12="")),"",ROUND(IF($I12="",0,$I12)+IF($J12="",0,$J12)+IF($K12="",0,$K12),2)) | M12: 30 | N12: 0 | O12: =IF($L12="","",ROUND($L12+IF($M12="",0,$M12)-IF($N12="",0,$N12),2)) | P12: Approved | Q12: =IF(AND($A12="",$B12="",$D12="",$E12="",$F12="",$K12="",$M12="",$N12="",$P12="",$R12=""),"",IF($A12="","Check pay period",IF($B12="","Check employee ID",IF($C12="","Check employee ID",IF(IFERROR(VLOOKUP($B12,Employees!$A$5:$F$104,6,FALSE),"")<>"Active","Check employee status",IF($D12="","Check crew",IF($G12="","Check employee rate",IF($H12="","Check OT multiplier",IF(AND($E12="",$F12="",$K12=""),"Check pay inputs",IF(IFERROR($E12+$F12,0)>$W$2,"Check hours",IF($P12="","Check approval status",IF(AND($P12="Approved",$O12<0),"Check negative amount","")))))))))))) | R12: Fictional sample entry. | S12: =IF(Assumptions!$B$12="","",Assumptions!$B$12) | T12: =IF(Assumptions!$C$12="","",Assumptions!$C$12) | U12: =IF(Employees!$A$12="","",Employees!$A$12)
A13: 46269 | B13: DEMO-009 | C13: =IF($B13="","",IFERROR(VLOOKUP($B13,Employees!$A$5:$F$104,2,FALSE),"")) | D13: Field Support | E13: 38 | F13: 0 | G13: =IF($B13="","",IFERROR(VLOOKUP($B13,Employees!$A$5:$F$104,4,FALSE),"")) | H13: =IF($B13="","",IFERROR(VLOOKUP($B13,Employees!$A$5:$F$104,5,FALSE),"")) | I13: =IF(OR($A13="",$B13="",$E13="",$G13=""),"",ROUND($E13*$G13,2)) | J13: =IF(OR($A13="",$B13="",$F13="",$G13="",$H13=""),"",ROUND($F13*$G13*$H13,2)) | K13: 0 | L13: =IF(OR($A13="",$B13="",$G13="",AND($E13="",$F13="",$K13="")),"",ROUND(IF($I13="",0,$I13)+IF($J13="",0,$J13)+IF($K13="",0,$K13),2)) | M13: 0 | N13: 10 | O13: =IF($L13="","",ROUND($L13+IF($M13="",0,$M13)-IF($N13="",0,$N13),2)) | P13: Hold | Q13: =IF(AND($A13="",$B13="",$D13="",$E13="",$F13="",$K13="",$M13="",$N13="",$P13="",$R13=""),"",IF($A13="","Check pay period",IF($B13="","Check employee ID",IF($C13="","Check employee ID",IF(IFERROR(VLOOKUP($B13,Employees!$A$5:$F$104,6,FALSE),"")<>"Active","Check employee status",IF($D13="","Check crew",IF($G13="","Check employee rate",IF($H13="","Check OT multiplier",IF(AND($E13="",$F13="",$K13=""),"Check pay inputs",IF(IFERROR($E13+$F13,0)>$W$2,"Check hours",IF($P13="","Check approval status",IF(AND($P13="Approved",$O13<0),"Check negative amount","")))))))))))) | R13: Fictional sample entry. | S13: =IF(Assumptions!$B$13="","",Assumptions!$B$13) | T13: =IF(Assumptions!$C$13="","",Assumptions!$C$13) | U13: =IF(Employees!$A$13="","",Employees!$A$13)
A14: 46269 | B14: DEMO-010 | C14: =IF($B14="","",IFERROR(VLOOKUP($B14,Employees!$A$5:$F$104,2,FALSE),"")) | D14: Shop | E14: 8 | F14: 0 | G14: =IF($B14="","",IFERROR(VLOOKUP($B14,Employees!$A$5:$F$104,4,FALSE),"")) | H14: =IF($B14="","",IFERROR(VLOOKUP($B14,Employees!$A$5:$F$104,5,FALSE),"")) | I14: =IF(OR($A14="",$B14="",$E14="",$G14=""),"",ROUND($E14*$G14,2)) | J14: =IF(OR($A14="",$B14="",$F14="",$G14="",$H14=""),"",ROUND($F14*$G14*$H14,2)) | K14: 0 | L14: =IF(OR($A14="",$B14="",$G14="",AND($E14="",$F14="",$K14="")),"",ROUND(IF($I14="",0,$I14)+IF($J14="",0,$J14)+IF($K14="",0,$K14),2)) | M14: 0 | N14: 0 | O14: =IF($L14="","",ROUND($L14+IF($M14="",0,$M14)-IF($N14="",0,$N14),2)) | P14: Hold | Q14: =IF(AND($A14="",$B14="",$D14="",$E14="",$F14="",$K14="",$M14="",$N14="",$P14="",$R14=""),"",IF($A14="","Check pay period",IF($B14="","Check employee ID",IF($C14="","Check employee ID",IF(IFERROR(VLOOKUP($B14,Employees!$A$5:$F$104,6,FALSE),"")<>"Active","Check employee status",IF($D14="","Check crew",IF($G14="","Check employee rate",IF($H14="","Check OT multiplier",IF(AND($E14="",$F14="",$K14=""),"Check pay inputs",IF(IFERROR($E14+$F14,0)>$W$2,"Check hours",IF($P14="","Check approval status",IF(AND($P14="Approved",$O14<0),"Check negative amount","")))))))))))) | R14: Fictional sample entry. | S14: =IF(Assumptions!$B$14="","",Assumptions!$B$14) | T14: =IF(Assumptions!$C$14="","",Assumptions!$C$14) | U14: =IF(Employees!$A$14="","",Employees!$A$14)
C15: =IF($B15="","",IFERROR(VLOOKUP($B15,Employees!$A$5:$F$104,2,FALSE),"")) | G15: =IF($B15="","",IFERROR(VLOOKUP($B15,Employees!$A$5:$F$104,4,FALSE),"")) | H15: =IF($B15="","",IFERROR(VLOOKUP($B15,Employees!$A$5:$F$104,5,FALSE),"")) | I15: =IF(OR($A15="",$B15="",$E15="",$G15=""),"",ROUND($E15*$G15,2)) | J15: =IF(OR($A15="",$B15="",$F15="",$G15="",$H15=""),"",ROUND($F15*$G15*$H15,2)) | L15: =IF(OR($A15="",$B15="",$G15="",AND($E15="",$F15="",$K15="")),"",ROUND(IF($I15="",0,$I15)+IF($J15="",0,$J15)+IF($K15="",0,$K15),2)) | O15: =IF($L15="","",ROUND($L15+IF($M15="",0,$M15)-IF($N15="",0,$N15),2)) | Q15: =IF(AND($A15="",$B15="",$D15="",$E15="",$F15="",$K15="",$M15="",$N15="",$P15="",$R15=""),"",IF($A15="","Check pay period",IF($B15="","Check employee ID",IF($C15="","Check employee ID",IF(IFERROR(VLOOKUP($B15,Employees!$A$5:$F$104,6,FALSE),"")<>"Active","Check employee status",IF($D15="","Check crew",IF($G15="","Check employee rate",IF($H15="","Check OT multiplier",IF(AND($E15="",$F15="",$K15=""),"Check pay inputs",IF(IFERROR($E15+$F15,0)>$W$2,"Check hours",IF($P15="","Check approval status",IF(AND($P15="Approved",$O15<0),"Check negative amount","")))))))))))) | S15: =IF(Assumptions!$B$15="","",Assumptions!$B$15) | T15: =IF(Assumptions!$C$15="","",Assumptions!$C$15) | U15: =IF(Employees!$A$15="","",Employees!$A$15)
C16: =IF($B16="","",IFERROR(VLOOKUP($B16,Employees!$A$5:$F$104,2,FALSE),"")) | G16: =IF($B16="","",IFERROR(VLOOKUP($B16,Employees!$A$5:$F$104,4,FALSE),"")) | H16: =IF($B16="","",IFERROR(VLOOKUP($B16,Employees!$A$5:$F$104,5,FALSE),"")) | I16: =IF(OR($A16="",$B16="",$E16="",$G16=""),"",ROUND($E16*$G16,2)) | J16: =IF(OR($A16="",$B16="",$F16="",$G16="",$H16=""),"",ROUND($F16*$G16*$H16,2)) | L16: =IF(OR($A16="",$B16="",$G16="",AND($E16="",$F16="",$K16="")),"",ROUND(IF($I16="",0,$I16)+IF($J16="",0,$J16)+IF($K16="",0,$K16),2)) | O16: =IF($L16="","",ROUND($L16+IF($M16="",0,$M16)-IF($N16="",0,$N16),2)) | Q16: =IF(AND($A16="",$B16="",$D16="",$E16="",$F16="",$K16="",$M16="",$N16="",$P16="",$R16=""),"",IF($A16="","Check pay period",IF($B16="","Check employee ID",IF($C16="","Check employee ID",IF(IFERROR(VLOOKUP($B16,Employees!$A$5:$F$104,6,FALSE),"")<>"Active","Check employee status",IF($D16="","Check crew",IF($G16="","Check employee rate",IF($H16="","Check OT multiplier",IF(AND($E16="",$F16="",$K16=""),"Check pay inputs",IF(IFERROR($E16+$F16,0)>$W$2,"Check hours",IF($P16="","Check approval status",IF(AND($P16="Approved",$O16<0),"Check negative amount","")))))))))))) | S16: =IF(Assumptions!$B$16="","",Assumptions!$B$16) | T16: =IF(Assumptions!$C$16="","",Assumptions!$C$16) | U16: =IF(Employees!$A$16="","",Employees!$A$16)
C17: =IF($B17="","",IFERROR(VLOOKUP($B17,Employees!$A$5:$F$104,2,FALSE),"")) | G17: =IF($B17="","",IFERROR(VLOOKUP($B17,Employees!$A$5:$F$104,4,FALSE),"")) | H17: =IF($B17="","",IFERROR(VLOOKUP($B17,Employees!$A$5:$F$104,5,FALSE),"")) | I17: =IF(OR($A17="",$B17="",$E17="",$G17=""),"",ROUND($E17*$G17,2)) | J17: =IF(OR($A17="",$B17="",$F17="",$G17="",$H17=""),"",ROUND($F17*$G17*$H17,2)) | L17: =IF(OR($A17="",$B17="",$G17="",AND($E17="",$F17="",$K17="")),"",ROUND(IF($I17="",0,$I17)+IF($J17="",0,$J17)+IF($K17="",0,$K17),2)) | O17: =IF($L17="","",ROUND($L17+IF($M17="",0,$M17)-IF($N17="",0,$N17),2)) | Q17: =IF(AND($A17="",$B17="",$D17="",$E17="",$F17="",$K17="",$M17="",$N17="",$P17="",$R17=""),"",IF($A17="","Check pay period",IF($B17="","Check employee ID",IF($C17="","Check employee ID",IF(IFERROR(VLOOKUP($B17,Employees!$A$5:$F$104,6,FALSE),"")<>"Active","Check employee status",IF($D17="","Check crew",IF($G17="","Check employee rate",IF($H17="","Check OT multiplier",IF(AND($E17="",$F17="",$K17=""),"Check pay inputs",IF(IFERROR($E17+$F17,0)>$W$2,"Check hours",IF($P17="","Check approval status",IF(AND($P17="Approved",$O17<0),"Check negative amount","")))))))))))) | S17: =IF(Assumptions!$B$17="","",Assumptions!$B$17) | T17: =IF(Assumptions!$C$17="","",Assumptions!$C$17) | U17: =IF(Employees!$A$17="","",Employees!$A$17)
C18: =IF($B18="","",IFERROR(VLOOKUP($B18,Employees!$A$5:$F$104,2,FALSE),"")) | G18: =IF($B18="","",IFERROR(VLOOKUP($B18,Employees!$A$5:$F$104,4,FALSE),"")) | H18: =IF($B18="","",IFERROR(VLOOKUP($B18,Employees!$A$5:$F$104,5,FALSE),"")) | I18: =IF(OR($A18="",$B18="",$E18="",$G18=""),"",ROUND($E18*$G18,2)) | J18: =IF(OR($A18="",$B18="",$F18="",$G18="",$H18=""),"",ROUND($F18*$G18*$H18,2)) | L18: =IF(OR($A18="",$B18="",$G18="",AND($E18="",$F18="",$K18="")),"",ROUND(IF($I18="",0,$I18)+IF($J18="",0,$J18)+IF($K18="",0,$K18),2)) | O18: =IF($L18="","",ROUND($L18+IF($M18="",0,$M18)-IF($N18="",0,$N18),2)) | Q18: =IF(AND($A18="",$B18="",$D18="",$E18="",$F18="",$K18="",$M18="",$N18="",$P18="",$R18=""),"",IF($A18="","Check pay period",IF($B18="","Check employee ID",IF($C18="","Check employee ID",IF(IFERROR(VLOOKUP($B18,Employees!$A$5:$F$104,6,FALSE),"")<>"Active","Check employee status",IF($D18="","Check crew",IF($G18="","Check employee rate",IF($H18="","Check OT multiplier",IF(AND($E18="",$F18="",$K18=""),"Check pay inputs",IF(IFERROR($E18+$F18,0)>$W$2,"Check hours",IF($P18="","Check approval status",IF(AND($P18="Approved",$O18<0),"Check negative amount","")))))))))))) | S18: =IF(Assumptions!$B$18="","",Assumptions!$B$18) | T18: =IF(Assumptions!$C$18="","",Assumptions!$C$18) | U18: =IF(Employees!$A$18="","",Employees!$A$18)
C19: =IF($B19="","",IFERROR(VLOOKUP($B19,Employees!$A$5:$F$104,2,FALSE),"")) | G19: =IF($B19="","",IFERROR(VLOOKUP($B19,Employees!$A$5:$F$104,4,FALSE),"")) | H19: =IF($B19="","",IFERROR(VLOOKUP($B19,Employees!$A$5:$F$104,5,FALSE),"")) | I19: =IF(OR($A19="",$B19="",$E19="",$G19=""),"",ROUND($E19*$G19,2)) | J19: =IF(OR($A19="",$B19="",$F19="",$G19="",$H19=""),"",ROUND($F19*$G19*$H19,2)) | L19: =IF(OR($A19="",$B19="",$G19="",AND($E19="",$F19="",$K19="")),"",ROUND(IF($I19="",0,$I19)+IF($J19="",0,$J19)+IF($K19="",0,$K19),2)) | O19: =IF($L19="","",ROUND($L19+IF($M19="",0,$M19)-IF($N19="",0,$N19),2)) | Q19: =IF(AND($A19="",$B19="",$D19="",$E19="",$F19="",$K19="",$M19="",$N19="",$P19="",$R19=""),"",IF($A19="","Check pay period",IF($B19="","Check employee ID",IF($C19="","Check employee ID",IF(IFERROR(VLOOKUP($B19,Employees!$A$5:$F$104,6,FALSE),"")<>"Active","Check employee status",IF($D19="","Check crew",IF($G19="","Check employee rate",IF($H19="","Check OT multiplier",IF(AND($E19="",$F19="",$K19=""),"Check pay inputs",IF(IFERROR($E19+$F19,0)>$W$2,"Check hours",IF($P19="","Check approval status",IF(AND($P19="Approved",$O19<0),"Check negative amount","")))))))))))) | S19: =IF(Assumptions!$B$19="","",Assumptions!$B$19) | T19: =IF(Assumptions!$C$19="","",Assumptions!$C$19) | U19: =IF(Employees!$A$19="","",Employees!$A$19)
C20: =IF($B20="","",IFERROR(VLOOKUP($B20,Employees!$A$5:$F$104,2,FALSE),"")) | G20: =IF($B20="","",IFERROR(VLOOKUP($B20,Employees!$A$5:$F$104,4,FALSE),"")) | H20: =IF($B20="","",IFERROR(VLOOKUP($B20,Employees!$A$5:$F$104,5,FALSE),"")) | I20: =IF(OR($A20="",$B20="",$E20="",$G20=""),"",ROUND($E20*$G20,2)) | J20: =IF(OR($A20="",$B20="",$F20="",$G20="",$H20=""),"",ROUND($F20*$G20*$H20,2)) | L20: =IF(OR($A20="",$B20="",$G20="",AND($E20="",$F20="",$K20="")),"",ROUND(IF($I20="",0,$I20)+IF($J20="",0,$J20)+IF($K20="",0,$K20),2)) | O20: =IF($L20="","",ROUND($L20+IF($M20="",0,$M20)-IF($N20="",0,$N20),2)) | Q20: =IF(AND($A20="",$B20="",$D20="",$E20="",$F20="",$K20="",$M20="",$N20="",$P20="",$R20=""),"",IF($A20="","Check pay period",IF($B20="","Check employee ID",IF($C20="","Check employee ID",IF(IFERROR(VLOOKUP($B20,Employees!$A$5:$F$104,6,FALSE),"")<>"Active","Check employee status",IF($D20="","Check crew",IF($G20="","Check employee rate",IF($H20="","Check OT multiplier",IF(AND($E20="",$F20="",$K20=""),"Check pay inputs",IF(IFERROR($E20+$F20,0)>$W$2,"Check hours",IF($P20="","Check approval status",IF(AND($P20="Approved",$O20<0),"Check negative amount","")))))))))))) | S20: =IF(Assumptions!$B$20="","",Assumptions!$B$20) | T20: =IF(Assumptions!$C$20="","",Assumptions!$C$20) | U20: =IF(Employees!$A$20="","",Employees!$A$20)
C21: =IF($B21="","",IFERROR(VLOOKUP($B21,Employees!$A$5:$F$104,2,FALSE),"")) | G21: =IF($B21="","",IFERROR(VLOOKUP($B21,Employees!$A$5:$F$104,4,FALSE),"")) | H21: =IF($B21="","",IFERROR(VLOOKUP($B21,Employees!$A$5:$F$104,5,FALSE),"")) | I21: =IF(OR($A21="",$B21="",$E21="",$G21=""),"",ROUND($E21*$G21,2)) | J21: =IF(OR($A21="",$B21="",$F21="",$G21="",$H21=""),"",ROUND($F21*$G21*$H21,2)) | L21: =IF(OR($A21="",$B21="",$G21="",AND($E21="",$F21="",$K21="")),"",ROUND(IF($I21="",0,$I21)+IF($J21="",0,$J21)+IF($K21="",0,$K21),2)) | O21: =IF($L21="","",ROUND($L21+IF($M21="",0,$M21)-IF($N21="",0,$N21),2)) | Q21: =IF(AND($A21="",$B21="",$D21="",$E21="",$F21="",$K21="",$M21="",$N21="",$P21="",$R21=""),"",IF($A21="","Check pay period",IF($B21="","Check employee ID",IF($C21="","Check employee ID",IF(IFERROR(VLOOKUP($B21,Employees!$A$5:$F$104,6,FALSE),"")<>"Active","Check employee status",IF($D21="","Check crew",IF($G21="","Check employee rate",IF($H21="","Check OT multiplier",IF(AND($E21="",$F21="",$K21=""),"Check pay inputs",IF(IFERROR($E21+$F21,0)>$W$2,"Check hours",IF($P21="","Check approval status",IF(AND($P21="Approved",$O21<0),"Check negative amount","")))))))))))) | S21: =IF(Assumptions!$B$21="","",Assumptions!$B$21) | T21: =IF(Assumptions!$C$21="","",Assumptions!$C$21) | U21: =IF(Employees!$A$21="","",Employees!$A$21)
C22: =IF($B22="","",IFERROR(VLOOKUP($B22,Employees!$A$5:$F$104,2,FALSE),"")) | G22: =IF($B22="","",IFERROR(VLOOKUP($B22,Employees!$A$5:$F$104,4,FALSE),"")) | H22: =IF($B22="","",IFERROR(VLOOKUP($B22,Employees!$A$5:$F$104,5,FALSE),"")) | I22: =IF(OR($A22="",$B22="",$E22="",$G22=""),"",ROUND($E22*$G22,2)) | J22: =IF(OR($A22="",$B22="",$F22="",$G22="",$H22=""),"",ROUND($F22*$G22*$H22,2)) | L22: =IF(OR($A22="",$B22="",$G22="",AND($E22="",$F22="",$K22="")),"",ROUND(IF($I22="",0,$I22)+IF($J22="",0,$J22)+IF($K22="",0,$K22),2)) | O22: =IF($L22="","",ROUND($L22+IF($M22="",0,$M22)-IF($N22="",0,$N22),2)) | Q22: =IF(AND($A22="",$B22="",$D22="",$E22="",$F22="",$K22="",$M22="",$N22="",$P22="",$R22=""),"",IF($A22="","Check pay period",IF($B22="","Check employee ID",IF($C22="","Check employee ID",IF(IFERROR(VLOOKUP($B22,Employees!$A$5:$F$104,6,FALSE),"")<>"Active","Check employee status",IF($D22="","Check crew",IF($G22="","Check employee rate",IF($H22="","Check OT multiplier",IF(AND($E22="",$F22="",$K22=""),"Check pay inputs",IF(IFERROR($E22+$F22,0)>$W$2,"Check hours",IF($P22="","Check approval status",IF(AND($P22="Approved",$O22<0),"Check negative amount","")))))))))))) | S22: =IF(Assumptions!$B$22="","",Assumptions!$B$22) | T22: =IF(Assumptions!$C$22="","",Assumptions!$C$22) | U22: =IF(Employees!$A$22="","",Employees!$A$22)
C23: =IF($B23="","",IFERROR(VLOOKUP($B23,Employees!$A$5:$F$104,2,FALSE),"")) | G23: =IF($B23="","",IFERROR(VLOOKUP($B23,Employees!$A$5:$F$104,4,FALSE),"")) | H23: =IF($B23="","",IFERROR(VLOOKUP($B23,Employees!$A$5:$F$104,5,FALSE),"")) | I23: =IF(OR($A23="",$B23="",$E23="",$G23=""),"",ROUND($E23*$G23,2)) | J23: =IF(OR($A23="",$B23="",$F23="",$G23="",$H23=""),"",ROUND($F23*$G23*$H23,2)) | L23: =IF(OR($A23="",$B23="",$G23="",AND($E23="",$F23="",$K23="")),"",ROUND(IF($I23="",0,$I23)+IF($J23="",0,$J23)+IF($K23="",0,$K23),2)) | O23: =IF($L23="","",ROUND($L23+IF($M23="",0,$M23)-IF($N23="",0,$N23),2)) | Q23: =IF(AND($A23="",$B23="",$D23="",$E23="",$F23="",$K23="",$M23="",$N23="",$P23="",$R23=""),"",IF($A23="","Check pay period",IF($B23="","Check employee ID",IF($C23="","Check employee ID",IF(IFERROR(VLOOKUP($B23,Employees!$A$5:$F$104,6,FALSE),"")<>"Active","Check employee status",IF($D23="","Check crew",IF($G23="","Check employee rate",IF($H23="","Check OT multiplier",IF(AND($E23="",$F23="",$K23=""),"Check pay inputs",IF(IFERROR($E23+$F23,0)>$W$2,"Check hours",IF($P23="","Check approval status",IF(AND($P23="Approved",$O23<0),"Check negative amount","")))))))))))) | S23: =IF(Assumptions!$B$23="","",Assumptions!$B$23) | T23: =IF(Assumptions!$C$23="","",Assumptions!$C$23) | U23: =IF(Employees!$A$23="","",Employees!$A$23)
C24: =IF($B24="","",IFERROR(VLOOKUP($B24,Employees!$A$5:$F$104,2,FALSE),"")) | G24: =IF($B24="","",IFERROR(VLOOKUP($B24,Employees!$A$5:$F$104,4,FALSE),"")) | H24: =IF($B24="","",IFERROR(VLOOKUP($B24,Employees!$A$5:$F$104,5,FALSE),"")) | I24: =IF(OR($A24="",$B24="",$E24="",$G24=""),"",ROUND($E24*$G24,2)) | J24: =IF(OR($A24="",$B24="",$F24="",$G24="",$H24=""),"",ROUND($F24*$G24*$H24,2)) | L24: =IF(OR($A24="",$B24="",$G24="",AND($E24="",$F24="",$K24="")),"",ROUND(IF($I24="",0,$I24)+IF($J24="",0,$J24)+IF($K24="",0,$K24),2)) | O24: =IF($L24="","",ROUND($L24+IF($M24="",0,$M24)-IF($N24="",0,$N24),2)) | Q24: =IF(AND($A24="",$B24="",$D24="",$E24="",$F24="",$K24="",$M24="",$N24="",$P24="",$R24=""),"",IF($A24="","Check pay period",IF($B24="","Check employee ID",IF($C24="","Check employee ID",IF(IFERROR(VLOOKUP($B24,Employees!$A$5:$F$104,6,FALSE),"")<>"Active","Check employee status",IF($D24="","Check crew",IF($G24="","Check employee rate",IF($H24="","Check OT multiplier",IF(AND($E24="",$F24="",$K24=""),"Check pay inputs",IF(IFERROR($E24+$F24,0)>$W$2,"Check hours",IF($P24="","Check approval status",IF(AND($P24="Approved",$O24<0),"Check negative amount","")))))))))))) | S24: =IF(Assumptions!$B$24="","",Assumptions!$B$24) | T24: =IF(Assumptions!$C$24="","",Assumptions!$C$24) | U24: =IF(Employees!$A$24="","",Employees!$A$24)
C25: =IF($B25="","",IFERROR(VLOOKUP($B25,Employees!$A$5:$F$104,2,FALSE),"")) | G25: =IF($B25="","",IFERROR(VLOOKUP($B25,Employees!$A$5:$F$104,4,FALSE),"")) | H25: =IF($B25="","",IFERROR(VLOOKUP($B25,Employees!$A$5:$F$104,5,FALSE),"")) | I25: =IF(OR($A25="",$B25="",$E25="",$G25=""),"",ROUND($E25*$G25,2)) | J25: =IF(OR($A25="",$B25="",$F25="",$G25="",$H25=""),"",ROUND($F25*$G25*$H25,2)) | L25: =IF(OR($A25="",$B25="",$G25="",AND($E25="",$F25="",$K25="")),"",ROUND(IF($I25="",0,$I25)+IF($J25="",0,$J25)+IF($K25="",0,$K25),2)) | O25: =IF($L25="","",ROUND($L25+IF($M25="",0,$M25)-IF($N25="",0,$N25),2)) | Q25: =IF(AND($A25="",$B25="",$D25="",$E25="",$F25="",$K25="",$M25="",$N25="",$P25="",$R25=""),"",IF($A25="","Check pay period",IF($B25="","Check employee ID",IF($C25="","Check employee ID",IF(IFERROR(VLOOKUP($B25,Employees!$A$5:$F$104,6,FALSE),"")<>"Active","Check employee status",IF($D25="","Check crew",IF($G25="","Check employee rate",IF($H25="","Check OT multiplier",IF(AND($E25="",$F25="",$K25=""),"Check pay inputs",IF(IFERROR($E25+$F25,0)>$W$2,"Check hours",IF($P25="","Check approval status",IF(AND($P25="Approved",$O25<0),"Check negative amount","")))))))))))) | S25: =IF(Assumptions!$B$25="","",Assumptions!$B$25) | T25: =IF(Assumptions!$C$25="","",Assumptions!$C$25) | U25: =IF(Employees!$A$25="","",Employees!$A$25)
C26: =IF($B26="","",IFERROR(VLOOKUP($B26,Employees!$A$5:$F$104,2,FALSE),"")) | G26: =IF($B26="","",IFERROR(VLOOKUP($B26,Employees!$A$5:$F$104,4,FALSE),"")) | H26: =IF($B26="","",IFERROR(VLOOKUP($B26,Employees!$A$5:$F$104,5,FALSE),"")) | I26: =IF(OR($A26="",$B26="",$E26="",$G26=""),"",ROUND($E26*$G26,2)) | J26: =IF(OR($A26="",$B26="",$F26="",$G26="",$H26=""),"",ROUND($F26*$G26*$H26,2)) | L26: =IF(OR($A26="",$B26="",$G26="",AND($E26="",$F26="",$K26="")),"",ROUND(IF($I26="",0,$I26)+IF($J26="",0,$J26)+IF($K26="",0,$K26),2)) | O26: =IF($L26="","",ROUND($L26+IF($M26="",0,$M26)-IF($N26="",0,$N26),2)) | Q26: =IF(AND($A26="",$B26="",$D26="",$E26="",$F26="",$K26="",$M26="",$N26="",$P26="",$R26=""),"",IF($A26="","Check pay period",IF($B26="","Check employee ID",IF($C26="","Check employee ID",IF(IFERROR(VLOOKUP($B26,Employees!$A$5:$F$104,6,FALSE),"")<>"Active","Check employee status",IF($D26="","Check crew",IF($G26="","Check employee rate",IF($H26="","Check OT multiplier",IF(AND($E26="",$F26="",$K26=""),"Check pay inputs",IF(IFERROR($E26+$F26,0)>$W$2,"Check hours",IF($P26="","Check approval status",IF(AND($P26="Approved",$O26<0),"Check negative amount","")))))))))))) | S26: =IF(Assumptions!$B$26="","",Assumptions!$B$26) | T26: =IF(Assumptions!$C$26="","",Assumptions!$C$26) | U26: =IF(Employees!$A$26="","",Employees!$A$26)
C27: =IF($B27="","",IFERROR(VLOOKUP($B27,Employees!$A$5:$F$104,2,FALSE),"")) | G27: =IF($B27="","",IFERROR(VLOOKUP($B27,Employees!$A$5:$F$104,4,FALSE),"")) | H27: =IF($B27="","",IFERROR(VLOOKUP($B27,Employees!$A$5:$F$104,5,FALSE),"")) | I27: =IF(OR($A27="",$B27="",$E27="",$G27=""),"",ROUND($E27*$G27,2)) | J27: =IF(OR($A27="",$B27="",$F27="",$G27="",$H27=""),"",ROUND($F27*$G27*$H27,2)) | L27: =IF(OR($A27="",$B27="",$G27="",AND($E27="",$F27="",$K27="")),"",ROUND(IF($I27="",0,$I27)+IF($J27="",0,$J27)+IF($K27="",0,$K27),2)) | O27: =IF($L27="","",ROUND($L27+IF($M27="",0,$M27)-IF($N27="",0,$N27),2)) | Q27: =IF(AND($A27="",$B27="",$D27="",$E27="",$F27="",$K27="",$M27="",$N27="",$P27="",$R27=""),"",IF($A27="","Check pay period",IF($B27="","Check employee ID",IF($C27="","Check employee ID",IF(IFERROR(VLOOKUP($B27,Employees!$A$5:$F$104,6,FALSE),"")<>"Active","Check employee status",IF($D27="","Check crew",IF($G27="","Check employee rate",IF($H27="","Check OT multiplier",IF(AND($E27="",$F27="",$K27=""),"Check pay inputs",IF(IFERROR($E27+$F27,0)>$W$2,"Check hours",IF($P27="","Check approval status",IF(AND($P27="Approved",$O27<0),"Check negative amount","")))))))))))) | S27: =IF(Assumptions!$B$27="","",Assumptions!$B$27) | T27: =IF(Assumptions!$C$27="","",Assumptions!$C$27) | U27: =IF(Employees!$A$27="","",Employees!$A$27)
C28: =IF($B28="","",IFERROR(VLOOKUP($B28,Employees!$A$5:$F$104,2,FALSE),"")) | G28: =IF($B28="","",IFERROR(VLOOKUP($B28,Employees!$A$5:$F$104,4,FALSE),"")) | H28: =IF($B28="","",IFERROR(VLOOKUP($B28,Employees!$A$5:$F$104,5,FALSE),"")) | I28: =IF(OR($A28="",$B28="",$E28="",$G28=""),"",ROUND($E28*$G28,2)) | J28: =IF(OR($A28="",$B28="",$F28="",$G28="",$H28=""),"",ROUND($F28*$G28*$H28,2)) | L28: =IF(OR($A28="",$B28="",$G28="",AND($E28="",$F28="",$K28="")),"",ROUND(IF($I28="",0,$I28)+IF($J28="",0,$J28)+IF($K28="",0,$K28),2)) | O28: =IF($L28="","",ROUND($L28+IF($M28="",0,$M28)-IF($N28="",0,$N28),2)) | Q28: =IF(AND($A28="",$B28="",$D28="",$E28="",$F28="",$K28="",$M28="",$N28="",$P28="",$R28=""),"",IF($A28="","Check pay period",IF($B28="","Check employee ID",IF($C28="","Check employee ID",IF(IFERROR(VLOOKUP($B28,Employees!$A$5:$F$104,6,FALSE),"")<>"Active","Check employee status",IF($D28="","Check crew",IF($G28="","Check employee rate",IF($H28="","Check OT multiplier",IF(AND($E28="",$F28="",$K28=""),"Check pay inputs",IF(IFERROR($E28+$F28,0)>$W$2,"Check hours",IF($P28="","Check approval status",IF(AND($P28="Approved",$O28<0),"Check negative amount","")))))))))))) | S28: =IF(Assumptions!$B$28="","",Assumptions!$B$28) | T28: =IF(Assumptions!$C$28="","",Assumptions!$C$28) | U28: =IF(Employees!$A$28="","",Employees!$A$28)
C29: =IF($B29="","",IFERROR(VLOOKUP($B29,Employees!$A$5:$F$104,2,FALSE),"")) | G29: =IF($B29="","",IFERROR(VLOOKUP($B29,Employees!$A$5:$F$104,4,FALSE),"")) | H29: =IF($B29="","",IFERROR(VLOOKUP($B29,Employees!$A$5:$F$104,5,FALSE),"")) | I29: =IF(OR($A29="",$B29="",$E29="",$G29=""),"",ROUND($E29*$G29,2)) | J29: =IF(OR($A29="",$B29="",$F29="",$G29="",$H29=""),"",ROUND($F29*$G29*$H29,2)) | L29: =IF(OR($A29="",$B29="",$G29="",AND($E29="",$F29="",$K29="")),"",ROUND(IF($I29="",0,$I29)+IF($J29="",0,$J29)+IF($K29="",0,$K29),2)) | O29: =IF($L29="","",ROUND($L29+IF($M29="",0,$M29)-IF($N29="",0,$N29),2)) | Q29: =IF(AND($A29="",$B29="",$D29="",$E29="",$F29="",$K29="",$M29="",$N29="",$P29="",$R29=""),"",IF($A29="","Check pay period",IF($B29="","Check employee ID",IF($C29="","Check employee ID",IF(IFERROR(VLOOKUP($B29,Employees!$A$5:$F$104,6,FALSE),"")<>"Active","Check employee status",IF($D29="","Check crew",IF($G29="","Check employee rate",IF($H29="","Check OT multiplier",IF(AND($E29="",$F29="",$K29=""),"Check pay inputs",IF(IFERROR($E29+$F29,0)>$W$2,"Check hours",IF($P29="","Check approval status",IF(AND($P29="Approved",$O29<0),"Check negative amount","")))))))))))) | S29: =IF(Assumptions!$B$29="","",Assumptions!$B$29) | T29: =IF(Assumptions!$C$29="","",Assumptions!$C$29) | U29: =IF(Employees!$A$29="","",Employees!$A$29)
C30: =IF($B30="","",IFERROR(VLOOKUP($B30,Employees!$A$5:$F$104,2,FALSE),"")) | G30: =IF($B30="","",IFERROR(VLOOKUP($B30,Employees!$A$5:$F$104,4,FALSE),"")) | H30: =IF($B30="","",IFERROR(VLOOKUP($B30,Employees!$A$5:$F$104,5,FALSE),"")) | I30: =IF(OR($A30="",$B30="",$E30="",$G30=""),"",ROUND($E30*$G30,2)) | J30: =IF(OR($A30="",$B30="",$F30="",$G30="",$H30=""),"",ROUND($F30*$G30*$H30,2)) | L30: =IF(OR($A30="",$B30="",$G30="",AND($E30="",$F30="",$K30="")),"",ROUND(IF($I30="",0,$I30)+IF($J30="",0,$J30)+IF($K30="",0,$K30),2)) | O30: =IF($L30="","",ROUND($L30+IF($M30="",0,$M30)-IF($N30="",0,$N30),2)) | Q30: =IF(AND($A30="",$B30="",$D30="",$E30="",$F30="",$K30="",$M30="",$N30="",$P30="",$R30=""),"",IF($A30="","Check pay period",IF($B30="","Check employee ID",IF($C30="","Check employee ID",IF(IFERROR(VLOOKUP($B30,Employees!$A$5:$F$104,6,FALSE),"")<>"Active","Check employee status",IF($D30="","Check crew",IF($G30="","Check employee rate",IF($H30="","Check OT multiplier",IF(AND($E30="",$F30="",$K30=""),"Check pay inputs",IF(IFERROR($E30+$F30,0)>$W$2,"Check hours",IF($P30="","Check approval status",IF(AND($P30="Approved",$O30<0),"Check negative amount","")))))))))))) | S30: =IF(Assumptions!$B$30="","",Assumptions!$B$30) | T30: =IF(Assumptions!$C$30="","",Assumptions!$C$30) | U30: =IF(Employees!$A$30="","",Employees!$A$30)
C31: =IF($B31="","",IFERROR(VLOOKUP($B31,Employees!$A$5:$F$104,2,FALSE),"")) | G31: =IF($B31="","",IFERROR(VLOOKUP($B31,Employees!$A$5:$F$104,4,FALSE),"")) | H31: =IF($B31="","",IFERROR(VLOOKUP($B31,Employees!$A$5:$F$104,5,FALSE),"")) | I31: =IF(OR($A31="",$B31="",$E31="",$G31=""),"",ROUND($E31*$G31,2)) | J31: =IF(OR($A31="",$B31="",$F31="",$G31="",$H31=""),"",ROUND($F31*$G31*$H31,2)) | L31: =IF(OR($A31="",$B31="",$G31="",AND($E31="",$F31="",$K31="")),"",ROUND(IF($I31="",0,$I31)+IF($J31="",0,$J31)+IF($K31="",0,$K31),2)) | O31: =IF($L31="","",ROUND($L31+IF($M31="",0,$M31)-IF($N31="",0,$N31),2)) | Q31: =IF(AND($A31="",$B31="",$D31="",$E31="",$F31="",$K31="",$M31="",$N31="",$P31="",$R31=""),"",IF($A31="","Check pay period",IF($B31="","Check employee ID",IF($C31="","Check employee ID",IF(IFERROR(VLOOKUP($B31,Employees!$A$5:$F$104,6,FALSE),"")<>"Active","Check employee status",IF($D31="","Check crew",IF($G31="","Check employee rate",IF($H31="","Check OT multiplier",IF(AND($E31="",$F31="",$K31=""),"Check pay inputs",IF(IFERROR($E31+$F31,0)>$W$2,"Check hours",IF($P31="","Check approval status",IF(AND($P31="Approved",$O31<0),"Check negative amount","")))))))))))) | S31: =IF(Assumptions!$B$31="","",Assumptions!$B$31) | T31: =IF(Assumptions!$C$31="","",Assumptions!$C$31) | U31: =IF(Employees!$A$31="","",Employees!$A$31)
C32: =IF($B32="","",IFERROR(VLOOKUP($B32,Employees!$A$5:$F$104,2,FALSE),"")) | G32: =IF($B32="","",IFERROR(VLOOKUP($B32,Employees!$A$5:$F$104,4,FALSE),"")) | H32: =IF($B32="","",IFERROR(VLOOKUP($B32,Employees!$A$5:$F$104,5,FALSE),"")) | I32: =IF(OR($A32="",$B32="",$E32="",$G32=""),"",ROUND($E32*$G32,2)) | J32: =IF(OR($A32="",$B32="",$F32="",$G32="",$H32=""),"",ROUND($F32*$G32*$H32,2)) | L32: =IF(OR($A32="",$B32="",$G32="",AND($E32="",$F32="",$K32="")),"",ROUND(IF($I32="",0,$I32)+IF($J32="",0,$J32)+IF($K32="",0,$K32),2)) | O32: =IF($L32="","",ROUND($L32+IF($M32="",0,$M32)-IF($N32="",0,$N32),2)) | Q32: =IF(AND($A32="",$B32="",$D32="",$E32="",$F32="",$K32="",$M32="",$N32="",$P32="",$R32=""),"",IF($A32="","Check pay period",IF($B32="","Check employee ID",IF($C32="","Check employee ID",IF(IFERROR(VLOOKUP($B32,Employees!$A$5:$F$104,6,FALSE),"")<>"Active","Check employee status",IF($D32="","Check crew",IF($G32="","Check employee rate",IF($H32="","Check OT multiplier",IF(AND($E32="",$F32="",$K32=""),"Check pay inputs",IF(IFERROR($E32+$F32,0)>$W$2,"Check hours",IF($P32="","Check approval status",IF(AND($P32="Approved",$O32<0),"Check negative amount","")))))))))))) | S32: =IF(Assumptions!$B$32="","",Assumptions!$B$32) | T32: =IF(Assumptions!$C$32="","",Assumptions!$C$32) | U32: =IF(Employees!$A$32="","",Employees!$A$32)
C33: =IF($B33="","",IFERROR(VLOOKUP($B33,Employees!$A$5:$F$104,2,FALSE),"")) | G33: =IF($B33="","",IFERROR(VLOOKUP($B33,Employees!$A$5:$F$104,4,FALSE),"")) | H33: =IF($B33="","",IFERROR(VLOOKUP($B33,Employees!$A$5:$F$104,5,FALSE),"")) | I33: =IF(OR($A33="",$B33="",$E33="",$G33=""),"",ROUND($E33*$G33,2)) | J33: =IF(OR($A33="",$B33="",$F33="",$G33="",$H33=""),"",ROUND($F33*$G33*$H33,2)) | L33: =IF(OR($A33="",$B33="",$G33="",AND($E33="",$F33="",$K33="")),"",ROUND(IF($I33="",0,$I33)+IF($J33="",0,$J33)+IF($K33="",0,$K33),2)) | O33: =IF($L33="","",ROUND($L33+IF($M33="",0,$M33)-IF($N33="",0,$N33),2)) | Q33: =IF(AND($A33="",$B33="",$D33="",$E33="",$F33="",$K33="",$M33="",$N33="",$P33="",$R33=""),"",IF($A33="","Check pay period",IF($B33="","Check employee ID",IF($C33="","Check employee ID",IF(IFERROR(VLOOKUP($B33,Employees!$A$5:$F$104,6,FALSE),"")<>"Active","Check employee status",IF($D33="","Check crew",IF($G33="","Check employee rate",IF($H33="","Check OT multiplier",IF(AND($E33="",$F33="",$K33=""),"Check pay inputs",IF(IFERROR($E33+$F33,0)>$W$2,"Check hours",IF($P33="","Check approval status",IF(AND($P33="Approved",$O33<0),"Check negative amount","")))))))))))) | S33: =IF(Assumptions!$B$33="","",Assumptions!$B$33) | T33: =IF(Assumptions!$C$33="","",Assumptions!$C$33) | U33: =IF(Employees!$A$33="","",Employees!$A$33)
C34: =IF($B34="","",IFERROR(VLOOKUP($B34,Employees!$A$5:$F$104,2,FALSE),"")) | G34: =IF($B34="","",IFERROR(VLOOKUP($B34,Employees!$A$5:$F$104,4,FALSE),"")) | H34: =IF($B34="","",IFERROR(VLOOKUP($B34,Employees!$A$5:$F$104,5,FALSE),"")) | I34: =IF(OR($A34="",$B34="",$E34="",$G34=""),"",ROUND($E34*$G34,2)) | J34: =IF(OR($A34="",$B34="",$F34="",$G34="",$H34=""),"",ROUND($F34*$G34*$H34,2)) | L34: =IF(OR($A34="",$B34="",$G34="",AND($E34="",$F34="",$K34="")),"",ROUND(IF($I34="",0,$I34)+IF($J34="",0,$J34)+IF($K34="",0,$K34),2)) | O34: =IF($L34="","",ROUND($L34+IF($M34="",0,$M34)-IF($N34="",0,$N34),2)) | Q34: =IF(AND($A34="",$B34="",$D34="",$E34="",$F34="",$K34="",$M34="",$N34="",$P34="",$R34=""),"",IF($A34="","Check pay period",IF($B34="","Check employee ID",IF($C34="","Check employee ID",IF(IFERROR(VLOOKUP($B34,Employees!$A$5:$F$104,6,FALSE),"")<>"Active","Check employee status",IF($D34="","Check crew",IF($G34="","Check employee rate",IF($H34="","Check OT multiplier",IF(AND($E34="",$F34="",$K34=""),"Check pay inputs",IF(IFERROR($E34+$F34,0)>$W$2,"Check hours",IF($P34="","Check approval status",IF(AND($P34="Approved",$O34<0),"Check negative amount","")))))))))))) | S34: =IF(Assumptions!$B$34="","",Assumptions!$B$34) | T34: =IF(Assumptions!$C$34="","",Assumptions!$C$34) | U34: =IF(Employees!$A$34="","",Employees!$A$34)
C35: =IF($B35="","",IFERROR(VLOOKUP($B35,Employees!$A$5:$F$104,2,FALSE),"")) | G35: =IF($B35="","",IFERROR(VLOOKUP($B35,Employees!$A$5:$F$104,4,FALSE),"")) | H35: =IF($B35="","",IFERROR(VLOOKUP($B35,Employees!$A$5:$F$104,5,FALSE),"")) | I35: =IF(OR($A35="",$B35="",$E35="",$G35=""),"",ROUND($E35*$G35,2)) | J35: =IF(OR($A35="",$B35="",$F35="",$G35="",$H35=""),"",ROUND($F35*$G35*$H35,2)) | L35: =IF(OR($A35="",$B35="",$G35="",AND($E35="",$F35="",$K35="")),"",ROUND(IF($I35="",0,$I35)+IF($J35="",0,$J35)+IF($K35="",0,$K35),2)) | O35: =IF($L35="","",ROUND($L35+IF($M35="",0,$M35)-IF($N35="",0,$N35),2)) | Q35: =IF(AND($A35="",$B35="",$D35="",$E35="",$F35="",$K35="",$M35="",$N35="",$P35="",$R35=""),"",IF($A35="","Check pay period",IF($B35="","Check employee ID",IF($C35="","Check employee ID",IF(IFERROR(VLOOKUP($B35,Employees!$A$5:$F$104,6,FALSE),"")<>"Active","Check employee status",IF($D35="","Check crew",IF($G35="","Check employee rate",IF($H35="","Check OT multiplier",IF(AND($E35="",$F35="",$K35=""),"Check pay inputs",IF(IFERROR($E35+$F35,0)>$W$2,"Check hours",IF($P35="","Check approval status",IF(AND($P35="Approved",$O35<0),"Check negative amount","")))))))))))) | S35: =IF(Assumptions!$B$35="","",Assumptions!$B$35) | T35: =IF(Assumptions!$C$35="","",Assumptions!$C$35) | U35: =IF(Employees!$A$35="","",Employees!$A$35)
C36: =IF($B36="","",IFERROR(VLOOKUP($B36,Employees!$A$5:$F$104,2,FALSE),"")) | G36: =IF($B36="","",IFERROR(VLOOKUP($B36,Employees!$A$5:$F$104,4,FALSE),"")) | H36: =IF($B36="","",IFERROR(VLOOKUP($B36,Employees!$A$5:$F$104,5,FALSE),"")) | I36: =IF(OR($A36="",$B36="",$E36="",$G36=""),"",ROUND($E36*$G36,2)) | J36: =IF(OR($A36="",$B36="",$F36="",$G36="",$H36=""),"",ROUND($F36*$G36*$H36,2)) | L36: =IF(OR($A36="",$B36="",$G36="",AND($E36="",$F36="",$K36="")),"",ROUND(IF($I36="",0,$I36)+IF($J36="",0,$J36)+IF($K36="",0,$K36),2)) | O36: =IF($L36="","",ROUND($L36+IF($M36="",0,$M36)-IF($N36="",0,$N36),2)) | Q36: =IF(AND($A36="",$B36="",$D36="",$E36="",$F36="",$K36="",$M36="",$N36="",$P36="",$R36=""),"",IF($A36="","Check pay period",IF($B36="","Check employee ID",IF($C36="","Check employee ID",IF(IFERROR(VLOOKUP($B36,Employees!$A$5:$F$104,6,FALSE),"")<>"Active","Check employee status",IF($D36="","Check crew",IF($G36="","Check employee rate",IF($H36="","Check OT multiplier",IF(AND($E36="",$F36="",$K36=""),"Check pay inputs",IF(IFERROR($E36+$F36,0)>$W$2,"Check hours",IF($P36="","Check approval status",IF(AND($P36="Approved",$O36<0),"Check negative amount","")))))))))))) | S36: =IF(Assumptions!$B$36="","",Assumptions!$B$36) | T36: =IF(Assumptions!$C$36="","",Assumptions!$C$36) | U36: =IF(Employees!$A$36="","",Employees!$A$36)
C37: =IF($B37="","",IFERROR(VLOOKUP($B37,Employees!$A$5:$F$104,2,FALSE),"")) | G37: =IF($B37="","",IFERROR(VLOOKUP($B37,Employees!$A$5:$F$104,4,FALSE),"")) | H37: =IF($B37="","",IFERROR(VLOOKUP($B37,Employees!$A$5:$F$104,5,FALSE),"")) | I37: =IF(OR($A37="",$B37="",$E37="",$G37=""),"",ROUND($E37*$G37,2)) | J37: =IF(OR($A37="",$B37="",$F37="",$G37="",$H37=""),"",ROUND($F37*$G37*$H37,2)) | L37: =IF(OR($A37="",$B37="",$G37="",AND($E37="",$F37="",$K37="")),"",ROUND(IF($I37="",0,$I37)+IF($J37="",0,$J37)+IF($K37="",0,$K37),2)) | O37: =IF($L37="","",ROUND($L37+IF($M37="",0,$M37)-IF($N37="",0,$N37),2)) | Q37: =IF(AND($A37="",$B37="",$D37="",$E37="",$F37="",$K37="",$M37="",$N37="",$P37="",$R37=""),"",IF($A37="","Check pay period",IF($B37="","Check employee ID",IF($C37="","Check employee ID",IF(IFERROR(VLOOKUP($B37,Employees!$A$5:$F$104,6,FALSE),"")<>"Active","Check employee status",IF($D37="","Check crew",IF($G37="","Check employee rate",IF($H37="","Check OT multiplier",IF(AND($E37="",$F37="",$K37=""),"Check pay inputs",IF(IFERROR($E37+$F37,0)>$W$2,"Check hours",IF($P37="","Check approval status",IF(AND($P37="Approved",$O37<0),"Check negative amount","")))))))))))) | S37: =IF(Assumptions!$B$37="","",Assumptions!$B$37) | T37: =IF(Assumptions!$C$37="","",Assumptions!$C$37) | U37: =IF(Employees!$A$37="","",Employees!$A$37)
C38: =IF($B38="","",IFERROR(VLOOKUP($B38,Employees!$A$5:$F$104,2,FALSE),"")) | G38: =IF($B38="","",IFERROR(VLOOKUP($B38,Employees!$A$5:$F$104,4,FALSE),"")) | H38: =IF($B38="","",IFERROR(VLOOKUP($B38,Employees!$A$5:$F$104,5,FALSE),"")) | I38: =IF(OR($A38="",$B38="",$E38="",$G38=""),"",ROUND($E38*$G38,2)) | J38: =IF(OR($A38="",$B38="",$F38="",$G38="",$H38=""),"",ROUND($F38*$G38*$H38,2)) | L38: =IF(OR($A38="",$B38="",$G38="",AND($E38="",$F38="",$K38="")),"",ROUND(IF($I38="",0,$I38)+IF($J38="",0,$J38)+IF($K38="",0,$K38),2)) | O38: =IF($L38="","",ROUND($L38+IF($M38="",0,$M38)-IF($N38="",0,$N38),2)) | Q38: =IF(AND($A38="",$B38="",$D38="",$E38="",$F38="",$K38="",$M38="",$N38="",$P38="",$R38=""),"",IF($A38="","Check pay period",IF($B38="","Check employee ID",IF($C38="","Check employee ID",IF(IFERROR(VLOOKUP($B38,Employees!$A$5:$F$104,6,FALSE),"")<>"Active","Check employee status",IF($D38="","Check crew",IF($G38="","Check employee rate",IF($H38="","Check OT multiplier",IF(AND($E38="",$F38="",$K38=""),"Check pay inputs",IF(IFERROR($E38+$F38,0)>$W$2,"Check hours",IF($P38="","Check approval status",IF(AND($P38="Approved",$O38<0),"Check negative amount","")))))))))))) | S38: =IF(Assumptions!$B$38="","",Assumptions!$B$38) | T38: =IF(Assumptions!$C$38="","",Assumptions!$C$38) | U38: =IF(Employees!$A$38="","",Employees!$A$38)
C39: =IF($B39="","",IFERROR(VLOOKUP($B39,Employees!$A$5:$F$104,2,FALSE),"")) | G39: =IF($B39="","",IFERROR(VLOOKUP($B39,Employees!$A$5:$F$104,4,FALSE),"")) | H39: =IF($B39="","",IFERROR(VLOOKUP($B39,Employees!$A$5:$F$104,5,FALSE),"")) | I39: =IF(OR($A39="",$B39="",$E39="",$G39=""),"",ROUND($E39*$G39,2)) | J39: =IF(OR($A39="",$B39="",$F39="",$G39="",$H39=""),"",ROUND($F39*$G39*$H39,2)) | L39: =IF(OR($A39="",$B39="",$G39="",AND($E39="",$F39="",$K39="")),"",ROUND(IF($I39="",0,$I39)+IF($J39="",0,$J39)+IF($K39="",0,$K39),2)) | O39: =IF($L39="","",ROUND($L39+IF($M39="",0,$M39)-IF($N39="",0,$N39),2)) | Q39: =IF(AND($A39="",$B39="",$D39="",$E39="",$F39="",$K39="",$M39="",$N39="",$P39="",$R39=""),"",IF($A39="","Check pay period",IF($B39="","Check employee ID",IF($C39="","Check employee ID",IF(IFERROR(VLOOKUP($B39,Employees!$A$5:$F$104,6,FALSE),"")<>"Active","Check employee status",IF($D39="","Check crew",IF($G39="","Check employee rate",IF($H39="","Check OT multiplier",IF(AND($E39="",$F39="",$K39=""),"Check pay inputs",IF(IFERROR($E39+$F39,0)>$W$2,"Check hours",IF($P39="","Check approval status",IF(AND($P39="Approved",$O39<0),"Check negative amount","")))))))))))) | S39: =IF(Assumptions!$B$39="","",Assumptions!$B$39) | T39: =IF(Assumptions!$C$39="","",Assumptions!$C$39) | U39: =IF(Employees!$A$39="","",Employees!$A$39)
C40: =IF($B40="","",IFERROR(VLOOKUP($B40,Employees!$A$5:$F$104,2,FALSE),"")) | G40: =IF($B40="","",IFERROR(VLOOKUP($B40,Employees!$A$5:$F$104,4,FALSE),"")) | H40: =IF($B40="","",IFERROR(VLOOKUP($B40,Employees!$A$5:$F$104,5,FALSE),"")) | I40: =IF(OR($A40="",$B40="",$E40="",$G40=""),"",ROUND($E40*$G40,2)) | J40: =IF(OR($A40="",$B40="",$F40="",$G40="",$H40=""),"",ROUND($F40*$G40*$H40,2)) | L40: =IF(OR($A40="",$B40="",$G40="",AND($E40="",$F40="",$K40="")),"",ROUND(IF($I40="",0,$I40)+IF($J40="",0,$J40)+IF($K40="",0,$K40),2)) | O40: =IF($L40="","",ROUND($L40+IF($M40="",0,$M40)-IF($N40="",0,$N40),2)) | Q40: =IF(AND($A40="",$B40="",$D40="",$E40="",$F40="",$K40="",$M40="",$N40="",$P40="",$R40=""),"",IF($A40="","Check pay period",IF($B40="","Check employee ID",IF($C40="","Check employee ID",IF(IFERROR(VLOOKUP($B40,Employees!$A$5:$F$104,6,FALSE),"")<>"Active","Check employee status",IF($D40="","Check crew",IF($G40="","Check employee rate",IF($H40="","Check OT multiplier",IF(AND($E40="",$F40="",$K40=""),"Check pay inputs",IF(IFERROR($E40+$F40,0)>$W$2,"Check hours",IF($P40="","Check approval status",IF(AND($P40="Approved",$O40<0),"Check negative amount","")))))))))))) | S40: =IF(Assumptions!$B$40="","",Assumptions!$B$40) | T40: =IF(Assumptions!$C$40="","",Assumptions!$C$40) | U40: =IF(Employees!$A$40="","",Employees!$A$40)
...

Sheet Employees
A1: Employees and Pay Rates
A2: All employees are fictional samples. Edit yellow cells and confirm each rate, multiplier, and status before preparing payroll inputs. | J2: =Assumptions!$F$11 | K2: =Assumptions!$F$12 | L2: =Assumptions!$F$13 | M2: =Assumptions!$F$14
A4: Employee ID | B4: Employee Name | C4: Role | D4: Hourly Rate | E4: OT Multiplier | F4: Employee Status
A5: DEMO-001 | B5: Sample Employee 01 | C5: Crew Lead | D5: 29 | E5: 1.5 | F5: Active | H5: =IF(Assumptions!$A$5="","",Assumptions!$A$5) | I5: =IF(Assumptions!$D$5="","",Assumptions!$D$5)
A6: DEMO-002 | B6: Sample Employee 02 | C6: Lawn Technician | D6: 21.5 | E6: 1.5 | F6: Active | H6: =IF(Assumptions!$A$6="","",Assumptions!$A$6) | I6: =IF(Assumptions!$D$6="","",Assumptions!$D$6)
A7: DEMO-003 | B7: Sample Employee 03 | C7: Landscape Technician | D7: 23.75 | E7: 1.5 | F7: Active | H7: =IF(Assumptions!$A$7="","",Assumptions!$A$7) | I7: =IF(Assumptions!$D$7="","",Assumptions!$D$7)
A8: DEMO-004 | B8: Sample Employee 04 | C8: Equipment Operator | D8: 27 | E8: 1.5 | F8: Active | H8: =IF(Assumptions!$A$8="","",Assumptions!$A$8) | I8: =IF(Assumptions!$D$8="","",Assumptions!$D$8)
A9: DEMO-005 | B9: Sample Employee 05 | C9: Lawn Technician | D9: 20 | E9: 1.5 | F9: Active | H9: =IF(Assumptions!$A$9="","",Assumptions!$A$9) | I9: =IF(Assumptions!$D$9="","",Assumptions!$D$9)
A10: DEMO-006 | B10: Sample Employee 06 | C10: Shop Technician | D10: 25.5 | E10: 1.5 | F10: Active | H10: =IF(Assumptions!$A$10="","",Assumptions!$A$10) | I10: =IF(Assumptions!$D$10="","",Assumptions!$D$10)
A11: DEMO-007 | B11: Sample Employee 07 | C11: Seasonal Crew | D11: 18.5 | E11: 1.5 | F11: Active | H11: =IF(Assumptions!$A$11="","",Assumptions!$A$11) | I11: =IF(Assumptions!$D$11="","",Assumptions!$D$11)
A12: DEMO-008 | B12: Sample Employee 08 | C12: Crew Lead | D12: 28.25 | E12: 1.5 | F12: Active | H12: =IF(Assumptions!$A$12="","",Assumptions!$A$12) | I12: =IF(Assumptions!$D$12="","",Assumptions!$D$12)
A13: DEMO-009 | B13: Sample Employee 09 | C13: Landscape Technician | D13: 22.75 | E13: 1.5 | F13: Active | H13: =IF(Assumptions!$A$13="","",Assumptions!$A$13) | I13: =IF(Assumptions!$D$13="","",Assumptions!$D$13)
A14: DEMO-010 | B14: Sample Employee 10 | C14: Shop Technician | D14: 24 | E14: 1.5 | F14: Inactive | H14: =IF(Assumptions!$A$14="","",Assumptions!$A$14) | I14: =IF(Assumptions!$D$14="","",Assumptions!$D$14)
H15: =IF(Assumptions!$A$15="","",Assumptions!$A$15) | I15: =IF(Assumptions!$D$15="","",Assumptions!$D$15)
H16: =IF(Assumptions!$A$16="","",Assumptions!$A$16) | I16: =IF(Assumptions!$D$16="","",Assumptions!$D$16)
H17: =IF(Assumptions!$A$17="","",Assumptions!$A$17) | I17: =IF(Assumptions!$D$17="","",Assumptions!$D$17)
H18: =IF(Assumptions!$A$18="","",Assumptions!$A$18) | I18: =IF(Assumptions!$D$18="","",Assumptions!$D$18)
H19: =IF(Assumptions!$A$19="","",Assumptions!$A$19) | I19: =IF(Assumptions!$D$19="","",Assumptions!$D$19)
H20: =IF(Assumptions!$A$20="","",Assumptions!$A$20) | I20: =IF(Assumptions!$D$20="","",Assumptions!$D$20)
H21: =IF(Assumptions!$A$21="","",Assumptions!$A$21) | I21: =IF(Assumptions!$D$21="","",Assumptions!$D$21)
H22: =IF(Assumptions!$A$22="","",Assumptions!$A$22) | I22: =IF(Assumptions!$D$22="","",Assumptions!$D$22)
H23: =IF(Assumptions!$A$23="","",Assumptions!$A$23) | I23: =IF(Assumptions!$D$23="","",Assumptions!$D$23)
H24: =IF(Assumptions!$A$24="","",Assumptions!$A$24) | I24: =IF(Assumptions!$D$24="","",Assumptions!$D$24)
H25: =IF(Assumptions!$A$25="","",Assumptions!$A$25) | I25: =IF(Assumptions!$D$25="","",Assumptions!$D$25)
H26: =IF(Assumptions!$A$26="","",Assumptions!$A$26) | I26: =IF(Assumptions!$D$26="","",Assumptions!$D$26)
H27: =IF(Assumptions!$A$27="","",Assumptions!$A$27) | I27: =IF(Assumptions!$D$27="","",Assumptions!$D$27)
H28: =IF(Assumptions!$A$28="","",Assumptions!$A$28) | I28: =IF(Assumptions!$D$28="","",Assumptions!$D$28)
H29: =IF(Assumptions!$A$29="","",Assumptions!$A$29) | I29: =IF(Assumptions!$D$29="","",Assumptions!$D$29)
H30: =IF(Assumptions!$A$30="","",Assumptions!$A$30) | I30: =IF(Assumptions!$D$30="","",Assumptions!$D$30)
H31: =IF(Assumptions!$A$31="","",Assumptions!$A$31) | I31: =IF(Assumptions!$D$31="","",Assumptions!$D$31)
H32: =IF(Assumptions!$A$32="","",Assumptions!$A$32) | I32: =IF(Assumptions!$D$32="","",Assumptions!$D$32)
H33: =IF(Assumptions!$A$33="","",Assumptions!$A$33) | I33: =IF(Assumptions!$D$33="","",Assumptions!$D$33)
H34: =IF(Assumptions!$A$34="","",Assumptions!$A$34) | I34: =IF(Assumptions!$D$34="","",Assumptions!$D$34)
H35: =IF(Assumptions!$A$35="","",Assumptions!$A$35) | I35: =IF(Assumptions!$D$35="","",Assumptions!$D$35)
H36: =IF(Assumptions!$A$36="","",Assumptions!$A$36) | I36: =IF(Assumptions!$D$36="","",Assumptions!$D$36)
H37: =IF(Assumptions!$A$37="","",Assumptions!$A$37) | I37: =IF(Assumptions!$D$37="","",Assumptions!$D$37)
H38: =IF(Assumptions!$A$38="","",Assumptions!$A$38) | I38: =IF(Assumptions!$D$38="","",Assumptions!$D$38)
H39: =IF(Assumptions!$A$39="","",Assumptions!$A$39) | I39: =IF(Assumptions!$D$39="","",Assumptions!$D$39)
H40: =IF(Assumptions!$A$40="","",Assumptions!$A$40) | I40: =IF(Assumptions!$D$40="","",Assumptions!$D$40)
H41: =IF(Assumptions!$A$41="","",Assumptions!$A$41) | I41: =IF(Assumptions!$D$41="","",Assumptions!$D$41)
...

Sheet Assumptions
A1: Assumptions, Lists, and Input Limits
A2: Edit yellow cells. Lists feed dropdowns and limits control input checks. Confirm payroll policy and withholding outside this administrative workbook.
A3: Blank list rows are available for additional stable choices.
A4: Roles | B4: Crews | C4: Payroll Statuses | D4: Employee Statuses | E4: Input Limit | F4: Value
A5: Crew Lead | B5: Green Team | C5: Approved | D5: Active | E5: Earliest Pay Period | F5: 44197
A6: Lawn Technician | B6: Gold Team | C6: Draft | D6: Inactive | E6: Latest Pay Period | F6: 50040
A7: Landscape Technician | B7: Field Support | C7: Hold | E7: Minimum Hours per Line | F7: 0
A8: Equipment Operator | B8: Shop | E8: Maximum Hours per Line | F8: 168
A9: Shop Technician | E9: Minimum Dollar Input | F9: 0
A10: Seasonal Crew | E10: Maximum Dollar Input | F10: 10000
E11: Minimum Hourly Rate | F11: 0.01
E12: Maximum Hourly Rate | F12: 500
E13: Minimum OT Multiplier | F13: 0
E14: Maximum OT Multiplier | F14: 5
