Workbook

Sheet Summary
A1: Lawn Care Sales Conversion Dashboard
A2: For Fictional Green Lantern Lawn Care; all sample leads and properties are fictional.
A3: Reporting Start | B3: =IF(Assumptions!$B$7="","",Assumptions!$B$7) | C3: Reporting End | D3: =IF(Assumptions!$B$8="","",Assumptions!$B$8)
A5: Indicator | B5: Result | C5: Calculation Basis
A6: Leads Received | B6: =IF(OR(Assumptions!$B$7="",Assumptions!$B$8="",Assumptions!$B$8<Assumptions!$B$7),"",COUNTIFS(Leads!$A$5:$A$104,"<>",Leads!$B$5:$B$104,">="&Assumptions!$B$7,Leads!$B$5:$B$104,"<="&Assumptions!$B$8)) | C6: Lead IDs with lead dates in the selected period.
A7: Estimates Created | B7: =IF(OR(Assumptions!$B$7="",Assumptions!$B$8="",Assumptions!$B$8<Assumptions!$B$7),"",COUNTIFS(Leads!$A$5:$A$104,"<>",Leads!$B$5:$B$104,">="&Assumptions!$B$7,Leads!$B$5:$B$104,"<="&Assumptions!$B$8,Leads!$F$5:$F$104,"<>")) | C7: Selected-period leads with an estimate date.
A8: Won Customers | B8: =IF(OR(Assumptions!$B$7="",Assumptions!$B$8="",Assumptions!$B$8<Assumptions!$B$7),"",COUNTIFS(Leads!$A$5:$A$104,"<>",Leads!$B$5:$B$104,">="&Assumptions!$B$7,Leads!$B$5:$B$104,"<="&Assumptions!$B$8,Leads!$F$5:$F$104,"<>",Leads!$H$5:$H$104,"Won")) | C8: Won status with an estimate date.
A9: Lead-to-Estimate Conversion | B9: =IF(OR($B$6="",$B$6=0),"",IFERROR($B$7/$B$6,"")) | C9: Estimates divided by leads.
A10: Estimate-to-Customer Conversion | B10: =IF(OR($B$7="",$B$7=0),"",IFERROR($B$8/$B$7,"")) | C10: Won customers divided by estimates.
A11: Lead-to-Customer Conversion | B11: =IF(OR($B$6="",$B$6=0),"",IFERROR($B$8/$B$6,"")) | C11: Won customers divided by leads.
A12: Won Estimate Value | B12: =IF(OR(Assumptions!$B$7="",Assumptions!$B$8="",Assumptions!$B$8<Assumptions!$B$7),"",IFERROR(SUMIFS(Leads!$G$5:$G$104,Leads!$A$5:$A$104,"<>",Leads!$B$5:$B$104,">="&Assumptions!$B$7,Leads!$B$5:$B$104,"<="&Assumptions!$B$8,Leads!$F$5:$F$104,"<>",Leads!$H$5:$H$104,"Won"),"")) | C12: Entered estimate value for won customers.
A13: Open Estimate Value | B13: =IF(OR(Assumptions!$B$7="",Assumptions!$B$8="",Assumptions!$B$8<Assumptions!$B$7),"",IFERROR(SUMIFS(Leads!$G$5:$G$104,Leads!$A$5:$A$104,"<>",Leads!$B$5:$B$104,">="&Assumptions!$B$7,Leads!$B$5:$B$104,"<="&Assumptions!$B$8,Leads!$H$5:$H$104,"Estimate Sent")+SUMIFS(Leads!$G$5:$G$104,Leads!$A$5:$A$104,"<>",Leads!$B$5:$B$104,">="&Assumptions!$B$7,Leads!$B$5:$B$104,"<="&Assumptions!$B$8,Leads!$H$5:$H$104,"Estimate Scheduled"),"")) | C13: Entered value for scheduled or sent estimates.
A14: Average Days to Estimate | B14: =IF(OR(Assumptions!$B$7="",Assumptions!$B$8="",Assumptions!$B$8<Assumptions!$B$7),"",IFERROR(SUMIFS(Leads!$L$5:$L$104,Leads!$A$5:$A$104,"<>",Leads!$B$5:$B$104,">="&Assumptions!$B$7,Leads!$B$5:$B$104,"<="&Assumptions!$B$8,Leads!$F$5:$F$104,"<>",Leads!$L$5:$L$104,">=0")/COUNTIFS(Leads!$A$5:$A$104,"<>",Leads!$B$5:$B$104,">="&Assumptions!$B$7,Leads!$B$5:$B$104,"<="&Assumptions!$B$8,Leads!$F$5:$F$104,"<>",Leads!$L$5:$L$104,">=0"),"")) | C14: Nonnegative elapsed days for estimated leads.
A16: Conversion by Lead Source
A17: Lead Source | B17: Leads | C17: Estimates | D17: Won
A18: =IF(Assumptions!$D$5="","",Assumptions!$D$5) | B18: =IF(OR(Assumptions!$B$7="",Assumptions!$B$8="",Assumptions!$B$8<Assumptions!$B$7),"",COUNTIFS(Leads!$A$5:$A$104,"<>",Leads!$B$5:$B$104,">="&Assumptions!$B$7,Leads!$B$5:$B$104,"<="&Assumptions!$B$8,Leads!$D$5:$D$104,$A18)) | C18: =IF(OR(Assumptions!$B$7="",Assumptions!$B$8="",Assumptions!$B$8<Assumptions!$B$7),"",COUNTIFS(Leads!$A$5:$A$104,"<>",Leads!$B$5:$B$104,">="&Assumptions!$B$7,Leads!$B$5:$B$104,"<="&Assumptions!$B$8,Leads!$D$5:$D$104,$A18,Leads!$F$5:$F$104,"<>")) | D18: =IF(OR(Assumptions!$B$7="",Assumptions!$B$8="",Assumptions!$B$8<Assumptions!$B$7),"",COUNTIFS(Leads!$A$5:$A$104,"<>",Leads!$B$5:$B$104,">="&Assumptions!$B$7,Leads!$B$5:$B$104,"<="&Assumptions!$B$8,Leads!$D$5:$D$104,$A18,Leads!$F$5:$F$104,"<>",Leads!$H$5:$H$104,"Won"))
A19: =IF(Assumptions!$D$6="","",Assumptions!$D$6) | B19: =IF(OR(Assumptions!$B$7="",Assumptions!$B$8="",Assumptions!$B$8<Assumptions!$B$7),"",COUNTIFS(Leads!$A$5:$A$104,"<>",Leads!$B$5:$B$104,">="&Assumptions!$B$7,Leads!$B$5:$B$104,"<="&Assumptions!$B$8,Leads!$D$5:$D$104,$A19)) | C19: =IF(OR(Assumptions!$B$7="",Assumptions!$B$8="",Assumptions!$B$8<Assumptions!$B$7),"",COUNTIFS(Leads!$A$5:$A$104,"<>",Leads!$B$5:$B$104,">="&Assumptions!$B$7,Leads!$B$5:$B$104,"<="&Assumptions!$B$8,Leads!$D$5:$D$104,$A19,Leads!$F$5:$F$104,"<>")) | D19: =IF(OR(Assumptions!$B$7="",Assumptions!$B$8="",Assumptions!$B$8<Assumptions!$B$7),"",COUNTIFS(Leads!$A$5:$A$104,"<>",Leads!$B$5:$B$104,">="&Assumptions!$B$7,Leads!$B$5:$B$104,"<="&Assumptions!$B$8,Leads!$D$5:$D$104,$A19,Leads!$F$5:$F$104,"<>",Leads!$H$5:$H$104,"Won"))
A20: =IF(Assumptions!$D$7="","",Assumptions!$D$7) | B20: =IF(OR(Assumptions!$B$7="",Assumptions!$B$8="",Assumptions!$B$8<Assumptions!$B$7),"",COUNTIFS(Leads!$A$5:$A$104,"<>",Leads!$B$5:$B$104,">="&Assumptions!$B$7,Leads!$B$5:$B$104,"<="&Assumptions!$B$8,Leads!$D$5:$D$104,$A20)) | C20: =IF(OR(Assumptions!$B$7="",Assumptions!$B$8="",Assumptions!$B$8<Assumptions!$B$7),"",COUNTIFS(Leads!$A$5:$A$104,"<>",Leads!$B$5:$B$104,">="&Assumptions!$B$7,Leads!$B$5:$B$104,"<="&Assumptions!$B$8,Leads!$D$5:$D$104,$A20,Leads!$F$5:$F$104,"<>")) | D20: =IF(OR(Assumptions!$B$7="",Assumptions!$B$8="",Assumptions!$B$8<Assumptions!$B$7),"",COUNTIFS(Leads!$A$5:$A$104,"<>",Leads!$B$5:$B$104,">="&Assumptions!$B$7,Leads!$B$5:$B$104,"<="&Assumptions!$B$8,Leads!$D$5:$D$104,$A20,Leads!$F$5:$F$104,"<>",Leads!$H$5:$H$104,"Won"))
A21: =IF(Assumptions!$D$8="","",Assumptions!$D$8) | B21: =IF(OR(Assumptions!$B$7="",Assumptions!$B$8="",Assumptions!$B$8<Assumptions!$B$7),"",COUNTIFS(Leads!$A$5:$A$104,"<>",Leads!$B$5:$B$104,">="&Assumptions!$B$7,Leads!$B$5:$B$104,"<="&Assumptions!$B$8,Leads!$D$5:$D$104,$A21)) | C21: =IF(OR(Assumptions!$B$7="",Assumptions!$B$8="",Assumptions!$B$8<Assumptions!$B$7),"",COUNTIFS(Leads!$A$5:$A$104,"<>",Leads!$B$5:$B$104,">="&Assumptions!$B$7,Leads!$B$5:$B$104,"<="&Assumptions!$B$8,Leads!$D$5:$D$104,$A21,Leads!$F$5:$F$104,"<>")) | D21: =IF(OR(Assumptions!$B$7="",Assumptions!$B$8="",Assumptions!$B$8<Assumptions!$B$7),"",COUNTIFS(Leads!$A$5:$A$104,"<>",Leads!$B$5:$B$104,">="&Assumptions!$B$7,Leads!$B$5:$B$104,"<="&Assumptions!$B$8,Leads!$D$5:$D$104,$A21,Leads!$F$5:$F$104,"<>",Leads!$H$5:$H$104,"Won"))
A22: =IF(Assumptions!$D$9="","",Assumptions!$D$9) | B22: =IF(OR(Assumptions!$B$7="",Assumptions!$B$8="",Assumptions!$B$8<Assumptions!$B$7),"",COUNTIFS(Leads!$A$5:$A$104,"<>",Leads!$B$5:$B$104,">="&Assumptions!$B$7,Leads!$B$5:$B$104,"<="&Assumptions!$B$8,Leads!$D$5:$D$104,$A22)) | C22: =IF(OR(Assumptions!$B$7="",Assumptions!$B$8="",Assumptions!$B$8<Assumptions!$B$7),"",COUNTIFS(Leads!$A$5:$A$104,"<>",Leads!$B$5:$B$104,">="&Assumptions!$B$7,Leads!$B$5:$B$104,"<="&Assumptions!$B$8,Leads!$D$5:$D$104,$A22,Leads!$F$5:$F$104,"<>")) | D22: =IF(OR(Assumptions!$B$7="",Assumptions!$B$8="",Assumptions!$B$8<Assumptions!$B$7),"",COUNTIFS(Leads!$A$5:$A$104,"<>",Leads!$B$5:$B$104,">="&Assumptions!$B$7,Leads!$B$5:$B$104,"<="&Assumptions!$B$8,Leads!$D$5:$D$104,$A22,Leads!$F$5:$F$104,"<>",Leads!$H$5:$H$104,"Won"))
A23: =IF(Assumptions!$D$10="","",Assumptions!$D$10) | B23: =IF(OR(Assumptions!$B$7="",Assumptions!$B$8="",Assumptions!$B$8<Assumptions!$B$7),"",COUNTIFS(Leads!$A$5:$A$104,"<>",Leads!$B$5:$B$104,">="&Assumptions!$B$7,Leads!$B$5:$B$104,"<="&Assumptions!$B$8,Leads!$D$5:$D$104,$A23)) | C23: =IF(OR(Assumptions!$B$7="",Assumptions!$B$8="",Assumptions!$B$8<Assumptions!$B$7),"",COUNTIFS(Leads!$A$5:$A$104,"<>",Leads!$B$5:$B$104,">="&Assumptions!$B$7,Leads!$B$5:$B$104,"<="&Assumptions!$B$8,Leads!$D$5:$D$104,$A23,Leads!$F$5:$F$104,"<>")) | D23: =IF(OR(Assumptions!$B$7="",Assumptions!$B$8="",Assumptions!$B$8<Assumptions!$B$7),"",COUNTIFS(Leads!$A$5:$A$104,"<>",Leads!$B$5:$B$104,">="&Assumptions!$B$7,Leads!$B$5:$B$104,"<="&Assumptions!$B$8,Leads!$D$5:$D$104,$A23,Leads!$F$5:$F$104,"<>",Leads!$H$5:$H$104,"Won"))

Sheet Leads
A1: Lawn Care Sales Leads
A2: Yellow cells are editable. Formula columns calculate timing, conversion flags, and record checks.
A4: Lead ID | B4: Lead Date | C4: Customer / Property | D4: Lead Source | E4: Requested Service | F4: Estimate Date | G4: Estimate Amount | H4: Outcome Status | I4: Decision Date | J4: Sales Rep | K4: Next Follow-Up Date | L4: Days to Estimate | M4: Days to Decision | N4: Estimated | O4: Won | P4: Record Check
A5: FIC-2026-001 | B5: 46181 | C5: Fictional Blue Acorn Cottage | D5: Website Inquiry | E5: Recurring Lawn Mowing | F5: 46185 | G5: 1680 | H5: Won | I5: 46188 | J5: Avery Finch (Fictional) | L5: =IF($A5="","",IF(OR($B5="",$F5=""),"",IFERROR($F5-$B5,""))) | M5: =IF($A5="","",IF(OR($B5="",$I5=""),"",IFERROR($I5-$B5,""))) | N5: =IF($A5="","",IF($F5<>"","Yes","No")) | O5: =IF($A5="","",IF($H5="Won","Yes","No")) | P5: =IF(COUNTA($A5:$K5)=0,"",IF($A5="","Check lead ID",IF(AND($A5<>"",COUNTIF($A$5:$A$104,$A5)>1),"Check duplicate lead ID",IF($B5="","Check lead date",IF(IFERROR(AND($F5<>"",$F5<$B5),FALSE),"Check estimate date",IF(IFERROR(AND($I5<>"",$I5<$B5),FALSE),"Check decision date",IF(IFERROR(AND($I5<>"",$F5<>"",$I5<$F5),FALSE),"Check decision date",IF(AND($G5<>"",$F5=""),"Check estimate date",IF(AND(OR($H5="Estimate Sent",$H5="Won"),$F5=""),"Check estimate date",IF(AND(OR($H5="Won",$H5="Lost"),$I5=""),"Check decision date",IF(AND($H5="Won",$G5=""),"Check estimate amount",IF(AND(NOT(OR($H5="Won",$H5="Lost")),$K5<>"",$K5<TODAY()),"Follow-up due",IF(IFERROR(AND(NOT(OR($H5="Won",$H5="Lost")),TODAY()-$B5>Assumptions!$B$5,$K5=""),FALSE),"Set follow-up","No alert")))))))))))))
A6: FIC-2026-002 | B6: 46194 | C6: Fictional Moonlit Maple Home | D6: Phone Call | E6: Seasonal Cleanup | F6: 46198 | G6: 920 | H6: Lost | I6: 46203 | J6: Jordan Vale (Fictional) | L6: =IF($A6="","",IF(OR($B6="",$F6=""),"",IFERROR($F6-$B6,""))) | M6: =IF($A6="","",IF(OR($B6="",$I6=""),"",IFERROR($I6-$B6,""))) | N6: =IF($A6="","",IF($F6<>"","Yes","No")) | O6: =IF($A6="","",IF($H6="Won","Yes","No")) | P6: =IF(COUNTA($A6:$K6)=0,"",IF($A6="","Check lead ID",IF(AND($A6<>"",COUNTIF($A$5:$A$104,$A6)>1),"Check duplicate lead ID",IF($B6="","Check lead date",IF(IFERROR(AND($F6<>"",$F6<$B6),FALSE),"Check estimate date",IF(IFERROR(AND($I6<>"",$I6<$B6),FALSE),"Check decision date",IF(IFERROR(AND($I6<>"",$F6<>"",$I6<$F6),FALSE),"Check decision date",IF(AND($G6<>"",$F6=""),"Check estimate date",IF(AND(OR($H6="Estimate Sent",$H6="Won"),$F6=""),"Check estimate date",IF(AND(OR($H6="Won",$H6="Lost"),$I6=""),"Check decision date",IF(AND($H6="Won",$G6=""),"Check estimate amount",IF(AND(NOT(OR($H6="Won",$H6="Lost")),$K6<>"",$K6<TODAY()),"Follow-up due",IF(IFERROR(AND(NOT(OR($H6="Won",$H6="Lost")),TODAY()-$B6>Assumptions!$B$5,$K6=""),FALSE),"Set follow-up","No alert")))))))))))))
A7: FIC-2026-003 | B7: 46206 | C7: Fictional Silver Sprout Yard | D7: Referral | E7: Mulch Installation | F7: 46210 | G7: 2400 | H7: Won | I7: 46214 | J7: Morgan Pine (Fictional) | L7: =IF($A7="","",IF(OR($B7="",$F7=""),"",IFERROR($F7-$B7,""))) | M7: =IF($A7="","",IF(OR($B7="",$I7=""),"",IFERROR($I7-$B7,""))) | N7: =IF($A7="","",IF($F7<>"","Yes","No")) | O7: =IF($A7="","",IF($H7="Won","Yes","No")) | P7: =IF(COUNTA($A7:$K7)=0,"",IF($A7="","Check lead ID",IF(AND($A7<>"",COUNTIF($A$5:$A$104,$A7)>1),"Check duplicate lead ID",IF($B7="","Check lead date",IF(IFERROR(AND($F7<>"",$F7<$B7),FALSE),"Check estimate date",IF(IFERROR(AND($I7<>"",$I7<$B7),FALSE),"Check decision date",IF(IFERROR(AND($I7<>"",$F7<>"",$I7<$F7),FALSE),"Check decision date",IF(AND($G7<>"",$F7=""),"Check estimate date",IF(AND(OR($H7="Estimate Sent",$H7="Won"),$F7=""),"Check estimate date",IF(AND(OR($H7="Won",$H7="Lost"),$I7=""),"Check decision date",IF(AND($H7="Won",$G7=""),"Check estimate amount",IF(AND(NOT(OR($H7="Won",$H7="Lost")),$K7<>"",$K7<TODAY()),"Follow-up due",IF(IFERROR(AND(NOT(OR($H7="Won",$H7="Lost")),TODAY()-$B7>Assumptions!$B$5,$K7=""),FALSE),"Set follow-up","No alert")))))))))))))
A8: FIC-2026-004 | B8: 46223 | C8: Fictional Copper Kite Residence | D8: Yard Sign | E8: Landscape Maintenance | F8: 46228 | G8: 25000 | H8: Estimate Sent | J8: Avery Finch (Fictional) | K8: 46275 | L8: =IF($A8="","",IF(OR($B8="",$F8=""),"",IFERROR($F8-$B8,""))) | M8: =IF($A8="","",IF(OR($B8="",$I8=""),"",IFERROR($I8-$B8,""))) | N8: =IF($A8="","",IF($F8<>"","Yes","No")) | O8: =IF($A8="","",IF($H8="Won","Yes","No")) | P8: =IF(COUNTA($A8:$K8)=0,"",IF($A8="","Check lead ID",IF(AND($A8<>"",COUNTIF($A$5:$A$104,$A8)>1),"Check duplicate lead ID",IF($B8="","Check lead date",IF(IFERROR(AND($F8<>"",$F8<$B8),FALSE),"Check estimate date",IF(IFERROR(AND($I8<>"",$I8<$B8),FALSE),"Check decision date",IF(IFERROR(AND($I8<>"",$F8<>"",$I8<$F8),FALSE),"Check decision date",IF(AND($G8<>"",$F8=""),"Check estimate date",IF(AND(OR($H8="Estimate Sent",$H8="Won"),$F8=""),"Check estimate date",IF(AND(OR($H8="Won",$H8="Lost"),$I8=""),"Check decision date",IF(AND($H8="Won",$G8=""),"Check estimate amount",IF(AND(NOT(OR($H8="Won",$H8="Lost")),$K8<>"",$K8<TODAY()),"Follow-up due",IF(IFERROR(AND(NOT(OR($H8="Won",$H8="Lost")),TODAY()-$B8>Assumptions!$B$5,$K8=""),FALSE),"Set follow-up","No alert")))))))))))))
A9: FIC-2026-005 | B9: 46235 | C9: Fictional Juniper Lantern Home | D9: Website Inquiry | E9: Aeration and Overseeding | H9: Contacted | J9: Jordan Vale (Fictional) | K9: 46278 | L9: =IF($A9="","",IF(OR($B9="",$F9=""),"",IFERROR($F9-$B9,""))) | M9: =IF($A9="","",IF(OR($B9="",$I9=""),"",IFERROR($I9-$B9,""))) | N9: =IF($A9="","",IF($F9<>"","Yes","No")) | O9: =IF($A9="","",IF($H9="Won","Yes","No")) | P9: =IF(COUNTA($A9:$K9)=0,"",IF($A9="","Check lead ID",IF(AND($A9<>"",COUNTIF($A$5:$A$104,$A9)>1),"Check duplicate lead ID",IF($B9="","Check lead date",IF(IFERROR(AND($F9<>"",$F9<$B9),FALSE),"Check estimate date",IF(IFERROR(AND($I9<>"",$I9<$B9),FALSE),"Check decision date",IF(IFERROR(AND($I9<>"",$F9<>"",$I9<$F9),FALSE),"Check decision date",IF(AND($G9<>"",$F9=""),"Check estimate date",IF(AND(OR($H9="Estimate Sent",$H9="Won"),$F9=""),"Check estimate date",IF(AND(OR($H9="Won",$H9="Lost"),$I9=""),"Check decision date",IF(AND($H9="Won",$G9=""),"Check estimate amount",IF(AND(NOT(OR($H9="Won",$H9="Lost")),$K9<>"",$K9<TODAY()),"Follow-up due",IF(IFERROR(AND(NOT(OR($H9="Won",$H9="Lost")),TODAY()-$B9>Assumptions!$B$5,$K9=""),FALSE),"Set follow-up","No alert")))))))))))))
A10: FIC-2026-006 | B10: 46241 | C10: Fictional Meadow Clock Cottage | D10: Community Event | E10: Sod Installation | F10: 46245 | G10: 760 | H10: Lost | I10: 46251 | J10: Morgan Pine (Fictional) | L10: =IF($A10="","",IF(OR($B10="",$F10=""),"",IFERROR($F10-$B10,""))) | M10: =IF($A10="","",IF(OR($B10="",$I10=""),"",IFERROR($I10-$B10,""))) | N10: =IF($A10="","",IF($F10<>"","Yes","No")) | O10: =IF($A10="","",IF($H10="Won","Yes","No")) | P10: =IF(COUNTA($A10:$K10)=0,"",IF($A10="","Check lead ID",IF(AND($A10<>"",COUNTIF($A$5:$A$104,$A10)>1),"Check duplicate lead ID",IF($B10="","Check lead date",IF(IFERROR(AND($F10<>"",$F10<$B10),FALSE),"Check estimate date",IF(IFERROR(AND($I10<>"",$I10<$B10),FALSE),"Check decision date",IF(IFERROR(AND($I10<>"",$F10<>"",$I10<$F10),FALSE),"Check decision date",IF(AND($G10<>"",$F10=""),"Check estimate date",IF(AND(OR($H10="Estimate Sent",$H10="Won"),$F10=""),"Check estimate date",IF(AND(OR($H10="Won",$H10="Lost"),$I10=""),"Check decision date",IF(AND($H10="Won",$G10=""),"Check estimate amount",IF(AND(NOT(OR($H10="Won",$H10="Lost")),$K10<>"",$K10<TODAY()),"Follow-up due",IF(IFERROR(AND(NOT(OR($H10="Won",$H10="Lost")),TODAY()-$B10>Assumptions!$B$5,$K10=""),FALSE),"Set follow-up","No alert")))))))))))))
A11: FIC-2026-007 | B11: 46252 | C11: Fictional Sunny Pebble Yard | D11: Phone Call | E11: Recurring Lawn Mowing | F11: 46256 | G11: 1850 | H11: Won | I11: 46258 | J11: Avery Finch (Fictional) | L11: =IF($A11="","",IF(OR($B11="",$F11=""),"",IFERROR($F11-$B11,""))) | M11: =IF($A11="","",IF(OR($B11="",$I11=""),"",IFERROR($I11-$B11,""))) | N11: =IF($A11="","",IF($F11<>"","Yes","No")) | O11: =IF($A11="","",IF($H11="Won","Yes","No")) | P11: =IF(COUNTA($A11:$K11)=0,"",IF($A11="","Check lead ID",IF(AND($A11<>"",COUNTIF($A$5:$A$104,$A11)>1),"Check duplicate lead ID",IF($B11="","Check lead date",IF(IFERROR(AND($F11<>"",$F11<$B11),FALSE),"Check estimate date",IF(IFERROR(AND($I11<>"",$I11<$B11),FALSE),"Check decision date",IF(IFERROR(AND($I11<>"",$F11<>"",$I11<$F11),FALSE),"Check decision date",IF(AND($G11<>"",$F11=""),"Check estimate date",IF(AND(OR($H11="Estimate Sent",$H11="Won"),$F11=""),"Check estimate date",IF(AND(OR($H11="Won",$H11="Lost"),$I11=""),"Check decision date",IF(AND($H11="Won",$G11=""),"Check estimate amount",IF(AND(NOT(OR($H11="Won",$H11="Lost")),$K11<>"",$K11<TODAY()),"Follow-up due",IF(IFERROR(AND(NOT(OR($H11="Won",$H11="Lost")),TODAY()-$B11>Assumptions!$B$5,$K11=""),FALSE),"Set follow-up","No alert")))))))))))))
A12: FIC-2026-008 | B12: 46260 | C12: Fictional Velvet Pine Residence | D12: Referral | E12: Seasonal Cleanup | F12: 46260 | G12: 1100 | H12: Estimate Sent | J12: Jordan Vale (Fictional) | K12: 46279 | L12: =IF($A12="","",IF(OR($B12="",$F12=""),"",IFERROR($F12-$B12,""))) | M12: =IF($A12="","",IF(OR($B12="",$I12=""),"",IFERROR($I12-$B12,""))) | N12: =IF($A12="","",IF($F12<>"","Yes","No")) | O12: =IF($A12="","",IF($H12="Won","Yes","No")) | P12: =IF(COUNTA($A12:$K12)=0,"",IF($A12="","Check lead ID",IF(AND($A12<>"",COUNTIF($A$5:$A$104,$A12)>1),"Check duplicate lead ID",IF($B12="","Check lead date",IF(IFERROR(AND($F12<>"",$F12<$B12),FALSE),"Check estimate date",IF(IFERROR(AND($I12<>"",$I12<$B12),FALSE),"Check decision date",IF(IFERROR(AND($I12<>"",$F12<>"",$I12<$F12),FALSE),"Check decision date",IF(AND($G12<>"",$F12=""),"Check estimate date",IF(AND(OR($H12="Estimate Sent",$H12="Won"),$F12=""),"Check estimate date",IF(AND(OR($H12="Won",$H12="Lost"),$I12=""),"Check decision date",IF(AND($H12="Won",$G12=""),"Check estimate amount",IF(AND(NOT(OR($H12="Won",$H12="Lost")),$K12<>"",$K12<TODAY()),"Follow-up due",IF(IFERROR(AND(NOT(OR($H12="Won",$H12="Lost")),TODAY()-$B12>Assumptions!$B$5,$K12=""),FALSE),"Set follow-up","No alert")))))))))))))
A13: FIC-2026-009 | B13: 46267 | C13: Fictional Amber Thimble Home | D13: Other | E13: Mulch Installation | H13: New | J13: Unassigned | K13: 46277 | L13: =IF($A13="","",IF(OR($B13="",$F13=""),"",IFERROR($F13-$B13,""))) | M13: =IF($A13="","",IF(OR($B13="",$I13=""),"",IFERROR($I13-$B13,""))) | N13: =IF($A13="","",IF($F13<>"","Yes","No")) | O13: =IF($A13="","",IF($H13="Won","Yes","No")) | P13: =IF(COUNTA($A13:$K13)=0,"",IF($A13="","Check lead ID",IF(AND($A13<>"",COUNTIF($A$5:$A$104,$A13)>1),"Check duplicate lead ID",IF($B13="","Check lead date",IF(IFERROR(AND($F13<>"",$F13<$B13),FALSE),"Check estimate date",IF(IFERROR(AND($I13<>"",$I13<$B13),FALSE),"Check decision date",IF(IFERROR(AND($I13<>"",$F13<>"",$I13<$F13),FALSE),"Check decision date",IF(AND($G13<>"",$F13=""),"Check estimate date",IF(AND(OR($H13="Estimate Sent",$H13="Won"),$F13=""),"Check estimate date",IF(AND(OR($H13="Won",$H13="Lost"),$I13=""),"Check decision date",IF(AND($H13="Won",$G13=""),"Check estimate amount",IF(AND(NOT(OR($H13="Won",$H13="Lost")),$K13<>"",$K13<TODAY()),"Follow-up due",IF(IFERROR(AND(NOT(OR($H13="Won",$H13="Lost")),TODAY()-$B13>Assumptions!$B$5,$K13=""),FALSE),"Set follow-up","No alert")))))))))))))
A14: FIC-2026-010 | B14: 46254 | C14: Fictional Clover Comet Cottage | D14: Other | E14: Landscape Maintenance | H14: No Response | J14: Morgan Pine (Fictional) | K14: 46271 | L14: =IF($A14="","",IF(OR($B14="",$F14=""),"",IFERROR($F14-$B14,""))) | M14: =IF($A14="","",IF(OR($B14="",$I14=""),"",IFERROR($I14-$B14,""))) | N14: =IF($A14="","",IF($F14<>"","Yes","No")) | O14: =IF($A14="","",IF($H14="Won","Yes","No")) | P14: =IF(COUNTA($A14:$K14)=0,"",IF($A14="","Check lead ID",IF(AND($A14<>"",COUNTIF($A$5:$A$104,$A14)>1),"Check duplicate lead ID",IF($B14="","Check lead date",IF(IFERROR(AND($F14<>"",$F14<$B14),FALSE),"Check estimate date",IF(IFERROR(AND($I14<>"",$I14<$B14),FALSE),"Check decision date",IF(IFERROR(AND($I14<>"",$F14<>"",$I14<$F14),FALSE),"Check decision date",IF(AND($G14<>"",$F14=""),"Check estimate date",IF(AND(OR($H14="Estimate Sent",$H14="Won"),$F14=""),"Check estimate date",IF(AND(OR($H14="Won",$H14="Lost"),$I14=""),"Check decision date",IF(AND($H14="Won",$G14=""),"Check estimate amount",IF(AND(NOT(OR($H14="Won",$H14="Lost")),$K14<>"",$K14<TODAY()),"Follow-up due",IF(IFERROR(AND(NOT(OR($H14="Won",$H14="Lost")),TODAY()-$B14>Assumptions!$B$5,$K14=""),FALSE),"Set follow-up","No alert")))))))))))))
L15: =IF($A15="","",IF(OR($B15="",$F15=""),"",IFERROR($F15-$B15,""))) | M15: =IF($A15="","",IF(OR($B15="",$I15=""),"",IFERROR($I15-$B15,""))) | N15: =IF($A15="","",IF($F15<>"","Yes","No")) | O15: =IF($A15="","",IF($H15="Won","Yes","No")) | P15: =IF(COUNTA($A15:$K15)=0,"",IF($A15="","Check lead ID",IF(AND($A15<>"",COUNTIF($A$5:$A$104,$A15)>1),"Check duplicate lead ID",IF($B15="","Check lead date",IF(IFERROR(AND($F15<>"",$F15<$B15),FALSE),"Check estimate date",IF(IFERROR(AND($I15<>"",$I15<$B15),FALSE),"Check decision date",IF(IFERROR(AND($I15<>"",$F15<>"",$I15<$F15),FALSE),"Check decision date",IF(AND($G15<>"",$F15=""),"Check estimate date",IF(AND(OR($H15="Estimate Sent",$H15="Won"),$F15=""),"Check estimate date",IF(AND(OR($H15="Won",$H15="Lost"),$I15=""),"Check decision date",IF(AND($H15="Won",$G15=""),"Check estimate amount",IF(AND(NOT(OR($H15="Won",$H15="Lost")),$K15<>"",$K15<TODAY()),"Follow-up due",IF(IFERROR(AND(NOT(OR($H15="Won",$H15="Lost")),TODAY()-$B15>Assumptions!$B$5,$K15=""),FALSE),"Set follow-up","No alert")))))))))))))
L16: =IF($A16="","",IF(OR($B16="",$F16=""),"",IFERROR($F16-$B16,""))) | M16: =IF($A16="","",IF(OR($B16="",$I16=""),"",IFERROR($I16-$B16,""))) | N16: =IF($A16="","",IF($F16<>"","Yes","No")) | O16: =IF($A16="","",IF($H16="Won","Yes","No")) | P16: =IF(COUNTA($A16:$K16)=0,"",IF($A16="","Check lead ID",IF(AND($A16<>"",COUNTIF($A$5:$A$104,$A16)>1),"Check duplicate lead ID",IF($B16="","Check lead date",IF(IFERROR(AND($F16<>"",$F16<$B16),FALSE),"Check estimate date",IF(IFERROR(AND($I16<>"",$I16<$B16),FALSE),"Check decision date",IF(IFERROR(AND($I16<>"",$F16<>"",$I16<$F16),FALSE),"Check decision date",IF(AND($G16<>"",$F16=""),"Check estimate date",IF(AND(OR($H16="Estimate Sent",$H16="Won"),$F16=""),"Check estimate date",IF(AND(OR($H16="Won",$H16="Lost"),$I16=""),"Check decision date",IF(AND($H16="Won",$G16=""),"Check estimate amount",IF(AND(NOT(OR($H16="Won",$H16="Lost")),$K16<>"",$K16<TODAY()),"Follow-up due",IF(IFERROR(AND(NOT(OR($H16="Won",$H16="Lost")),TODAY()-$B16>Assumptions!$B$5,$K16=""),FALSE),"Set follow-up","No alert")))))))))))))
L17: =IF($A17="","",IF(OR($B17="",$F17=""),"",IFERROR($F17-$B17,""))) | M17: =IF($A17="","",IF(OR($B17="",$I17=""),"",IFERROR($I17-$B17,""))) | N17: =IF($A17="","",IF($F17<>"","Yes","No")) | O17: =IF($A17="","",IF($H17="Won","Yes","No")) | P17: =IF(COUNTA($A17:$K17)=0,"",IF($A17="","Check lead ID",IF(AND($A17<>"",COUNTIF($A$5:$A$104,$A17)>1),"Check duplicate lead ID",IF($B17="","Check lead date",IF(IFERROR(AND($F17<>"",$F17<$B17),FALSE),"Check estimate date",IF(IFERROR(AND($I17<>"",$I17<$B17),FALSE),"Check decision date",IF(IFERROR(AND($I17<>"",$F17<>"",$I17<$F17),FALSE),"Check decision date",IF(AND($G17<>"",$F17=""),"Check estimate date",IF(AND(OR($H17="Estimate Sent",$H17="Won"),$F17=""),"Check estimate date",IF(AND(OR($H17="Won",$H17="Lost"),$I17=""),"Check decision date",IF(AND($H17="Won",$G17=""),"Check estimate amount",IF(AND(NOT(OR($H17="Won",$H17="Lost")),$K17<>"",$K17<TODAY()),"Follow-up due",IF(IFERROR(AND(NOT(OR($H17="Won",$H17="Lost")),TODAY()-$B17>Assumptions!$B$5,$K17=""),FALSE),"Set follow-up","No alert")))))))))))))
L18: =IF($A18="","",IF(OR($B18="",$F18=""),"",IFERROR($F18-$B18,""))) | M18: =IF($A18="","",IF(OR($B18="",$I18=""),"",IFERROR($I18-$B18,""))) | N18: =IF($A18="","",IF($F18<>"","Yes","No")) | O18: =IF($A18="","",IF($H18="Won","Yes","No")) | P18: =IF(COUNTA($A18:$K18)=0,"",IF($A18="","Check lead ID",IF(AND($A18<>"",COUNTIF($A$5:$A$104,$A18)>1),"Check duplicate lead ID",IF($B18="","Check lead date",IF(IFERROR(AND($F18<>"",$F18<$B18),FALSE),"Check estimate date",IF(IFERROR(AND($I18<>"",$I18<$B18),FALSE),"Check decision date",IF(IFERROR(AND($I18<>"",$F18<>"",$I18<$F18),FALSE),"Check decision date",IF(AND($G18<>"",$F18=""),"Check estimate date",IF(AND(OR($H18="Estimate Sent",$H18="Won"),$F18=""),"Check estimate date",IF(AND(OR($H18="Won",$H18="Lost"),$I18=""),"Check decision date",IF(AND($H18="Won",$G18=""),"Check estimate amount",IF(AND(NOT(OR($H18="Won",$H18="Lost")),$K18<>"",$K18<TODAY()),"Follow-up due",IF(IFERROR(AND(NOT(OR($H18="Won",$H18="Lost")),TODAY()-$B18>Assumptions!$B$5,$K18=""),FALSE),"Set follow-up","No alert")))))))))))))
L19: =IF($A19="","",IF(OR($B19="",$F19=""),"",IFERROR($F19-$B19,""))) | M19: =IF($A19="","",IF(OR($B19="",$I19=""),"",IFERROR($I19-$B19,""))) | N19: =IF($A19="","",IF($F19<>"","Yes","No")) | O19: =IF($A19="","",IF($H19="Won","Yes","No")) | P19: =IF(COUNTA($A19:$K19)=0,"",IF($A19="","Check lead ID",IF(AND($A19<>"",COUNTIF($A$5:$A$104,$A19)>1),"Check duplicate lead ID",IF($B19="","Check lead date",IF(IFERROR(AND($F19<>"",$F19<$B19),FALSE),"Check estimate date",IF(IFERROR(AND($I19<>"",$I19<$B19),FALSE),"Check decision date",IF(IFERROR(AND($I19<>"",$F19<>"",$I19<$F19),FALSE),"Check decision date",IF(AND($G19<>"",$F19=""),"Check estimate date",IF(AND(OR($H19="Estimate Sent",$H19="Won"),$F19=""),"Check estimate date",IF(AND(OR($H19="Won",$H19="Lost"),$I19=""),"Check decision date",IF(AND($H19="Won",$G19=""),"Check estimate amount",IF(AND(NOT(OR($H19="Won",$H19="Lost")),$K19<>"",$K19<TODAY()),"Follow-up due",IF(IFERROR(AND(NOT(OR($H19="Won",$H19="Lost")),TODAY()-$B19>Assumptions!$B$5,$K19=""),FALSE),"Set follow-up","No alert")))))))))))))
L20: =IF($A20="","",IF(OR($B20="",$F20=""),"",IFERROR($F20-$B20,""))) | M20: =IF($A20="","",IF(OR($B20="",$I20=""),"",IFERROR($I20-$B20,""))) | N20: =IF($A20="","",IF($F20<>"","Yes","No")) | O20: =IF($A20="","",IF($H20="Won","Yes","No")) | P20: =IF(COUNTA($A20:$K20)=0,"",IF($A20="","Check lead ID",IF(AND($A20<>"",COUNTIF($A$5:$A$104,$A20)>1),"Check duplicate lead ID",IF($B20="","Check lead date",IF(IFERROR(AND($F20<>"",$F20<$B20),FALSE),"Check estimate date",IF(IFERROR(AND($I20<>"",$I20<$B20),FALSE),"Check decision date",IF(IFERROR(AND($I20<>"",$F20<>"",$I20<$F20),FALSE),"Check decision date",IF(AND($G20<>"",$F20=""),"Check estimate date",IF(AND(OR($H20="Estimate Sent",$H20="Won"),$F20=""),"Check estimate date",IF(AND(OR($H20="Won",$H20="Lost"),$I20=""),"Check decision date",IF(AND($H20="Won",$G20=""),"Check estimate amount",IF(AND(NOT(OR($H20="Won",$H20="Lost")),$K20<>"",$K20<TODAY()),"Follow-up due",IF(IFERROR(AND(NOT(OR($H20="Won",$H20="Lost")),TODAY()-$B20>Assumptions!$B$5,$K20=""),FALSE),"Set follow-up","No alert")))))))))))))
L21: =IF($A21="","",IF(OR($B21="",$F21=""),"",IFERROR($F21-$B21,""))) | M21: =IF($A21="","",IF(OR($B21="",$I21=""),"",IFERROR($I21-$B21,""))) | N21: =IF($A21="","",IF($F21<>"","Yes","No")) | O21: =IF($A21="","",IF($H21="Won","Yes","No")) | P21: =IF(COUNTA($A21:$K21)=0,"",IF($A21="","Check lead ID",IF(AND($A21<>"",COUNTIF($A$5:$A$104,$A21)>1),"Check duplicate lead ID",IF($B21="","Check lead date",IF(IFERROR(AND($F21<>"",$F21<$B21),FALSE),"Check estimate date",IF(IFERROR(AND($I21<>"",$I21<$B21),FALSE),"Check decision date",IF(IFERROR(AND($I21<>"",$F21<>"",$I21<$F21),FALSE),"Check decision date",IF(AND($G21<>"",$F21=""),"Check estimate date",IF(AND(OR($H21="Estimate Sent",$H21="Won"),$F21=""),"Check estimate date",IF(AND(OR($H21="Won",$H21="Lost"),$I21=""),"Check decision date",IF(AND($H21="Won",$G21=""),"Check estimate amount",IF(AND(NOT(OR($H21="Won",$H21="Lost")),$K21<>"",$K21<TODAY()),"Follow-up due",IF(IFERROR(AND(NOT(OR($H21="Won",$H21="Lost")),TODAY()-$B21>Assumptions!$B$5,$K21=""),FALSE),"Set follow-up","No alert")))))))))))))
L22: =IF($A22="","",IF(OR($B22="",$F22=""),"",IFERROR($F22-$B22,""))) | M22: =IF($A22="","",IF(OR($B22="",$I22=""),"",IFERROR($I22-$B22,""))) | N22: =IF($A22="","",IF($F22<>"","Yes","No")) | O22: =IF($A22="","",IF($H22="Won","Yes","No")) | P22: =IF(COUNTA($A22:$K22)=0,"",IF($A22="","Check lead ID",IF(AND($A22<>"",COUNTIF($A$5:$A$104,$A22)>1),"Check duplicate lead ID",IF($B22="","Check lead date",IF(IFERROR(AND($F22<>"",$F22<$B22),FALSE),"Check estimate date",IF(IFERROR(AND($I22<>"",$I22<$B22),FALSE),"Check decision date",IF(IFERROR(AND($I22<>"",$F22<>"",$I22<$F22),FALSE),"Check decision date",IF(AND($G22<>"",$F22=""),"Check estimate date",IF(AND(OR($H22="Estimate Sent",$H22="Won"),$F22=""),"Check estimate date",IF(AND(OR($H22="Won",$H22="Lost"),$I22=""),"Check decision date",IF(AND($H22="Won",$G22=""),"Check estimate amount",IF(AND(NOT(OR($H22="Won",$H22="Lost")),$K22<>"",$K22<TODAY()),"Follow-up due",IF(IFERROR(AND(NOT(OR($H22="Won",$H22="Lost")),TODAY()-$B22>Assumptions!$B$5,$K22=""),FALSE),"Set follow-up","No alert")))))))))))))
L23: =IF($A23="","",IF(OR($B23="",$F23=""),"",IFERROR($F23-$B23,""))) | M23: =IF($A23="","",IF(OR($B23="",$I23=""),"",IFERROR($I23-$B23,""))) | N23: =IF($A23="","",IF($F23<>"","Yes","No")) | O23: =IF($A23="","",IF($H23="Won","Yes","No")) | P23: =IF(COUNTA($A23:$K23)=0,"",IF($A23="","Check lead ID",IF(AND($A23<>"",COUNTIF($A$5:$A$104,$A23)>1),"Check duplicate lead ID",IF($B23="","Check lead date",IF(IFERROR(AND($F23<>"",$F23<$B23),FALSE),"Check estimate date",IF(IFERROR(AND($I23<>"",$I23<$B23),FALSE),"Check decision date",IF(IFERROR(AND($I23<>"",$F23<>"",$I23<$F23),FALSE),"Check decision date",IF(AND($G23<>"",$F23=""),"Check estimate date",IF(AND(OR($H23="Estimate Sent",$H23="Won"),$F23=""),"Check estimate date",IF(AND(OR($H23="Won",$H23="Lost"),$I23=""),"Check decision date",IF(AND($H23="Won",$G23=""),"Check estimate amount",IF(AND(NOT(OR($H23="Won",$H23="Lost")),$K23<>"",$K23<TODAY()),"Follow-up due",IF(IFERROR(AND(NOT(OR($H23="Won",$H23="Lost")),TODAY()-$B23>Assumptions!$B$5,$K23=""),FALSE),"Set follow-up","No alert")))))))))))))
L24: =IF($A24="","",IF(OR($B24="",$F24=""),"",IFERROR($F24-$B24,""))) | M24: =IF($A24="","",IF(OR($B24="",$I24=""),"",IFERROR($I24-$B24,""))) | N24: =IF($A24="","",IF($F24<>"","Yes","No")) | O24: =IF($A24="","",IF($H24="Won","Yes","No")) | P24: =IF(COUNTA($A24:$K24)=0,"",IF($A24="","Check lead ID",IF(AND($A24<>"",COUNTIF($A$5:$A$104,$A24)>1),"Check duplicate lead ID",IF($B24="","Check lead date",IF(IFERROR(AND($F24<>"",$F24<$B24),FALSE),"Check estimate date",IF(IFERROR(AND($I24<>"",$I24<$B24),FALSE),"Check decision date",IF(IFERROR(AND($I24<>"",$F24<>"",$I24<$F24),FALSE),"Check decision date",IF(AND($G24<>"",$F24=""),"Check estimate date",IF(AND(OR($H24="Estimate Sent",$H24="Won"),$F24=""),"Check estimate date",IF(AND(OR($H24="Won",$H24="Lost"),$I24=""),"Check decision date",IF(AND($H24="Won",$G24=""),"Check estimate amount",IF(AND(NOT(OR($H24="Won",$H24="Lost")),$K24<>"",$K24<TODAY()),"Follow-up due",IF(IFERROR(AND(NOT(OR($H24="Won",$H24="Lost")),TODAY()-$B24>Assumptions!$B$5,$K24=""),FALSE),"Set follow-up","No alert")))))))))))))
L25: =IF($A25="","",IF(OR($B25="",$F25=""),"",IFERROR($F25-$B25,""))) | M25: =IF($A25="","",IF(OR($B25="",$I25=""),"",IFERROR($I25-$B25,""))) | N25: =IF($A25="","",IF($F25<>"","Yes","No")) | O25: =IF($A25="","",IF($H25="Won","Yes","No")) | P25: =IF(COUNTA($A25:$K25)=0,"",IF($A25="","Check lead ID",IF(AND($A25<>"",COUNTIF($A$5:$A$104,$A25)>1),"Check duplicate lead ID",IF($B25="","Check lead date",IF(IFERROR(AND($F25<>"",$F25<$B25),FALSE),"Check estimate date",IF(IFERROR(AND($I25<>"",$I25<$B25),FALSE),"Check decision date",IF(IFERROR(AND($I25<>"",$F25<>"",$I25<$F25),FALSE),"Check decision date",IF(AND($G25<>"",$F25=""),"Check estimate date",IF(AND(OR($H25="Estimate Sent",$H25="Won"),$F25=""),"Check estimate date",IF(AND(OR($H25="Won",$H25="Lost"),$I25=""),"Check decision date",IF(AND($H25="Won",$G25=""),"Check estimate amount",IF(AND(NOT(OR($H25="Won",$H25="Lost")),$K25<>"",$K25<TODAY()),"Follow-up due",IF(IFERROR(AND(NOT(OR($H25="Won",$H25="Lost")),TODAY()-$B25>Assumptions!$B$5,$K25=""),FALSE),"Set follow-up","No alert")))))))))))))
L26: =IF($A26="","",IF(OR($B26="",$F26=""),"",IFERROR($F26-$B26,""))) | M26: =IF($A26="","",IF(OR($B26="",$I26=""),"",IFERROR($I26-$B26,""))) | N26: =IF($A26="","",IF($F26<>"","Yes","No")) | O26: =IF($A26="","",IF($H26="Won","Yes","No")) | P26: =IF(COUNTA($A26:$K26)=0,"",IF($A26="","Check lead ID",IF(AND($A26<>"",COUNTIF($A$5:$A$104,$A26)>1),"Check duplicate lead ID",IF($B26="","Check lead date",IF(IFERROR(AND($F26<>"",$F26<$B26),FALSE),"Check estimate date",IF(IFERROR(AND($I26<>"",$I26<$B26),FALSE),"Check decision date",IF(IFERROR(AND($I26<>"",$F26<>"",$I26<$F26),FALSE),"Check decision date",IF(AND($G26<>"",$F26=""),"Check estimate date",IF(AND(OR($H26="Estimate Sent",$H26="Won"),$F26=""),"Check estimate date",IF(AND(OR($H26="Won",$H26="Lost"),$I26=""),"Check decision date",IF(AND($H26="Won",$G26=""),"Check estimate amount",IF(AND(NOT(OR($H26="Won",$H26="Lost")),$K26<>"",$K26<TODAY()),"Follow-up due",IF(IFERROR(AND(NOT(OR($H26="Won",$H26="Lost")),TODAY()-$B26>Assumptions!$B$5,$K26=""),FALSE),"Set follow-up","No alert")))))))))))))
... L104: =IF($A104="","",IF(OR($B104="",$F104=""),"",IFERROR($F104-$B104,""))) | M104: =IF($A104="","",IF(OR($B104="",$I104=""),"",IFERROR($I104-$B104,""))) | N104: =IF($A104="","",IF($F104<>"","Yes","No")) | O104: =IF($A104="","",IF($H104="Won","Yes","No")) | P104: =IF(COUNTA($A104:$K104)=0,"",IF($A104="","Check lead ID",IF(AND($A104<>"",COUNTIF($A$5:$A$104,$A104)>1),"Check duplicate lead ID",IF($B104="","Check lead date",IF(IFERROR(AND($F104<>"",$F104<$B104),FALSE),"Check estimate date",IF(IFERROR(AND($I104<>"",$I104<$B104),FALSE),"Check decision date",IF(IFERROR(AND($I104<>"",$F104<>"",$I104<$F104),FALSE),"Check decision date",IF(AND($G104<>"",$F104=""),"Check estimate date",IF(AND(OR($H104="Estimate Sent",$H104="Won"),$F104=""),"Check estimate date",IF(AND(OR($H104="Won",$H104="Lost"),$I104=""),"Check decision date",IF(AND($H104="Won",$G104=""),"Check estimate amount",IF(AND(NOT(OR($H104="Won",$H104="Lost")),$K104<>"",$K104<TODAY()),"Follow-up due",IF(IFERROR(AND(NOT(OR($H104="Won",$H104="Lost")),TODAY()-$B104>Assumptions!$B$5,$K104=""),FALSE),"Set follow-up","No alert")))))))))))))

Sheet Assumptions
A1: Sales Dashboard Assumptions
A2: Yellow cells are editable. Lists support consistent lead entry for Fictional Green Lantern Lawn Care.
A4: Assumption | B4: Value | C4: Use | D4: Lead Sources | E4: Services | F4: Outcome Statuses | G4: Sales Reps
A5: Follow-up review days | B5: 14 | C5: Flags an open lead with no follow-up after this many days. | D5: Website Inquiry | E5: Recurring Lawn Mowing | F5: New | G5: Avery Finch (Fictional)
A6: Maximum estimate amount | B6: 25000 | C6: Sets the highest amount allowed in the Leads sheet. | D6: Phone Call | E6: Seasonal Cleanup | F6: Contacted | G6: Jordan Vale (Fictional)
A7: Reporting start date | B7: 46023 | C7: Sets the first lead date included on Summary. | D7: Referral | E7: Mulch Installation | F7: Estimate Scheduled | G7: Morgan Pine (Fictional)
A8: Reporting end date | B8: 46276 | C8: Sets the last lead date included on Summary. | D8: Yard Sign | E8: Landscape Maintenance | F8: Estimate Sent | G8: Unassigned
D9: Community Event | E9: Aeration and Overseeding | F9: Won
D10: Other | E10: Sod Installation | F10: Lost
F11: No Response
